Workbook
Name Lijst_cat_PAV: '[1]Categorie-indeling AD'!$B$26:$B$33

Sheet Titelblad
B2: Tarievenmodule Enexis Elektriciteit 2027
B13: Over dit bestand
B15: Zaaknummer | C15: ACM/26/201245
B16: Titel | C16: Tarievenmodule Enexis Elektriciteit 2027
B17: Ondertitel
B18: Hoort bij besluit(en): | C18: Tarievenbesluit Enexis Elektriciteit 2027
B19: Hoort bij onderzoek/publicatie ACM:
B20: Kenmerk besluit(en)
B21: Samenhang met andere rekenbestanden | C21: TI-berekening distributiesysteembeheerders elektriciteit 2027
B22: Overig opmerkingen
B25: Over de status van dit bestand
B27: Definitief? (j/n) | C27: Nee
B28: Publicatie? (j/n) | C28: Nee
B29: Juridisch integraal onderdeel van bovenstaande besluit(en) (j/n)? | C29: Definitieve versie is juridisch integraal onderdeel van bovenstaand besluit
B30: Bevat bedrijfsvertrouwelijke gegevens? (j/n) | C30: Nee
B31: Opmerkingen openbare versiegeschiedenis
B32: Overig opmerkingen
B35: Disclaimer
B37: Dit bestand maakt geen onderdeel uit van een besluit door ACM. Dit bestand is om die reden niet op zichzelf appellabel. Mogelijkheden ten aanzien van bezwaar en beroep zijn opgenomen in het besluit.

Sheet Toelichting
B2: Toelichting bij dit bestand
B4: Toelichting bij de werking van dit model
B6: Dit Excel-bestand is bedoeld voor de tarievenvoorstellen voor het jaar 2027 voor de distributiesysteembeheerders elektriciteit.
B7: In dit bestand worden per netbeheerder de rekenvolumes en tarieven gepresenteerd.
B8: Deze berekeningen maken onderdeel uit van de tarievenbesluiten elektriciteit 2027.
B10: Schematische weergave en/of inhoudsopgave van de werking van dit model
B27: Legenda voor gebruik van celkleuren en tabkleuren
B29: Celkleur getallen | D29: Beschrijving
B31: 123 | D31: Data en input (vermeld de bron); bij een dataverzoek: in te vullen velden
B32: =B31 -> 123 | D32: Waarde die zonder berekening wordt overgenomen uit een andere cel
B33: =B32+B31 -> 246 | D33: Berekende waarde
B34: =B32+B33 -> 369 | D34: Berekende waarde die wordt opgehaald op een ander tabblad, incl. eindresultaat van berekening
D35: Cel is niet van toepassing (dus leeg, niet nul), maar er wordt door een formule wel naar verwezen
B37: Bijzonderheden:
B38: =B34+16 -> 385 | D38: Waarde of berekening die speciale aandacht vraagt (zet toelichting in opmerking)
B39: =B32*PI() -> 386.4159 | D39: Ingevoerde waarde of berekening die nog niet juist is (indien van toepassing)
B41: Eventueel te gebruiken:
B42: 123 | D42: Bij een dataverzoek zijn door ACM vóóringevulde velden (bijv. rekenvolume) in een wit veld geplaatst
B43: 124 | D43: Een kader kan worden gebruikt om aan te geven dat een bepaald veld input bevat, maar dit deze input automatisch wordt ingeladen door middel van een macro (dus NIET handmatig in te vullen)
B44: =B42-B43 -> -1 | D44: Grijze cijfers geven de uitkomt van een check berekening; dit is geen resultaat waarmee verder wordt gerekend
B47: Tabkleur
B49: Tabbladen die het model vormen
B50: Resultaat | D50: Tabblad met resultaten/output
B51: Data | D51: Tabblad met input
B52: Berekening | D52: Tabblad met berekeningen
B53: Berekening | D53: Tabblad dat als geheel nog onjuist of niet up to date is
B55: Tabbladen ten behoeve van begrip
B56: Input --> | D56: Leeg tabblad dat wordt gebruikt als index/markering voor een serie tabbladen (kleur: licht grijs)
B57: Toelichting | D57: Gestandaardiseerde tabbladen, omvat tenminste: 'Titelblad', 'Toelichting' en 'Bronnen en functies' (kleur: ACM-lichtpaars)

Sheet Bronnen en toepassingen
B2: Bronnenoverzicht en specifieke toepassingen
B4: Bronnenoverzicht
B6: In onderstaand overzicht houdt ACM bij welke bronnen gebruikt zijn voor de data en berekeningen in dit bestand.
B7: Ieder inputblad heeft een kolom 'bronverwijzing', waarin gebruikte bronnen met een verkorte naam worden aangeduid. Deze bronnen worden verder toegelicht in deze tabel.
B9: Nr. | C9: Verkorte naam | D9: Naam bestand extern | E9: Aanvullende gegevens bestand extern
C10: Zoals gebruikt in dit bestand | D10: Exacte bestandsnaam | E10: Datum ontvangst, versie nr., opmerkingen
B11: 1 | C11: Tarievenblad Enexis E 2026
B12: 2 | C12: Infoverzoek IB Enexis E 2027-2031
B13: 3 | C13: TI-berekening DSB-E 2027 | D13: Berekening totale inkomsten distributiesysteembeheerders elektriciteit 2027

Sheet Input -->

Sheet Contactgegevens
B2: Contactgegevens
B13: Contactgegevens
B15: Invuldatum | C15: 28-09-2026
B17: Code bedrijf
B18: Naam bedrijf | C18: Enexis Netbeheer BV
B19: Adres | C19: Magistratenlaan 116
B20: Postcode | C20: postbus 856
B21: Plaats | C21: 5201AW 's-Hertogenbosch
B22: Contactpersoon
B23: Telefoonnummer
B24: E-mailadres
B27: Contactgegevens ACM
B29: Contactpersoon | C29: Telefoonnummer
B32: ACM
B33: Postbus 16326
B34: 2500 BH Den Haag
B35: Telefoonnummer: 070 - 72 22 000
B36: E-mailadres: codatahelpdesk@acm.nl
B39: Disclaimer
B41: Dit bestand is een concept. Aan dit bestand kunnen geen rechten worden ontleend
B42: Dit conceptbestand maakt geen onderdeel uit van een besluit door ACM. Dit bestand is om die reden niet op zichzelf appellabel. Mogelijkheden ten aanzien van bezwaar en beroep zijn opgenomen in het besluit.

Sheet Tarievenvoorstel
B2: Tarievenvoorstel 2027
B4: Beschrijving gegevens
B5: Op dit blad wordt door de distributiesysteembeheerder een voorstel gedaan voor de transport-, aansluit- en meettarieven 2027.
B9: Beoordeling
B10: Beoordeling rekenvolume | D10: ='Controles ACM'!I38 -> REKENVOLUME VOLDOET
B11: Beoordeling omzet | D11: ='Controles ACM'!I30 -> TARIEVENVOORSTEL VOLDOET
B12: Resterende tariefruimte | D12: ='Controles ACM'!I28 -> 1390.2442
B15: Rekenvolumes 2027 en tarieven | G15: Eenheid | I15: Indeling technische codes | K15: Rekenvolume | M15: Eenheid | O15: Tarief | Q15: Verwachte mutatie
B18: Rekenvolumes 2027 en tarieven
B20: A. NETVLAKKEN HS en TS
B22: Afnemers HS (110-150 kV)
B23: Vastrecht transportdienst | G23: # | K23: 0 | M23: EUR/jaar | Q23: ='Controles ACM'!$I$50 -> 0
B24: kW gecontracteerd per jaar | G24: # | K24: 0 | M24: EUR/kW/jaar | Q24: ='Controles ACM'!$I$51 -> 0.20437392
B25: kW max per maand | G25: # | K25: 0 | M25: EUR/kW/maand | Q25: ='Controles ACM'!$I$51 -> 0.20437392
B27: Afnemers HS (110-150 kV) maximaal 600 uur per jaar
B28: Vastrecht transportdienst | G28: # | K28: 0 | M28: EUR/jaar | Q28: ='Controles ACM'!$I$50 -> 0
B29: kW gecontracteerd per jaar | G29: # | K29: 0 | M29: EUR/kW/jaar | Q29: ='Controles ACM'!$I$51 -> 0.20437392
B30: kW max per week | G30: # | K30: 0 | M30: EUR/kW/week | Q30: ='Controles ACM'!$I$51 -> 0.20437392
B32: Afnemers TS (25-50 kV)
B33: Vastrecht transportdienst | G33: # | K33: 7.6771438 | M33: EUR/jaar | O33: 2760 | Q33: ='Controles ACM'!$I$50 -> 0
B34: kW gecontracteerd per jaar | G34: # | K34: 177000 | M34: EUR/kW/jaar | O34: 40.75 | Q34: ='Controles ACM'!$I$51 -> 0.20437392
B35: kW max per maand | G35: # | K35: 1700000 | M35: EUR/kW/maand | O35: 4.24 | Q35: ='Controles ACM'!$I$51 -> 0.20437392
B37: Afnemers TS (25-50 kV) maximaal 600 uur per jaar
B38: Vastrecht transportdienst | G38: # | K38: 0.32326919 | M38: EUR/jaar | O38: 2760 | Q38: ='Controles ACM'!$I$50 -> 0
B39: kW gecontracteerd per jaar | G39: # | K39: 63000 | M39: EUR/kW/jaar | O39: 20.38 | Q39: ='Controles ACM'!$I$51 -> 0.20437392
B40: kW max per week | G40: # | K40: 445000 | M40: EUR/kW/week | O40: 1.47 | Q40: ='Controles ACM'!$I$51 -> 0.20437392
B42: Afnemers Trafo HS+TS/MS
B43: Vastrecht transportdienst | G43: # | K43: 231.42297 | M43: EUR/jaar | O43: 2760 | Q43: ='Controles ACM'!$I$50 -> 0
B44: kW gecontracteerd per jaar | G44: # | K44: 2400000 | M44: EUR/kW/jaar | O44: 42.68 | Q44: ='Controles ACM'!$I$51 -> 0.20437392
B45: kW max per maand | G45: # | K45: 14500000 | M45: EUR/kW/maand | O45: 7.06 | Q45: ='Controles ACM'!$I$51 -> 0.20437392
B47: Afnemers Trafo HS+TS/MS maximaal 600 uur per jaar
B48: Vastrecht transportdienst | G48: # | K48: 30.54776 | M48: EUR/jaar | O48: 2760 | Q48: ='Controles ACM'!$I$50 -> 0
B49: kW gecontracteerd per jaar | G49: # | K49: 160000 | M49: EUR/kW/jaar | O49: 21.34 | Q49: ='Controles ACM'!$I$51 -> 0.20437392
B50: kW max per week | G50: # | K50: 815000 | M50: EUR/kW/week | O50: 2.44 | Q50: ='Controles ACM'!$I$51 -> 0.20437392
B53: B. NETVLAKKEN MS
B55: Afnemers MS (1-20 kV) - Transport
B56: Vastrecht transportdienst | G56: # | K56: 434.22136 | M56: EUR/jaar | O56: 441 | Q56: ='Controles ACM'!$I$50 -> 0
B57: kW gecontracteerd | G57: # | K57: 1400000 | M57: EUR/kW/jaar | O57: 25.6 | Q57: ='Controles ACM'!$I$51 -> 0.20437392
B58: kW max per maand | G58: # | K58: 9400000 | M58: EUR/kW/maand | O58: 3.81 | Q58: ='Controles ACM'!$I$51 -> 0.20437392
B59: kWh tarief normaal | G59: # | K59: 3389000000 | M59: EUR/kWh | O59: 0.0212 | Q59: ='Controles ACM'!$I$51 -> 0.20437392
...

Sheet Deelmarktgrenzen transport
B2: Deelmarktgrenzen transporttarieven
B4: Beschrijving
B5: Op dit tabblad wordt de indeling van afnemers in tariefcategorieën binnen de transportdienst weergegeven.
B6: Afnemers worden binnen de transportdienst ingedeeld in tariefcategorieën op basis van hun gecontracteerd transportvermogen en fysieke aansluitwijze.
B8: Omschrijving
B11: Indeling tariefcategorieën transportdienst | I11: Opmerkingen
B13: Tariefcategorie | G13: Deelmarktgrenzen
B14: Afnemers HS (110-150 kV) | G14: ingaande 2009 n.v.t.
B15: Afnemers HS (110-150 kV) maximaal 600 uur p/jr | G15: ingaande 2009 n.v.t.
B16: Afnemers TS (25-50 kV) | G16: > 1500 kW en fysieke aansluitwijze conform ts
B17: Afnemers TS (25-50 kV) maximaal 600 uur p/jr | G17: > 1500 kW en fysieke aansluitwijze conform ts
B18: Afnemers Trafo HS+TS/MS | G18: > 1500 kW en fysieke aansluitwijze conform hs/ms
B19: Afnemers Trafo HS+TS/MS maximaal 600 uur p/jr | G19: > 1500 kW en fysieke aansluitwijze conform hs/ms
B21: Afnemers MS (1-20 kV) MS-Transport | G21: > 1500 kW en fysieke aansluitwijze conform ms transport
B22: Afnemers MS (1-20 kV) MS en MS-Distributie | G22: > 125 kW t/m 1500 kW of > 1500 kW en fysieke aansluitwijze conform ms distributie
B23: Afnemers Trafo MS/LS | G23: > 50 kW t/m 125 kW
B25: Afnemers LS | G25: > 1 kW t/m 50 kW

Sheet Elementen EAV tarieven
B2: Elementen EAV tarieven
B4: Beschrijving
B5: Op dit tabblad wordt per aansluitcategorie het EAV tarief gesplitst in de drie wettelijke elementen van de aansluiting. Ook wordtper categorie het spanningsniveau waarop de netbeheerder een nieuwe aansluiting realiseert weergegeven.
B7: In artikel 2.3.3c. van de Tarievencode elektriciteit staan de standaard aansluitcategorieen op basis van aansluitcapaciteit weergegeven, alsmede het - per aansluitcategorie - corresponderende spanningsniveau waarop een nieuwe aansluiting wordt gerealiseerd. De netbeheerder kan voor de indeling in aansluitcategorieen afwijkende aansluitcapaciteitsgrenzen hanteren. Afwijkende grenzen dienen schriftelijk bij de ACM te worden gemeld. Voorgenoemde melding is tevens een melding conform artikel 2:25, vierde lid, Netcode elektriciteit. Op dit tabblad wordt de indeling van de aansluitcategorieen op basis van de (afwijkende) aansluitcapaciteitsgrenzen en het corresponderende spanningsniveau van Enexis voor 2027 weergegeven.
B9: Omschrijving | C9: Tarief 2027 (EUR) | D9: Knip | E9: Beveiliging | F9: Verbinding | G9: Controle | I9: Spanningsniveau
B12: Eénmalige aansluitvergoeding t/m 25 meter
B14: Eénmalige aansluitvergoeding t/m 25 meter
B15: =Tarievenvoorstel!B149 -> EAV t/m 1*6A (per aansluiting) | C15: =Tarievenvoorstel!O149 -> 834 | D15: 238.2626 | E15: 110.7374 | F15: 485 | G15: =C15-D15-E15-F15 -> 0
B16: =Tarievenvoorstel!B152 -> t/m 1*40A | C16: =Tarievenvoorstel!O152 -> 1586 | D16: 418.80522 | E16: 376.99478 | F16: 790.2 | G16: =C16-D16-E16-F16 -> 0
B17: =Tarievenvoorstel!B153 -> > 1*40A t/m 3*25A | C17: =Tarievenvoorstel!O153 -> 1586 | D17: 418.80522 | E17: 376.99478 | F17: 790.2 | G17: =C17-D17-E17-F17 -> 0
B18: =Tarievenvoorstel!B154 -> >3*25A en t/m 3*40A | C18: =Tarievenvoorstel!O154 -> 1959 | D18: 628.9491 | E18: 539.8509 | F18: 790.2 | G18: =C18-D18-E18-F18 -> 0
B19: =Tarievenvoorstel!B155 -> >3*40A en t/m 3*50A | C19: =Tarievenvoorstel!O155 -> 1959 | D19: 628.9491 | E19: 539.8509 | F19: 790.2 | G19: =C19-D19-E19-F19 -> 0
B20: =Tarievenvoorstel!B156 -> >3*50A en t/m 3*63A | C20: =Tarievenvoorstel!O156 -> 2345 | D20: 602.04905 | E20: 725.95095 | F20: 1017 | G20: =C20-D20-E20-F20 -> 0
B21: =Tarievenvoorstel!B157 -> >3*63A en t/m 3*80A | C21: =Tarievenvoorstel!O157 -> 2345 | D21: 602.04905 | E21: 725.95095 | F21: 1017 | G21: =C21-D21-E21-F21 -> 0
B22: =Tarievenvoorstel!B158 -> 0 | C22: =Tarievenvoorstel!O158 -> 0 | G22: =C22-D22-E22-F22 -> 0
B23: =Tarievenvoorstel!B161 -> >3*80A en t/m 3*160A | C23: =Tarievenvoorstel!O161 -> 6817 | D23: 2111 | E23: 2111 | F23: 2595 | G23: =C23-D23-E23-F23 -> 0
B24: =Tarievenvoorstel!B162 -> >3*160A t/m 3*250A | C24: =Tarievenvoorstel!O162 -> 9008 | D24: 3206.5 | E24: 3206.5 | F24: 2595 | G24: =C24-D24-E24-F24 -> 0
B25: =Tarievenvoorstel!B163 -> >3*250A (173 kVA) t/m 630 kVA | C25: =Tarievenvoorstel!O163 -> 28903 | D25: 2500 | E25: 22205.5 | F25: 4197.5 | G25: =C25-D25-E25-F25 -> 0
B26: =Tarievenvoorstel!B164 -> > 630 kVA t/m 1750 kVA | C26: =Tarievenvoorstel!O164 -> 64530 | D26: 2500 | E26: 57832.5 | F26: 4197.5 | G26: =C26-D26-E26-F26 -> 0
B27: =Tarievenvoorstel!B165 -> > 1750 kVA t/m 6 MVA | C27: =Tarievenvoorstel!O165 -> 464304 | D27: 217849.93 | E27: 236614.07 | F27: 9840 | G27: =C27-D27-E27-F27 -> 0
B28: =Tarievenvoorstel!B166 -> >6,0 MVA en t/m 10 MVA | C28: =Tarievenvoorstel!O166 -> 638000 | D28: 418294.71 | E28: 208967.79 | F28: 10737.5 | G28: =C28-D28-E28-F28 -> -5.6388672e-11
B29: =Tarievenvoorstel!B167 -> 0 | C29: =Tarievenvoorstel!O167 -> 0 | G29: =C29-D29-E29-F29 -> 0
B30: =Tarievenvoorstel!B168 -> 0 | C30: =Tarievenvoorstel!O168 -> 0 | G30: =C30-D30-E30-F30 -> 0
B31: =Tarievenvoorstel!B169 -> 0 | C31: =Tarievenvoorstel!O169 -> 0 | G31: =C31-D31-E31-F31 -> 0
B32: =Tarievenvoorstel!B170 -> 0 | C32: =Tarievenvoorstel!O170 -> 0 | G32: =C32-D32-E32-F32 -> 0
B33: =Tarievenvoorstel!B171 -> 0 | C33: =Tarievenvoorstel!O171 -> 0 | G33: =C33-D33-E33-F33 -> 0
B34: =Tarievenvoorstel!B172 -> 0 | C34: =Tarievenvoorstel!O172 -> 0 | G34: =C34-D34-E34-F34 -> 0
B35: =Tarievenvoorstel!B173 -> 0 | C35: =Tarievenvoorstel!O173 -> 0 | G35: =C35-D35-E35-F35 -> 0
B36: =Tarievenvoorstel!B174 -> 0 | C36: =Tarievenvoorstel!O174 -> 0 | G36: =C36-D36-E36-F36 -> 0
B37: =Tarievenvoorstel!B175 -> 0 | C37: =Tarievenvoorstel!O175 -> 0 | G37: =C37-D37-E37-F37 -> 0
B38: =Tarievenvoorstel!B176 -> 0 | C38: =Tarievenvoorstel!O176 -> 0 | G38: =C38-D38-E38-F38 -> 0

Sheet Berekeningen -->

Sheet Controles ACM
B2: Tarievenvoorstel 2027
B4: Beschrijving gegevens
B5: Dit blad dient ter controle van het tarievenvoorstel. Op dit blad wordt gecontroleerd of het tarievenvoorstel aan de maximale totale inkomsten voldoet en of het rekenvolume niet gewijzigd is. Daarnaast wordt de verwachte tariefmutatie berekend.
B7: Controle Totale Inkomsten en rekenvolume in Tarievenvoorstel | G7: Eenheid | I7: Constante | K7: Categorie | M7: Bronverwijzing | Q7: Opmerkingen
B10: Controle Toegestane Totale Inkomsten
B12: Totale Inkomsten 2027 inclusief correcties | G12: EUR, pp 2027 | I12: 2.9549717e+09 | M12: TI-berekening DSB-E 2027, tabblad 'TI-berekening 2027', cel M17
B14: Omzet 2027 voor de transportdienst: Netvlakken HS en TS | G14: EUR, pp 2027 | I14: =SUMPRODUCT(Tarievenvoorstel!K23:K50,Tarievenvoorstel!O23:O50) -> 2.2730896e+08
B15: Omzet 2027 voor de transportdienst: Netvlakken MS | G15: EUR, pp 2027 | I15: =SUMPRODUCT(Tarievenvoorstel!K56:K77,Tarievenvoorstel!O56:O77) -> 9.3015259e+08
B16: Omzet 2027 voor de transportdienst: Netvlakken LS | G16: EUR, pp 2027 | I16: =SUMPRODUCT(Tarievenvoorstel!K83:K99,Tarievenvoorstel!O83:O99) -> 1518430665
B17: Omzet 2027 voor de transportdienst: Blindvermogen | G17: EUR, pp 2027 | I17: =SUMPRODUCT(Tarievenvoorstel!K106:K107,Tarievenvoorstel!O106:O107) -> 3635520
B18: Omzet transportdienst | G18: EUR, pp 2027 | I18: =SUM(I14:I17) -> 2.6795277e+09
B20: Omzet 2027 voor de periodieke aansluitdienst | G20: EUR, pp 2027 | I20: =SUMPRODUCT(Tarievenvoorstel!K113:K145,Tarievenvoorstel!O113:O145) -> 2.0224653e+08
B21: Omzet aansluitdienst | G21: EUR, pp 2027 | I21: =I20 -> 2.0224653e+08
B23: Omzet 2027 voor de meetdienst | G23: EUR, pp 2027 | I23: =Tarievenvoorstel!K201 * Tarievenvoorstel!O201 -> 73196000
B24: Omzet meetdienst | G24: EUR, pp 2027 | I24: =I23 -> 73196000
B26: Omzet tarievenvoorstel 2027 | G26: EUR, pp 2027 | I26: =SUM(I14:I17,I20,I23) -> 2.9549703e+09
B28: Resterende tariefruimte | G28: EUR, pp 2027 | I28: =I12-I26 -> 1390.2442
B30: Beoordeling omzet | I30: =IF(I26>I12, "TARIEVENVOORSTEL VOLDOET NIET", "TARIEVENVOORSTEL VOLDOET") -> TARIEVENVOORSTEL VOLDOET
B32: Controle Rekenvolume
B34: Totaal Rekenvolume | G34: # | I34: 1.4268543e+10 | M34: Infoverzoek IB Enexis E 2027-2031
B36: Totaal Rekenvolume aangepast | G36: # | I36: =SUM(Tarievenvoorstel!K23:K107,Tarievenvoorstel!K113:K145,Tarievenvoorstel!K149:K197,Tarievenvoorstel!K201) -> 1.4268543e+10
B38: Beoordeling | I38: =IF(I36>I34, "REKENVOLUME VOLDOET NIET", "REKENVOLUME VOLDOET") -> REKENVOLUME VOLDOET
B40: Verwachte tariefmutatie Transportdienst
B42: TI transportdienst 2026 (inclusief correcties) | G42: EUR, pp 2026 | I42: 2.2362426e+09 | M42: Tarievenblad Enexis E 2026, somproduct tarieven 2026 en rekenvolumes 2027
B43: Vastrecht | G43: EUR, pp 2026 | I43: 67207212 | M43: Tarievenblad Enexis E 2026, somproduct tarieven 2026 en rekenvolumes 2027
B44: TI transportdienst 2026 zonder vastrecht (inclusief correcties) | G44: EUR, pp 2026 | I44: =I42-I43 -> 2169035350
B46: TI transportdienst 2027 (inclusief correcties) | G46: EUR, pp 2027 | I46: 2.6795368e+09 | M46: Voorstel Enexis
B47: Vastrecht | G47: EUR, pp 2027 | I47: =I43 -> 67207212
B48: TI transportdienst 2027 zonder vastrecht (inclusief correcties) | G48: EUR, pp 2027 | I48: =I46-I47 -> 2.6123296e+09
B50: Verwachte mutatie vastrechttarieven | I50: 0 | K50: Categorie A
B51: Verwachte mutatie niet-vastrechttarieven | G51: % | I51: =((I48/ I44) - 1)*100% -> 0.20437392 | K51: Categorie B
B53: Verwachte tariefmutatie Aansluitdienst
B55: TI aansluitdienst 2026 (inclusief correcties) | G55: EUR, pp 2026 | I55: 1.9146842e+08 | M55: Tarievenblad Enexis E 2026, somproduct tarieven 2026 en rekenvolumes 2027 | Q55: Berekening alleen gebaseerd op PAV
B57: TI aansluitdienst 2027 (inclusief correcties) | G57: EUR, pp 2027 | I57: 2.0222634e+08 | M57: Voorstel Enexis | Q57: Berekening alleen gebaseerd op PAV
B59: Verwachte mutatie tarieven | G59: % | I59: =((I57/ I55) - 1)*100% -> 0.056186362 | Q59: ACM hanteert deze verwachte tariefmutatie voor zowel PAV als EAV
B61: Richtbedrag meetdienst
B63: TI meetdienst 2027 (inclusief correcties) | G63: EUR, pp 2027 | I63: 73208500 | M63: TI-berekening DSB-E 2027, tabblad 'TI-berekening', cel M15

Sheet Overig -->

Sheet Toelichting bij tarieven
B2: Toelichting
B6: Totale inkomsten
B16: Transporttarieven
B26: Aansluittarieven
B27: Enexis wijkt af van de in bijlage 1 en 2 bij artikel 2.8, eerste lid, van de Tarievencode genoemde standaard aansluitcategorieën.
B28: Deze informatie is een melding op grond van artikel 2.8, derde lid, van Tarievencode elektriciteit en artikel 2.18, vierde lid, van de Systeemcode.
B30: TS staat niet in het EAV overzicht omdat TS bij Enexis een klein (separaat) net is minder dan 10 klanten
B31: waarvan de klanten > 10 MVA aangesloten zijn.
B32: en als er een nieuwe klant zou komen dan zal deze altijd > 10 MVA zijn dus buiten de gereguleerde aansluittarieven vallen (maatwerk).
B33: Het spanningsniveau van TS is >25 kV tm 50 kV.
B36: Meettarieven
B46: Deelmarktgrenzen Transport
... B76: Overige Opmerkingen

Sheet Richtlijn controle tarieven
B2: Richtlijn controle tarieven
C4: Onderwerp | D4: Ja/Nee | F4: Toelichting
C6: Algemeen
B7: 1 | C7: Is het bedrag "Totale Inkomsten 2027 inclusief correcties" in het tabblad 'Controles ACM' ongewijzigd? Zo nee, waarom niet? | D7: ja
B8: 2 | C8: Zijn de rekenvolumes per tariefdrager gelijk aan de door ACM ingevulde rekenvolumes? | D8: ja
B9: 3 | C9: Zijn in het tarievenvoorstel alle decimalen van alle tarieven zichtbaar? | D9: ja
B10: 4 | C10: Voldoen de voorgestelde tarieven aan het maximum van het aantal decimalen? Voor EAV-tarieven worden maximaal twee decimalen gehanteerd, voor de overige tarieven worden maximaal vier decimalen gehanteerd. | D10: ja
C12: Transportdienst
B13: 5 | C13: Wijken de afzonderlijke transportdiensttarieven meer af dan 4 procentpunt t.o.v. het tarief van vorig jaar inclusief de verwachte tariefmutaties? | D13: ja | F13: Reden is de inzet van nieuwe volumes voor 2027 en de daardoor noodzakelijke omzetnorm verhouding conform de tarievencode. In een separaat bestand zal aangetoond worden dat voldaan is aan de invulinstructie op dit punt en dat de stijging van de omzet per deelmarkt (NA norm correctie) wel voldoet aan de bandbreedte en dat de norm correctie geschiedt bij gelijkblijvende omzet per deelmarkt.
B14: 6 | C14: Is er een tarievenvoorstel voor blindenergie (artikel 3.17 van de TarievenCode Elektriciteit)? Zo nee, waarom niet? | D14: ja
B15: 7 | C15: Zijn de tarievenvoorstellen voor 600-uurs tarieven volgens artikel 3.9, tweede lid van de TarievenCode Elektriciteit? | D15: ja
C16: - is het tarief voor kWgecontracteerd van de 600-uurs tarieven 0,5 maal het tarief voor kWgecontracteerd van de "normale" tariefcategorie?
C17: - is het tarief voor kWmax per week van de 600-uurs tarieven 18/52 maal het tarief voor kWmax per maand van de "normale" tariefcategorie?
C18: - is het vastrechttarief van de 600-uurs tarieven gelijk aan het vastrechttarief van de "normale" tariefcategorie?
B19: 8 | C19: Zijn de tarievenvoorstellen in de tariefcategorieën Afnemers HS, TS en Trafo HS+TS/MS volgens artikel 3.9, eerste lid, onder b, van de Tarievencode Elektriciteit? | D19: ja
C20: - Dekt de kWgeconcentreerd 50% van de kosten die, met toepassing van de verdeelsleutels voor de kostentoerekening volgens het cascade-beginsel, worden toegerekend aan de in die tariefcategorieën bovengenoemde netvlakken?
C21: - Dekt de kWmax 50% van de kosten die, met toepassing van de verdeelsleutels voor de kostentoerekening volgens het cascade-beginsel, worden toegerekend aan de in de tariefcategorieën bovengenoemde netvlakken?
B22: 9 | C22: Zijn de tarievenvoorstellen in de tariefcategorie Afnemers MS volgens artikel 3.10, eerste lid van de Tarievencode Elektriciteit? | D22: ja
C23: - Dekt de kWgeconcentreerd 25% van de kosten die, met toepassing van de verdeelsleutels voor de kostentoerekening volgens het cascade-beginsel, worden toegerekend aan de in die categorie bovengenoemde netvlak?
C24: - Dekt de kWmax per maand 25% van de kosten die, met toepassing van de verdeelsleutels voor de kostentoerekening volgens het cascade-beginsel, worden toegerekend aan de in de tariefcategorie bovengenoemde netvlak?
C25: - Dekt de kWh 50% van de kosten die, met toepassing van de verdeelsleutels voor de kostentoerekening volgens het cascade-beginsel, worden toegerekend aan de in de tariefcategorie bovengenoemde netvlak?
B26: 10 | C26: Zijn de tarievenvoorstellen in de tariefcategorieën Afnemers LS en LS geschakeld volgens artikel 3.11, eerste lid van de Tarievencode Elektriciteit? | D26: ja
C27: - Dekt de kWgeconcentreerd 16% van de kosten die, met toepassing van de verdeelsleutels voor de kostentoerekening volgens het cascade-beginsel, worden toegerekend aan de in die categorie genoemde netvlak voor verbruikers met een aansluiting met een doorlaatwaarde groter dan 3x80A?
C28: - Dekt de kWh voor laaguren en een kWh voor nomaaluren 84% van de kosten die, met toepassing van de verdeelsleutels voor de kostentoerekening volgens het cascade-beginsel, worden toegerekend aan de in de tariefcategorie genoemde netvlak, voor verbruikers met een aansluiting met een doorlaatwaarde groter dan 3x80A?
C29: - Dekt de rekencapaciteit (kW), gebaseerd op de doorlaatwaarde van de aansluiting, 100% van de kosten die, met toepassing van de verdeelsleutels voor de kostentoerekening volgens het cascade-beginsel, worden toegerekend aan de in de tariefcategorie genoemde netvlak, voor verbruikers met een aansluiting met een doorlaatwaarde kleiner dan 3x80A?
B30: 11 | C30: Zijn de tarievenvoorstellen in de tariefcategorie Afnemers Trafo MS/LS volgens artikel 3.10, tweede lid van de Tarievencode Elektriciteit? | D30: ja
C31: - is het tarief voor kWmax per maand gelijk aan het gelijknamige tarief in tariefcategorie Afnemers MS (1-20 kV)*?
C32: - is het tarief voor kWh normaal gelijk aan het gelijknamige tarief in de tariefcategorie Afnemers MS (1-20 kV)*?
C33: *Indien een netbeheerder onderscheid maakt naar de tariefcategorieën Afnemers MS (1-20 kV) - DISTRIBUTIE en Afnemers MS (1-20 kV) – TRANSPORT kan een weging op basis van de rekenvolumes plaatsvinden.
B34: 12 | C34: Is het werkblad "Deelmarktgrenzen Transport" juist ingevuld en is dit toegelicht in het werkblad Toelichting? Let op: ook hier dient geen overlap in de grenzen te zijn (artikel 3.8 van de Tarievencode Elektriciteit). | D34: ja
B35: 13 | C35: Zijn de vastrechttarieven uniform? Ofwel, zijn de vastrechttarieven op nul decimalen afgerond gelijk aan die van de overige netbeheerders of aan de vastrechttarieven 2013 (artikel 3.16 van de TarievenCode Elektriciteit)? | D35: ja
C37: Aansluitdienst
B38: 14 | C38: Wijken de afzonderlijke aansluitdiensttarieven meer af dan 4 procentpunt t.o.v. het tarief van vorig jaar inclusief de verwachte tariefmutaties? | D38: nee
B39: 15 | C39: Is er een tarievenvoorstel voor alle aansluitcategorieën (zie onder) tot 10 MVA volgens paragraaf 2.3 van de TarievenCode Elektriciteit? | D39: ja
C40: - een standaard éénmalige aansluitvergoeding tot en met 25 meter;
C41: - een standaard éénmalige aansluitvergoeding per meter > 25 meter;
C42: - een standaard periodieke aansluitvergoeding tot en met 25 meter; en/of
C43: - een standaard periodieke aansluitvergoeding voor elke meter > 25 meter in geval van aansluitingen tussen de 3 en 10 MVA
C44: Indien dit niet het geval is, kunt u aangeven waarom er geen tarievenvoorstel is voor bepaalde categorieën?
C45: Als verklaring zou bijvoorbeeld kunnen gelden dat de betreffende categorie in het gebied waar u netbeheerder bent, niet voorkomt en komend jaar ook niet zal voorkomen.
...
