Workbook

Sheet 1. Titelblad
B2: Tabblad 1 - Titelblad
B13: Over dit bestand
B15: Zaaknummer | C15: ACM/26/201015
B16: Titel | C16: Invulmodule Tarievenvoorstel TenneT op Land 2027
B17: Ondertitel | C17: Invulmodule systeembeheerder van het landelijke transmissiesysteem 2027
B18: Hoort bij besluit(en): | C18: Tarievenbesluit TenneT op Land 2027
B19: Hoort bij onderzoek/publicatie ACM: | C19: N.v.t.
B20: Kenmerk besluit(en) | C20: N.t.b.
B21: Samenhang met andere rekenbestanden | C21: - Rekenmodule projectprocedure investeringen TenneT op Land 2027 - Invulmodule tarievenvoorstel TenneT op Zee 2027
B22: Overig opmerkingen | C22: N.v.t.
B25: Over de status van dit bestand
B27: Definitief? (ja/nee) | C27: Ja
B28: Indien definitief, wordt bestand openbaar en/of gepubliceerd? (ja/nee) | C28: Ja
B29: Indien publicatie, datum van dit bestand: | C29: 46302
B30: Juridisch integraal onderdeel van bovenstaande besluit(en) (ja/nee)? | C30: Ja
B31: Indien publicatie, bevat bedrijfsvertrouwelijke gegevens? (ja/nee) | C31: Nee
B32: Overig opmerkingen | C32: N.v.t.
B34: Mogelijkheden van bezwaar en beroep staan open tegen het besluit waarbij dit bestand hoort (zie kenmerken hierboven).
B36: Contactgegevens ACM
B38: Postbus 16326
B39: 2500 BH DEN HAAG
B40: e-mail : info@acm.nl
B42: Disclaimer
B44: Dit bestand is bedoeld ter verduidelijking van de berekeningen door ACM. Aan dit bestand kunnen geen rechten worden ontleend.

Sheet 2. Toelichting
B2: Tabblad 2 - Toelichting bij dit bestand
B5: Toelichting bij de werking van dit model
B7: Deze rekenmodule wordt gebruikt bij het vaststellen van het Tarievenbesluit TenneT op Land 2027.
B8: Deze rekenmodule bevat alle gegevens die nodig zijn om de tarieven voor het transmissiesysteem voor elektriciteit op land te berekenen voor het jaar 2027
B10: Schematische weergave en/of inhoudsopgave van de werking van dit model
B12: Toelichting samenhang tabbladen:
D14: Inputs | H14: Hulpberekeningen | L14: Berekeningen | P14: Resultaten
D17: 9. Parameters | L17: [berekeningstabbladen]
H21: 16. Berekening parameters
D34: 10. Brondata | L34: 18. Correcties OA&M en IKTNN
L38: 20. Correctie bijschatten
L42: 21. Correctie afloopinv. WUI
L46: 22. Correctie WACC
D50: 6. Correcties en prognoses | L50: 25. Overige correcties
D54: 13. Input desinvesteringen | L54: 19. Correctie desinvesteringen
D58: 14. Reallisaties IKE&V | L58: 17. Correctie IKE&V
D62: 8. Input voorschot IKE&V | L62: 21. Voorschot IKE&V
Q64: 7. Spreiding nacalculaties 2025
D66: 12. Input inv. <= 10 jaar | L66: 23. Correctie inv. <= 10 jaar
D70: 15. Realisaties IKTNN | L70: 22. Prognoses IKTNN
D74: 11. Tarieven, RV en omzet | L74: 24. Omzetcorrectie
Q78: 4. Totale inkomsten 2027
D82: 10. Voorstel tarieven en RV | L82: 26. Controle tarieven
Q85: 5. Tarieven en RV 2027
B90: Legenda voor gebruik van celkleuren en tabkleuren
B92: Celkleur getallen | D92: Beschrijving
B94: 123 | D94: Data en input (bron wordt vermeld)
B95: =B94 -> 123 | D95: Waarde die zonder berekening wordt overgenomen uit een andere cel
B96: =B95+B94 -> 246 | D96: Berekende waarde
B97: =B95+B96 -> 369 | D97: Berekende waarde die wordt opgehaald op een ander tabblad, incl. (eind)resultaat van berekening
B98: 123 | D98: Waarde die uit de ACM-database wordt ingelezen in de cel.
D99: Cel is niet van toepassing (dus leeg, niet nul), maar er wordt door een formule wel naar verwezen
B101: Bijzonderheden:
B102: =B97+16 -> 385 | D102: Waarde of berekening die speciale aandacht vraagt (zie toelichting in notitie)
B103: =B95*PI() -> 386.4159 | D103: Ingevoerde waarde of berekening die nog niet juist is (indien van toepassing)
B105: Eventueel te gebruiken:
B106: 123 | D106: Deze kleur wordt uitsluitend gebruikt bij een informatieverzoek: cellen die door de ontvanger van het dataverzoek moeten worden ingevuld
B107: 124 | D107: Een kader kan worden gebruikt om aan te geven dat een bepaald veld input bevat, maar deze input automatisch wordt ingeladen, bijvoorbeeld door middel van een macro (dus niet handmatig in te vullen)
B108: =B106-B107 -> -1 | D108: Grijze cijfers geven de uitkomt van een check berekening; dit is geen resultaat waarmee verder wordt gerekend
B110: Tabkleur
...

Sheet 3. Bronnen en toepassingen
B2: Tabblad 3 - Bronnenoverzicht en specifieke toepassingen
B5: Bronnenoverzicht
B7: In onderstaand overzicht houdt ACM bij welke bronnen gebruikt zijn voor de data en berekeningen in dit bestand.
B8: Ieder inputblad heeft een kolom 'bronverwijzing', waarin gebruikte bronnen met een verkorte naam worden aangeduid. Deze bronnen worden verder toegelicht in deze tabel.
B10: Nr. | C10: Verkorte naam | D10: Naam bestand | E10: Zaaknummer en/of kenmerk ACM | F10: Aanvullende gegevens bestand | G10: Overige opmerkingen
C11: Zoals gebruikt in dit bestand | D11: Exacte bestandsnaam | E11: Indien van toepassing | F11: Datum/wijze ontvangst, versie nr., URL, etc.
B12: 1 | C12: CBS Statline | F12: Hyperlink
B13: 2 | C13: DNB | F13: Hyperlink
B14: 3 | C14: Rijksoverheid | F14: Hyperlink
B15: 4 | C15: Tarievencode Elektriciteit 2026 | F15: Hyperlink
B16: 5 | C16: Reguleringsdata TenneT 2018 | F16: Niet openbaar
B17: 6 | C17: Reguleringsdata TenneT 2019 | F17: Niet openbaar
B18: 7 | C18: Reguleringsdata TenneT 2020 | F18: Niet openbaar
B19: 8 | C19: Reguleringsdata TenneT 2021 | F19: Niet openbaar
B20: 9 | C20: Reguleringsdata TenneT 2022 | F20: Niet openbaar
B21: 10 | C21: Reguleringsdata TenneT 2023 | F21: Niet openbaar
B22: 11 | C22: Reguleringsdata TenneT 2024 | F22: Niet openbaar
B23: 12 | C23: Reguleringsdata TenneT 2025 | F23: Niet openbaar
... B28: 17 | C28: Rekenmodule tarievenbesluit TenneT 2026 | F28: Hyperlink
B29: 18 | C29: Rekenmodule projectprocedure investeringen | D29: Rekenmodule projectprocedure investeringen TenneT op Land 2027 | F29: Niet openbaar
B30: 19 | C30: Gewijzigde GAW-berekening TenneT | D30: Gewijzigde GAW-berekening TenneT voor de reguleringsperiode 2022-2026 | F30: Hyperlink
B31: 20 | C31: Gewijzigde X-factorberekening Transporttaken TenneT | D31: Gewijzigde X-factorberekening Transporttaken TenneT 2022-2026 | F31: Hyperlink
B32: 21 | C32: Gewijzigde doelmatigheidsfactorberekening Systeemtaken TenneT | D32: Bijlage 1a bij het gewijzigd methodebesluit TenneT systeemtaken 2022-2026 | F32: Hyperlink
B33: 22 | C33: Gewijzigd methodebesluit transporttaken TenneT 2022-2026 | E33: ACM/UIT/600678 | F33: Hyperlink
B34: 23 | C34: Gewijzigd methodebesluit systeemtaken TenneT 2022-2026 | E34: ACM/UIT/600685 | F34: Hyperlink
B35: 24 | C35: Update gewijzigde X-factorberekening Transporttaken TenneT t.b.v. Tarievenbesluit 2027 | D35: Update gewijzigde X-factorberekening Transporttaken TenneT 2022-2026 t.b.v. Tarievenbesluit TenneT op Land 2027 | F35: Niet openbaar
B36: 25 | C36: Update gewijzigde doelmatigheidsfactorberekening Systeemtaken TenneT t.b.v. Tarievenbesluit 2027 | D36: Update gewijzigde doelmatigheidsfactorberekening Systeemtaken TenneT 2022-2026 t.b.v. Tarievenbesluit op Land 2027 | F36: Niet openbaar
B37: 26 | C37: Update gewijzigde GAW-berekening TenneT t.b.v. Tarievenbesluiten 2027 | D37: Update gewijzigde GAW-berekening TenneT voor de reguleringsperiode 2022-2026 t.b.v. Tarievenbesluiten 2027 | F37: Niet openbaar
B38: 27 | C38: Rekenmodule afschrijvingen TenneT 2027 | D38: Rekenmodule afschrijvingen projectprocedure investeringen en ARO’s 2027 | F38: Niet openbaar
B39: 28 | C39: Nacalculatiemodel WACC 2025 | D39: Model WACC-nacalculatie voor tarievenbesluiten GTS, TenneT en DSB's | E39: n.t.b. | F39: Hyperlink
B41: Duiding van specifieke Excel-toepassingen en overige bijzonderheden
B43: In rekenmodellen probeert ACM zoveel mogelijk eenvoudige navolgbare berekeningen te maken en geen ingewikkelde functies of toepassingen te gebruiken.
B44: Wanneer toch gebruik wordt gemaakt van cel- en rangenamen, macro's of andere bijzondere functies in Excel wordt de werking ervan hier toegelicht
B46: De gegevens die de ACM ophaalt uit de database staan in deze rekenmodule als tabel met tabelnaam. Dit zijn de tabellen "Desinvesteringen", "Realisatie_inkoopkosten_energie_en_vermogen", en "Realisatie_inkoopkosten_transport_naastgelegen_netten". De ACM haalt op de relevante berekeningstabbladen gegevens uit deze tabellen op door gebruik te maken van de SOM-functie. In de SOM-functie neemt de ACM voorwaarden op, om specifieke gegevens uit de tabellen met input uit de database te selecteren.
B48: Op tabblad 28. Correctie investeringen met een afschrijvingstermijn van 5 of 10 jaar wordt de Excel-functie Macht gebruikt om in de kolommen Z t/m AC de reël-plus afschrijving per investering te berekenen. Deze functie zorgt ervoor dat de nominale afschrijving voor ieder jaar na ingebruikname wordt vermenigvuldigd met de indexatiefactor. In het jaar van ingebruiname is de waarde van de macht nul waardoor de nominale afschrijving wordt vermenigvudligd met één.

Sheet 4. Totale inkomsten 2027
B2: Tabblad 4 - Totale inkomsten TenneT 2027
B4: Beschrijving resultaat
B5: Dit tabblad is een overzicht van de totale inkomsten 2027 van de beheerder van het landelijke hoogspanningsnet, TenneT TSO B.V. De ACM bepaalt de totale inkomsten inclusief tariefcorrecties in drie stappen: 1: de ACM berekent de totale inkomsten exclusief tariefcorrecties; 2: de ACM bepaalt de tariefcorrecties; 3: de ACM berekent de totale inkomsten inclusief tariefcorrecties.
B7: Toelichting bij bijzonderheden
B8: Bedragen zijn inclusief het rentepercentage voor tariefcorrecties.
B10: Omschrijving | F10: Eenheid | H10: Rijtotaal | J10: EHS | K10: HS | M10: Opmerking
B13: Berekening totale inkomsten
B15: Stap 1: Totale inkomsten exclusief tariefcorrecties
B17: Schatting inkomsten uit inkomstenbesluit TenneT op Land 2027 | F17: EUR, pp 2027 | H17: =SUM(J17:K17) -> 2.2201826e+09 | J17: ='6. Correcties en prognoses'!AM13 -> 1.2082383e+09 | K17: ='6. Correcties en prognoses'!AM32 -> 1.0119443e+09
B19: Totale inkomsten exclusief tariefcorrecties 2027 | F19: EUR, pp 2027 | H19: =SUM(J19:K19) -> 2.2201826e+09 | J19: =SUM(J17:J17) -> 1.2082383e+09 | K19: =SUM(K17:K17) -> 1.0119443e+09
B21: Stap 2: Tariefcorrecties
B23: Correcties op grond van een specifieke wettelijke bevoegdheid
B24: Inzet congestie-ontvangsten | F24: EUR, pp 2027 | H24: =SUM(J24:K24) -> -245000000 | J24: ='6. Correcties en prognoses'!AM27 -> -245000000 | M24: Correctie als bedoeld in artikel 19, derde lid, van Verordening 2019/943
B25: Verrekening vergoedingen net op zee fase I | F25: EUR, pp 2027 | H25: =SUM(J25:K25) -> 1.2043607e+08 | J25: ='6. Correcties en prognoses'!AM24 -> 1.2043607e+08 | M25: Correctie als bedoeld in artikel 3.80 van de Energiewet
B26: Verrekening vergoedingen net op zee fase II | F26: EUR, pp 2027 | H26: =SUM(J26:K26) -> 9.6912427e+08 | J26: ='6. Correcties en prognoses'!AM25 -> 9.6912427e+08 | M26: Correctie als bedoeld in artikel 3.80 van de Energiewet
B27: Correctie inkoopkosten transport bij regionale netbeheerders 2025 | F27: EUR, pp 2027 | H27: =SUM(J27:K27) -> -28877304 | K27: ='18. Correcties OA&M en IKTNN'!M36 -> -28877304 | M27: Correctie als bedoeld in artikel 41b, tweede lid, van de E-wet
B28: Correctie InterTSO compensation 2025 | F28: EUR, pp 2027 | H28: =SUM(J28:K28) -> -18075380 | J28: ='18. Correcties OA&M en IKTNN'!L40 -> -18075380 | M28: Correctie als bedoeld in artikel 41b, tweede lid, van de E-wet
B29: Omzetcorrectie op basis van volumeverschillen 2025 | F29: EUR, pp 2027 | H29: =SUM(J29:K29) -> -1.0661578e+08 | J29: ='24. Omzetcorrectie'!H39 -> 86027559 | K29: ='24. Omzetcorrectie'!H44 -> -1.9264334e+08 | M29: Correctie als bedoeld in artikel 41d, tweede lid, van de E-wet
B30: Correctie onderzoekskosten niet-geactiveerde verkabelingsprojecten 2025 | F30: EUR, pp 2027 | H30: =SUM(J30:K30) -> 0 | K30: ='25. Overige correcties'!AM78 -> 0 | M30: Correctie als bedoeld in artikel 41b, eerste lid, onderdeel l van de E-wet
B32: Correcties op grond van de algemene bevoegdheid
B33: Prognose omzet aansluitdienst en meterhuur 2027 | F33: EUR, pp 2027 | H33: =SUM(J33:K33) -> -56645400 | J33: ='6. Correcties en prognoses'!AM16 -> -4305886.5 | K33: ='6. Correcties en prognoses'!AM35 -> -52339514
B34: Correctie vermogenskosten transporttaak door de herrekende WACC 2025 | F34: EUR, pp 2027 | H34: =SUM(J34:K34) -> 1.2400581e+08 | J34: ='22. Correctie WACC'!AM105 -> 54326189 | K34: ='22. Correctie WACC'!AM106 -> 69679617
B35: Correctie vermogenskosten systeemtaak door de herrekende WACC 2025 | F35: EUR, pp 2027 | H35: =SUM(J35:K35) -> 3201649.4 | J35: ='22. Correctie WACC'!AM107 -> 3201649.4
B36: Correctie vermogenskosten projectprocedure investeringen in aanbouw 2025 | F36: EUR, pp 2027 | H36: =SUM(J36:K36) -> 19753286 | J36: ='10. Brondata'!AM13 -> 18114029 | K36: ='10. Brondata'!AM14 -> 1639257.1
B37: Correctie toevoeging totale kosten projectprocedure investeringen in gebruik door de herrekende WACC 2025 | F37: EUR, pp 2027 | H37: =SUM(J37:K37) -> 43631107 | J37: ='10. Brondata'!AM17 -> 41844848 | K37: ='10. Brondata'!AM18 -> 1786258.8
B38: Correctie efficiënte kosten Marnezijl-Oudehaske 2025 in 2027 | F38: EUR, pp 2027 | H38: =SUM(J38:K38) -> 29253.652 | J38: ='10. Brondata'!AM21 -> 2511.8621 | K38: ='10. Brondata'!AM24 -> 26741.79
B39: Correctie efficiënte (vermogens)kosten Diemen-Lelystad-Ens in 2027 | F39: EUR, pp 2027 | H39: =SUM(J39:K39) -> 48271.9 | J39: ='10. Brondata'!AM26 -> 48271.9
B40: Nacalculatie efficiënte (vermogens)kosten Eemshaven Oudeschip-Vierverlaten 2016 t/m 2025 in 2027 | F40: EUR, pp 2027 | H40: =SUM(J40:K40) -> 3045642.5 | J40: ='10. Brondata'!AM27 -> 2034724 | K40: ='10. Brondata'!AM28 -> 1010918.5
B41: Nacalculatie efficiënte (vermogens)kosten Krimpen-Geertruidenberg 2018 t/m 2025 in 2027 | F41: EUR, pp 2027 | H41: =SUM(J41:K41) -> 2691483.8 | J41: ='10. Brondata'!AM29 -> 2691483.8
B42: Nacalculatie efficiënte (vermogens)kosten HKN/HKW: onshore-deel van investering NoZ 2019 t/m 2025 in 2027 | F42: EUR, pp 2027 | H42: =SUM(J42:K42) -> 1218251.5 | J42: ='10. Brondata'!AM30 -> 1218251.5
B43: Correctie omzet aansluitdienst en meterhuur 2025 | F43: EUR, pp 2027 | H43: =SUM(J43:K43) -> -8860637.6 | J43: ='18. Correcties OA&M en IKTNN'!L32 -> -281920.87 | K43: ='18. Correcties OA&M en IKTNN'!M32 -> -8578716.8
B44: Correctie verrekening garantstelling faillissementen | F44: EUR, pp 2027 | H44: =SUM(J44:K44) -> 0 | J44: ='25. Overige correcties'!AM69 -> 0
B45: Correctie operationele kosten netcongestie 2025 | F45: EUR, pp 2027 | H45: =SUM(J45:K45) -> 16280341 | K45: ='25. Overige correcties'!AM80 -> 16280341
B46: Correctie operationele kosten cybersecurity 2022 t/m 2025 | F46: EUR, pp 2027 | H46: =SUM(J46:K46) -> 18044002 | J46: ='25. Overige correcties'!AM71 -> 10899990 | K46: ='25. Overige correcties'!AM81 -> 7144011.3
B47: Correctie inkoopkosten energie en vermogen transporttaak 2025 | F47: EUR, pp 2027 | H47: =SUM(J47:K47) -> 1.344205e+08 | J47: ='17. Correctie IKE&V'!AM114 -> 74771629 | K47: ='17. Correctie IKE&V'!AM148 -> 59648872
B48: Correctie inkoopkosten energie en vermogen systeemtaak 2025 | F48: EUR, pp 2027 | H48: =SUM(J48:K48) -> 88420883 | J48: ='17. Correctie IKE&V'!AM176 -> 88420883
B49: Correctie inkomsten transportdiensten | F49: EUR, pp 2027 | H49: =SUM(J49:K49) -> -325455.53 | J49: ='25. Overige correcties'!AM65 -> 0 | K49: ='25. Overige correcties'!AM74 -> -325455.53
B50: Correctie inkomsten aansluitdiensten | F50: EUR, pp 2027 | H50: =SUM(J50:K50) -> -1371232.9 | J50: ='25. Overige correcties'!AM67 -> -1371232.9 | K50: ='25. Overige correcties'!AM76 -> 0
B51: Correctie operationele kosten door desinvesteringen in 2021 t/m 2025 transporttaak | F51: EUR, pp 2027 | H51: =SUM(J51:K51) -> -603272.9 | J51: ='19. Correctie desinvesteringen'!P579 -> -340442.46 | K51: ='19. Correctie desinvesteringen'!P580 -> -262830.44
B52: Correctie operationele kosten door desinvesteringen in 2021 t/m 2025 systeemtaak | F52: EUR, pp 2027 | H52: =SUM(J52:K52) -> -12287.165 | J52: ='19. Correctie desinvesteringen'!P581 -> -12287.165
...

Sheet 5. Tarieven en RV 2027
B2: Tabblad 5 - Tarieven en rekenvolumina 2027
B4: Beschrijving resultaat
B5: Op dit tabblad geeft de ACM de tarieven en rekenvolumina per tariefdrager voor 2027 weer. De controles hieronder gaan na of de tarieven en rekenvolumina die in dit resultaat worden weergegeven gelijk zijn aan de tarieven en rekenvolumina die TenneT heeft voorgesteld.
B7: Controles
B8: Zijn de tarieven conform voorstel TenneT? | F8: ='26. Controle tarieven'!H83 -> ja
B10: Omschrijving | F10: Eenheid | H10: Constante | J10: Rijtotaal | L10: Vastrecht | M10: kW gecontracteerd per jaar | N10: kW max gewogen per maand | O10: kW gecontracteerd per jaar (max 600 uur) | P10: kW max gewogen per week (max 600 uur) | R10: Opmerking
B13: Voorstel TenneT voor 2027
B15: EHS
B16: Tarieven 2027 | F16: EUR, pp 2027 | L16: ='26. Controle tarieven'!L85 -> 12478.96 | M16: ='26. Controle tarieven'!M85 -> 57.03 | N16: ='26. Controle tarieven'!N85 -> 4.44 | O16: ='26. Controle tarieven'!O85 -> 28.51 | P16: ='26. Controle tarieven'!P85 -> 1.54
B17: Rekenvolumina 2027 | F17: # | L17: ='8. Voorstel tarieven en RV'!L25 -> 27.73632 | M17: ='8. Voorstel tarieven en RV'!M25 -> 854945.37 | N17: ='8. Voorstel tarieven en RV'!N25 -> 10730412 | O17: ='8. Voorstel tarieven en RV'!O25 -> 51426.435 | P17: ='8. Voorstel tarieven en RV'!P25 -> 1698972.9
B19: HS
B20: Tarieven 2027 | F20: EUR, pp 2027 | L20: ='26. Controle tarieven'!L86 -> 2760 | M20: ='26. Controle tarieven'!M86 -> 79.66 | N20: ='26. Controle tarieven'!N86 -> 9.24 | O20: ='26. Controle tarieven'!O86 -> 39.83 | P20: ='26. Controle tarieven'!P86 -> 3.2
B21: Rekenvolumina 2027 | F21: # | L21: ='8. Voorstel tarieven en RV'!L29 -> 111.6741 | M21: ='8. Voorstel tarieven en RV'!M29 -> 19967372 | N21: ='8. Voorstel tarieven en RV'!N29 -> 1.7338678e+08 | O21: ='8. Voorstel tarieven en RV'!O29 -> 519853.72 | P21: ='8. Voorstel tarieven en RV'!P29 -> 3013391

Sheet Input (Dataverzoek TenneT) -->

Sheet 6. Correcties en prognoses
B2: Tabblad 6 - Correcties en prognoses
B4: Beschrijving gegevens
B5: Op dit tabblad vult TenneT gegevens in ten behoeve van de berekening van de totale inkomsten in 2027. De ACM schrijft een aantal correcties en prognoses voor die TenneT jaarlijks in moet vullen. Daarnaast heeft TenneT zelf de mogelijkheid een aantal (incidentele) correcties op te geven.
B7: Omschrijving | F7: Eenheid | H7: Constante | J7: Rijtotaal | L7: 2000 | M7: 2001 | N7: 2002 | O7: 2003 | P7: 2004 | Q7: 2005 | R7: 2006 | S7: 2007 | T7: 2008 | U7: 2009 | V7: 2010 | W7: 2011 | X7: 2012 | Y7: 2013 | Z7: 2014 | AA7: 2015 | AB7: 2016 | AC7: 2017 | AD7: 2018 | AE7: 2019 | AF7: 2020 | AG7: 2021 | AH7: 2022 | AI7: 2023 | AJ7: 2024 | AK7: 2025 | AL7: 2026 | AM7: 2027 | AO7: Opmerking
B10: Transporttaak
B12: EHS
B13: Schatting inkomsten 2027 uit inkomstenbesluit TenneT op Land 2027-2031 EHS | F13: EUR, pp jaar | AM13: 1.2082383e+09 | AO13: Deze prognose verrekent de schatting voor de verwachte inkomsten op het EHS netvlak volgens het Inkomstenbesluit TenneT op Land 2027-2031
B15: Correctie omzet aansluitdienst en meterhuur EHS 2025 | F15: EUR, pp jaar | AK15: -256948.63 | AO15: Deze correctie verrekent de inkomsten op het EHS netvlak als gevolg van een verschil tussen de realisatie en de prognose van de aansluitdienst en meterhuur in 2024.
B16: Prognose omzet aansluitdienst en meterhuur EHS 2027 | F16: EUR, pp jaar | AM16: -4305886.5
B18: Correctie inkomsten transportdiensten EHS | F18: EUR, pp jaar | AD18: 0 | AE18: 0 | AF18: 0 | AG18: 0 | AH18: 0 | AI18: 0 | AJ18: 0 | AK18: 0 | AO18: Deze correctie verrekent de inkomsten op het EHS netvlak als gevolg van wijzigingen in de inkomsten van de transportdiensten in afgelopen jaren. Wijzigingen kunnen bijvoorbeeld plaatsvinden door het wijzigen van een factuur of als gevolg van een geschilprocedure.
B20: Correctie inkomsten aansluitdiensten EHS | F20: EUR, pp jaar | AD20: 0 | AE20: 0 | AF20: 0 | AG20: 0 | AH20: 0 | AI20: 0 | AJ20: 0 | AK20: -1249770.6 | AO20: Deze correctie verrekent de inkomsten op het EHS netvlak als gevolg van wijzigingen in de inkomsten van de aansluitdiensten in afgelopen jaren. Wijzigingen kunnen bijvoorbeeld plaatsvinden door het wijzigen van een factuur of als gevolg van een geschilprocedure.
B22: Correctie verrekening garantstelling faillissementen | F22: EUR, pp jaar | AD22: 0 | AE22: 0 | AF22: 0 | AG22: 0 | AH22: 0 | AI22: 0 | AJ22: 0 | AK22: 0 | AO22: N.v.t.
B24: Verrekening kosten net op zee fase I | F24: EUR, pp jaar | AM24: 1.2043607e+08 | AO24: Verrekening kosten net op zee fase I niet gedekt door subsidie
B25: Verrekening kosten net op zee fase II | F25: EUR, pp jaar | AM25: 9.6912427e+08 | AO25: Verrekening kosten net op zee fase II niet gedekt door subsidie
B27: Inzet congestie-ontvangsten | F27: EUR, pp jaar | AM27: -245000000 | AO27: Deze correctie betreft inzet van de congestie-ontvangsten bij het vaststellen van de transporttarieven.
B29: Correctie operationele kosten cybersecurity | F29: EUR, pp jaar | AH29: 121574.51 | AI29: 699072.34 | AJ29: 1628963.8 | AK29: 7264746.2 | AO29: Deze correctie betreft toegenomen operationele kosten gerelateerd aan cybersecurity
B31: HS
B32: Schatting inkomsten 2027 uit inkomstenbesluit TenneT op Land 2027-2031 HS | F32: EUR, pp jaar | AM32: 1.0119443e+09 | AO32: Deze prognose verrekent de schatting voor de verwachte inkomsten op het HS netvlak volgens het Inkomstenbesluit TenneT op Land 2027-2031
B34: Correctie omzet aansluitdienst en meterhuur HS 2025 | F34: EUR, pp jaar | AK34: -7818823.5 | AO34: Deze correctie verrekent de inkomsten op het HS netvlak als gevolg van een verschil tussen de realisatie en de prognose van de aansluitdienst en meterhuur in 2024.
B35: Prognose omzet aansluitdienst en meterhuur HS 2027 | F35: EUR, pp jaar | AM35: -52339514
B37: Correctie inkomsten transportdiensten HS | F37: EUR, pp jaar | AD37: 0 | AE37: 0 | AF37: 0 | AG37: 0 | AH37: 0 | AI37: 0 | AJ37: 0 | AK37: -296627.04 | AO37: Deze correctie verrekent de inkomsten op het HS netvlak als gevolg van wijzigingen in de inkomsten van de transportdiensten in afgelopen jaren. Wijzigingen kunnen bijvoorbeeld plaatsvinden door het wijzigen van een factuur of als gevolg van een geschilprocedure.
B39: Correctie inkomsten aansluitdiensten HS | F39: EUR, pp jaar | AD39: 0 | AE39: 0 | AF39: 0 | AG39: 0 | AH39: 0 | AI39: 0 | AJ39: 0 | AK39: 0 | AO39: Deze correctie verrekent een correctie in de berekening van de periodieke aansluitvergoeding van enkele regionale netbeheerders.
B41: Correctie onderzoekskosten niet-geactiveerde verkabelingsprojecten 2025 | F41: EUR, pp jaar | AK41: 0 | AO41: Onderdeel van de gemaakte kosten voor de uitvoering van artikel 3.27 van de Energiewet
B43: Correctie operationele kosten netcongestie | F43: EUR, pp jaar | AK43: 14838247 | AO43: Deze correctie betreft toegenomen operationele kosten gerelateerd aan netcongestie
B44: Correctie operationele kosten cybersecurity | F44: EUR, pp jaar | AH44: 92238.197 | AI44: 477728.83 | AJ44: 1071637 | AK44: 4720331.8 | AO44: Deze correctie betreft toegenomen operationele kosten gerelateerd aan cybersecurity
B46: Directe operationele kosten HS Randmeren-net | F46: EUR, pp jaar | AJ46: 4164387.2 | AO46: Deze correctie berekent de operationele kosten die TenneT vergoed krijgt als gevolg van de overname van het HS Randmeren-net van Liander in 2025.
B48: Systeemtaak
B50: Correctie verrekening faillissementen PV partijen | F50: EUR, pp jaar | AD50: 0 | AE50: 0 | AF50: 0 | AG50: 0 | AH50: 0 | AI50: 0 | AJ50: 0 | AK50: 0 | AO50: Deze correctie betreft de verrekening van zowel openstaande facturen die TenneT heeft voldaan in het kader van het balanshandhavingsprocesverrekening in verband met faillissementen en eventuele ontvangsten als gevolg van finale afwikkelingen.
B52: Restitutie systeemdienstentarieven n.a.v. DOW-uitspraak: claimperiode vóór 1-7-2011 | F52: EUR, pp jaar | AH52: 0 | AI52: 0 | AJ52: 0 | AK52: 0 | AO52: In het methodebesluit systeemtaken 2014-2016 heeft de ACM geconcludeerd dat, ten gevolge van de uitspraak van het CBb van 23 juli 2012 inzake DOW Benelux B.V. bepaalde afnemers in het verleden onverschuldigde systeemdiensten hebben betaald. Deze correctie verrekent de wijzigingen in inkomsten uit de systeemdienstentarieven omdat TenneT deze afnemers dient te restitueren.
B53: Restitutie systeemdienstentarieven n.a.v. DOW-uitspraak: claimperiode na 1-7-2011 | F53: EUR, pp jaar | AH53: 0 | AI53: 0 | AJ53: 0 | AK53: 0 | AO53: In het methodebesluit systeemtaken 2014-2016 heeft de ACM geconcludeerd dat, ten gevolge van de uitspraak van het CBb van 23 juli 2012 inzake DOW Benelux B.V. bepaalde afnemers in het verleden onverschuldigde systeemdiensten hebben betaald. Deze correctie verrekent de wijzigingen in inkomsten uit de systeemdienstentarieven omdat TenneT deze afnemers dient te restitueren.

Sheet 7. Spreiding nacalculaties 2025
B2: Tabblad 7 - Spreiding nacalculaties 2025
B4: Beschrijving resultaat
B5: Op dit tabblad doet TenneT een voorstel voor het spreiden van de nacalculaties die zien op de jaren t/m 2025 die normaliter in 2027 vergoed worden. Dit is een uitwerking van de afspraak uit de Sectorovereenkomst Methodebesluiten 2027 t/m 2031. Het spreiden van nacalculaties moet bijdragen aan een stabieler tariefverloop tijdens de overgang van de oude naar de nieuwe reguleringsperiode. TenneT moet in cel H14 een percentage van waarmee zij een voorstel doet voor het in 2027 te verrekenen deel van de nacalculaties.
B7: Omschrijving | F7: Eenheid | J7: EHS | K7: HS | N7: Opmerking
B10: Constanten | H10: Constante
B12: Voorstel TenneT percentage nacalculatie tariefcorrecties 2025 te vergoeden in 2027 | F12: % | H12: 0.8
B14: Ophalen totale nacalculaties t/m 2025 in prijspeil 2027 | J14: EHS | K14: HS
B16: Correcties op grond van een specifieke wettelijke bevoegdheid
B17: Correctie inkoopkosten transport bij regionale netbeheerders 2025 | F17: EUR, pp 2027 | K17: ='18. Correcties OA&M en IKTNN'!M36 -> -28877304
B18: Correctie InterTSO compensation 2025 | F18: EUR, pp 2027 | J18: ='18. Correcties OA&M en IKTNN'!L40 -> -18075380
B19: Omzetcorrectie op basis van volumeverschillen 2025 | F19: EUR, pp 2027 | J19: ='24. Omzetcorrectie'!H39 -> 86027559 | K19: ='24. Omzetcorrectie'!H44 -> -1.9264334e+08
B20: Correctie onderzoekskosten niet-geactiveerde verkabelingsprojecten 2025 | F20: EUR, pp 2027 | K20: ='25. Overige correcties'!AM78 -> 0
B22: Correcties op grond van de algemene bevoegdheid
B23: Correctie vermogenskosten transporttaak door de herrekende WACC 2025 | F23: EUR, pp 2027 | J23: ='22. Correctie WACC'!AM105 -> 54326189 | K23: ='22. Correctie WACC'!AM106 -> 69679617
B24: Correctie vermogenskosten systeemtaak door de herrekende WACC 2025 | F24: EUR, pp 2027 | J24: ='22. Correctie WACC'!AM107 -> 3201649.4
B25: Correctie vermogenskosten projectprocedure investeringen in aanbouw 2025 | F25: EUR, pp 2027 | J25: ='10. Brondata'!AM13 -> 18114029 | K25: ='10. Brondata'!AM14 -> 1639257.1
B26: Correctie toevoeging totale kosten projectprocedure investeringen in gebruik door de herrekende WACC 2025 | F26: EUR, pp 2027 | J26: ='10. Brondata'!AM17 -> 41844848 | K26: ='10. Brondata'!AM18 -> 1786258.8
B27: Correctie efficiënte kosten Marnezijl-Oudehaske 2025 in 2027 | F27: EUR, pp 2027 | J27: ='10. Brondata'!AM21 -> 2511.8621 | K27: ='10. Brondata'!AM24 -> 26741.79
B28: Correctie efficiënte (vermogens)kosten Diemen-Lelystad-Ens in 2027 | F28: EUR, pp 2027 | J28: ='10. Brondata'!AM26 -> 48271.9
B29: Nacalculatie efficiënte (vermogens)kosten Eemshaven Oudeschip-Vierverlaten 2016 t/m 2025 in 2027 | F29: EUR, pp 2027 | J29: ='10. Brondata'!AM27 -> 2034724 | K29: ='10. Brondata'!AM28 -> 1010918.5
B30: Nacalculatie efficiënte (vermogens)kosten Krimpen-Geertruidenberg 2018 t/m 2025 in 2027 | F30: EUR, pp 2027 | J30: ='10. Brondata'!AM29 -> 2691483.8
B31: Nacalculatie efficiënte (vermogens)kosten HKN/HKW: onshore-deel van investering NoZ 2019 t/m 2025 in 2027 | F31: EUR, pp 2027 | J31: ='10. Brondata'!AM30 -> 1218251.5
B32: Correctie omzet aansluitdienst en meterhuur 2025 | F32: EUR, pp 2027 | J32: ='18. Correcties OA&M en IKTNN'!L32 -> -281920.87 | K32: ='18. Correcties OA&M en IKTNN'!M32 -> -8578716.8
B33: Correctie verrekening garantstelling faillissementen | F33: EUR, pp 2027 | J33: ='25. Overige correcties'!AM69 -> 0
B34: Correctie operationele kosten netcongestie 2025 | F34: EUR, pp 2027 | K34: ='25. Overige correcties'!AM80 -> 16280341
B35: Correctie operationele kosten cybersecurity 2022 t/m 2025 | F35: EUR, pp 2027 | J35: ='25. Overige correcties'!AM71 -> 10899990 | K35: ='25. Overige correcties'!AM81 -> 7144011.3
B36: Correctie inkoopkosten energie en vermogen transporttaak 2025 | F36: EUR, pp 2027 | J36: ='17. Correctie IKE&V'!AM114 -> 74771629 | K36: ='17. Correctie IKE&V'!AM148 -> 59648872
B37: Correctie inkoopkosten energie en vermogen systeemtaak 2025 | F37: EUR, pp 2027 | J37: ='17. Correctie IKE&V'!AM176 -> 88420883
B38: Correctie inkomsten transportdiensten | F38: EUR, pp 2027 | J38: ='25. Overige correcties'!AM65 -> 0 | K38: ='25. Overige correcties'!AM74 -> -325455.53
B39: Correctie inkomsten aansluitdiensten | F39: EUR, pp 2027 | J39: ='25. Overige correcties'!AM67 -> -1371232.9 | K39: ='25. Overige correcties'!AM76 -> 0
B40: Correctie operationele kosten door desinvesteringen in 2021 t/m 2025 transporttaak | F40: EUR, pp 2027 | J40: ='19. Correctie desinvesteringen'!P579 -> -340442.46 | K40: ='19. Correctie desinvesteringen'!P580 -> -262830.44
B41: Correctie operationele kosten door desinvesteringen in 2021 t/m 2025 systeemtaak | F41: EUR, pp 2027 | J41: ='19. Correctie desinvesteringen'!P581 -> -12287.165
B42: Correctie investeringen met een afschrijvingstermijn langer dan tien jaar transportaak | F42: EUR, pp 2027 | J42: ='20. Correctie bijschatten'!AM158 -> 17339327 | K42: ='20. Correctie bijschatten'!AM181 -> 33281435
B43: Correctie investeringen met een afschrijvingstermijn langer dan tien jaar systeemtaak | F43: EUR, pp 2027 | J43: ='20. Correctie bijschatten'!AM197 -> 1758278.9
B44: Correctie investeringen met een afschrijvingstermijn van maximaal tien jaar transporttaak | F44: EUR, pp 2027 | J44: ='23. Correctie inv. <= 10 jaar'!O148 -> 5903619.5 | K44: ='23. Correctie inv. <= 10 jaar'!O151 -> 18676131
B45: Correctie investeringen met een afschrijvingstermijn van maximaal tien jaar systeemtaak | F45: EUR, pp 2027 | J45: ='23. Correctie inv. <= 10 jaar'!O154 -> 15352672
B46: Correctie efficiënte kosten gerealiseerde afloopinvesteringen WUI's in 2021 t/m 2025 | F46: EUR, pp 2027 | J46: ='21. Correctie afloopinv. WUI'!AM76 -> 0 | K46: ='21. Correctie afloopinv. WUI'!AM93 -> 1805905.2
B47: Correctie operationele kosten 2025 a.g.v. overname HS-Randmeren-net | F47: EUR, pp 2027 | K47: ='25. Overige correcties'!AM85 -> 10952775
B48: Correctie verrekening faillissementen PV partijen in 2027 | F48: EUR, pp 2027 | J48: ='25. Overige correcties'!AM88 -> 0
B49: Restitutie systeemdienstentarieven n.a.v. DOW-uitspraak: claimperiode vóór 1-7-2011 in 2027 | F49: EUR, pp 2027 | J49: ='25. Overige correcties'!AM90 -> 0
...

Sheet 8. Voorstel tarieven en RV
B2: Tabblad 8 - Voorstel tarieven en rekenvolumina
B4: Beschrijving gegevens
B5: Op dit tabblad vult TenneT de gerealiseerde volumina 2025 en de voorgestelde tarieven en rekenvolumina voor 2027 in. De rekenvolumina representeren de afzet die in een jaar te verwachten is. De controles hieronder gaan na of de getallen die TenneT invult voor de tarieven en de rekenvolumina voldoen aan respectievelijk de Tarievencode Elektriciteit 2026 en de bepalingen in het methodebesluit TenneT op Land 2027-2031. De voor 2027 voorgestelde rekenvolumina dienen overeen te komen met de rekenvolumina die de ACM heeft vastgesteld in het Inkomstenbesluit TenneT op Land 2027-2031.
B7: Controles
B8: Voldoet het voorstel voor de tarieven? | F8: ='26. Controle tarieven'!H83 -> ja
B10: Omschrijving | F10: Eenheid | H10: Constante | J10: Rijtotaal | L10: Vastrecht | M10: kW gecontracteerd per jaar | N10: kW max gewogen per maand | O10: kW gecontracteerd per jaar (max 600 uur) | P10: kW max gewogen per week (max 600 uur) | R10: Opmerking
B13: Realisatie volumina 2025
B15: EHS
B16: Realisatie volumina EHS 2025 | F16: # | L16: 22.583333 | M16: 655597.02 | N16: 5096149 | O16: 120379 | P16: 1646902
B18: HS
B19: Realisatie volumina HS 2025 | F19: # | L19: 99.083333 | M19: 17639969 | N19: 148325360 | O19: 270236.72 | P19: 2235875
B21: Voorstel TenneT voor 2027
B23: EHS
B24: Voorstel tarieven 2027 | F24: EUR, pp 2027 | L24: 12478.96 | M24: 57.03 | N24: 4.44 | O24: 28.51 | P24: 1.54
B25: Voorstel rekenvolumina 2027 | F25: # | L25: 27.73632 | M25: 854945.37 | N25: 10730412 | O25: 51426.435 | P25: 1698972.9 | R25: Dit voorstel dient overeen te komen met de rekenvolumina uit het Inkomstenbesluit TenneT op Land 2027 t/m 2031
B27: HS
B28: Voorstel tarieven 2027 | F28: EUR, pp 2027 | L28: 2760 | M28: 79.66 | N28: 9.24 | O28: 39.83 | P28: 3.2
B29: Voorstel rekenvolumina 2027 | F29: # | L29: 111.6741 | M29: 19967372 | N29: 1.7338678e+08 | O29: 519853.72 | P29: 3013391 | R29: Dit voorstel dient overeen te komen met de rekenvolumina uit het Inkomstenbesluit TenneT op Land 2027 t/m 2031

Sheet Input (Data door ACM) -->

Sheet 9. Parameters
B2: Tabblad 9 - Parameters
B4: Beschrijving gegevens
B5: Op dit blad staan inputgegevens voor relevante parameters in de berekening van de totale inkomsten en de tarieven. Deze parameters betreffen achtereenvolgens: CPI, frontier shift, rentepercentage tariefcorrecties, x-factor en doelmatigheidsfactor, verwachte verandering OPEX a.g.v. uitbreiding/krimp, statische efficiëntieparameter, WACC, percentages nieuw en bestaand vermogen, percentage binnen scope per activaklasse en overige parameters.
B7: Omschrijving | F7: Eenheid | H7: Constante | J7: Rijtotaal | L7: 2000 | M7: 2001 | N7: 2002 | O7: 2003 | P7: 2004 | Q7: 2005 | R7: 2006 | S7: 2007 | T7: 2008 | U7: 2009 | V7: 2010 | W7: 2011 | X7: 2012 | Y7: 2013 | Z7: 2014 | AA7: 2015 | AB7: 2016 | AC7: 2017 | AD7: 2018 | AE7: 2019 | AF7: 2020 | AG7: 2021 | AH7: 2022 | AI7: 2023 | AJ7: 2024 | AK7: 2025 | AL7: 2026 | AM7: 2027 | AO7: Bronverwijzing | AQ7: Opmerking
B10: CPI
B12: Consumenten Prijs Index | AQ12: Toelichting vaststelling jaarlijks CPI-percentage
B13: CPI als jaarlijks percentage | F13: % | L13: 0.026 | M13: 0.025 | N13: 0.047 | O13: 0.033 | P13: 0.021 | Q13: 0.011 | R13: 0.018 | S13: 0.014 | T13: 0.011 | U13: 0.032 | V13: 0.003 | W13: 0.015 | X13: 0.026 | Y13: 0.023 | Z13: 0.028 | AA13: 0.01 | AB13: 0.008 | AC13: 0.002 | AD13: 0.014 | AE13: 0.021 | AF13: 0.028 | AG13: 0.007 | AH13: 0.024 | AI13: 0.12 | AJ13: 0.03 | AK13: 0.036 | AL13: 0.028 | AO13: CBS Statline | AQ13: De relatieve wijziging van de consumentenprijsindex wordt berekend uit het quotiënt van deze index, gepubliceerd in de vierde maand voorafgaande aan het jaar t, en van deze index, gepubliceerd
AQ14: in de zestiende maand voorafgaande aan het jaar t, zoals deze maandelijks wordt vastgesteld door het CBS. Dit komt neer op de jaarmutatie van de CPI in augustus voorafgaande aan jaar t.
B15: Indexatiefactor 2022-2026 | AQ15: De gegevens zijn afkomstig uit StatLine, zie voor recente CPI-cijfers: https://opendata.cbs.nl/statline/#/CBS/nl/dataset/70936ned/table?ts=1532343719053.
B16: Indexatiefactor 2022-2026 | F16: % | H16: 0.009 | AO16: Gewijzigd methodebesluit transporttaken TenneT 2022-2026, paragraaf 7.4.2, randnummer 276
B18: Frontier shift
B20: Frontier shift | F20: % | AF20: 0 | AG20: 0 | AH20: 0.005 | AI20: 0.005 | AJ20: 0.005 | AK20: 0.005 | AL20: 0.005 | AO20: 2020 t/m 2021: Methodebesluit 2017-2021, paragraaf 8.2.4; 2022 t/m 2026: Gewijzigd methodebesluit transporttaken TenneT 2022-2026, paragraaf 7.4.4, randnummer 411
B22: Rentepercentage tariefcorrecties
B24: Rentepercentage tariefcorrecties | AQ24: Toelichting gegevens rentepercentage tariefcorrecties
B25: Eerste kwartaal | F25: % | AD25: 0.02 | AE25: 0.02 | AF25: 0.02 | AG25: 0.02 | AH25: 0.02 | AI25: 0.04 | AJ25: 0.07 | AK25: 0.06 | AL25: 0.04 | AM25: 0.05 | AO25: DNB | AQ25: De ACM gebruikt het rentepercentage tariefcorrecties voor de vergoeding van de tijdwaarde van geld in het geval van het toekennen van correcties in de tarieven die volgen uit nacalculaties over eerdere jaren.
B26: Tweede kwartaal | F26: % | AD26: 0.02 | AE26: 0.02 | AF26: 0.02 | AG26: 0.02 | AH26: 0.02 | AI26: 0.04 | AJ26: 0.07 | AK26: 0.06 | AL26: 0.04 | AM26: 0.05 | AO26: DNB | AQ26: De nacalculaties waarop het rentepercentage tariefcorrecties wordt toegepast kunnen zowel positief als negatief zijn; ACM past het rentepercentage tariefcorrecties symmetrisch toe.
B27: Derde kwartaal | F27: % | AD27: 0.02 | AE27: 0.02 | AF27: 0.02 | AG27: 0.02 | AH27: 0.02 | AI27: 0.06 | AJ27: 0.07 | AK27: 0.06 | AL27: 0.04 | AO27: DNB | AQ27: De ACM heeft besloten om voor alle nacalculaties vanaf 2022 de wettelijke rente als rentepercentage tariefcorrecties te hanteren. Dit percentage werd tot en met juli 2025 halfjaarlijks door De Nederlandsche Bank gepubliceerd. Daarna baseert de ACM zich op de website van Rijksoverheid en wijzigingsbesluiten in de Staatscourant.
B28: Vierde kwartaal | F28: % | AD28: 0.02 | AE28: 0.02 | AF28: 0.02 | AG28: 0.02 | AH28: 0.02 | AI28: 0.06 | AJ28: 0.07 | AK28: 0.06 | AL28: 0.04 | AO28: DNB | AQ28: De roze cellen betreffen voorlopige cijfers voor de wettelijke rente, gezien de definitieve waarden pas begin 2027 bekend worden. De ACM stelt deze voorlopige cijfers vast aan de hand van de berekeningsmethode van de wettelijke rente zoals gehanteerd bij de meest recente wijziging van de wettelijke rente.
AQ29: Deze berekeningsmethode is omschreven in nota van toelichting bij het meest recente wijzigingsbesluit (https://zoek.officielebekendmakingen.nl/stb-2025-438.html). In deze rekenmodule heeft de ACM de voorlopige cijfers gebaseerd op de basisherfinancieringsrente van de ECB van 2,4%. Dit was de stand van deze rente ten tijde van het versturen van het informatieverzoek.
AQ30: In het Tarievenbesluit TenneT op Land 2027 zal de ACM de voorlopige cijfers baseren op de stand van deze rente op de in de nota van toelichting beschreven peildatum (eind oktober).
B32: Verwachte verandering OPEX a.g.v. uitbreiding/krimp
B34: Verwachte verandering OPEX a.g.v. uitbreiding/krimp | F34: % | H34: 0.01 | AO34: Gewijzigd methodebesluit transporttaken TenneT 2022-2026, paragraaf 7.3.3, randnummers 212-213
B36: Statische efficiëntieparameter
B38: Thèta | F38: % | AG38: 1 | AH38: 1 | AI38: 1 | AJ38: 1 | AK38: 1 | AL38: 1 | AO38: Gewijzigd methodebesluit transporttaken TenneT 2022-2026, paragraaf 7.4.3, randnummer 327b
B40: WACC
B42: Reëel-plus WACC uit het methodebesluit
B43: Reeël-plus WACC nieuw vermogen uit MB (voor belasting) | F43: % | AH43: 0.022 | AI43: 0.022 | AJ43: 0.027 | AK43: 0.027 | AL43: 0.027 | AO43: Gewijzigd methodebesluit transporttaken TenneT 2022-2026, paragraaf 7.4.1, randnummer 271; Gewijzigd methodebesluit systeemtaken TenneT 2022-2026, paragraaf 7.4.1, randnummer 111.
B44: Reeël-plus WACC bestaand vermogen uit MB (voor belasting) | F44: % | AH44: 0.024 | AI44: 0.023 | AJ44: 0.028 | AK44: 0.028 | AL44: 0.028 | AO44: Gewijzigd methodebesluit transporttaken TenneT 2022-2026, paragraaf 7.4.1, randnummer 271; Gewijzigd methodebesluit systeemtaken TenneT 2022-2026, paragraaf 7.4.1, randnummer 111.
B46: Herrekende reëel-plus WACC
B47: Herrekende reëel-plus WACC nieuw vermogen (voor belasting) | F47: % | AH47: 0.037 | AI47: 0.051 | AJ47: 0.049 | AK47: 0.053 | AO47: Nacalculatiemodel WACC 2025, tab 1, rij 71
B48: Herrekende reëel-plus WACC bestaand vermogen rente (voor belasting) | F48: % | AH48: 0.031 | AI48: 0.041 | AJ48: 0.041 | AK48: 0.045 | AO48: Nacalculatiemodel WACC 2025, tab 1, rij 55
B50: Percentages nieuw en bestaand vermogen
B52: Percentages nieuw en bestaand vermogen uit update gewijzigde X-factorberekening Transporttaken
B53: Percentage bijschatten nieuw vermogen | F53: % | AH53: 0.10302589 | AI53: 0.37569182 | AJ53: 0.5100865 | AK53: 0.58497699 | AO53: Update gewijzigde X-factorberekening Transporttaken TenneT t.b.v. Tarievenbesluit TenneT op Land 2027, tab 1, rij 79
B54: Percentage bijschatten bestaand vermogen | F54: % | AH54: 0.89697411 | AI54: 0.62430818 | AJ54: 0.4899135 | AK54: 0.41502301 | AO54: Update gewijzigde X-factorberekening Transporttaken TenneT t.b.v. Tarievenbesluit TenneT op Land 2027, tab 1, rij 80
B56: Percentages nieuw en bestaand vermogen uit update gewijzigde doelmatigheidsfactorberekening Systeemtaken
B57: Percentage bijschatten nieuw vermogen | F57: % | AH57: 0.11528691 | AI57: 0.50099648 | AJ57: 0.454056 | AK57: 0.51113914 | AO57: Update gewijzigde doelmatigheidsfactorberekening TenneT t.b.v. Tarievenbesluit TenneT op Land 2027, tab 1, rij 37
B58: Percentage bijschatten bestaand vermogen | F58: % | AH58: 0.88471309 | AI58: 0.49900352 | AJ58: 0.545944 | AK58: 0.48886086 | AO58: Update gewijzigde doelmatigheidsfactorberekening TenneT t.b.v. Tarievenbesluit TenneT op Land 2027, tab 1, rij 38
B60: Percentage binnen scope per activaklasse
B62: GAW ultimo 2000 EHS OUD | F62: % | H62: 0.97443793 | AO62: Gewijzigde GAW-berekening TenneT, tab 3, cellen B13:F13
...

Sheet 10. Brondata
B2: Tabblad 10 - Brondata
B4: Beschrijving gegevens
B5: Op dit tabblad staan per jaar de gegevens die de ACM gebruikt voor de berekening van de totale inkomsten van TenneT in 2027. Bij elk gegeven is een bron aangegeven.
B7: Omschrijving | F7: Eenheid | H7: Constante | J7: Rijtotaal | L7: 2000 | M7: 2001 | N7: 2002 | O7: 2003 | P7: 2004 | Q7: 2005 | R7: 2006 | S7: 2007 | T7: 2008 | U7: 2009 | V7: 2010 | W7: 2011 | X7: 2012 | Y7: 2013 | Z7: 2014 | AA7: 2015 | AB7: 2016 | AC7: 2017 | AD7: 2018 | AE7: 2019 | AF7: 2020 | AG7: 2021 | AH7: 2022 | AI7: 2023 | AJ7: 2024 | AK7: 2025 | AL7: 2026 | AM7: 2027 | AO7: Bronverwijzing | AQ7: Opmerking
B10: Data ten behoeve van correcties op toevoegingen projectprocedure investeringen
B12: Correctie toevoeging vermogenkosten
B13: Correctie toevoeging vermogenskosten projectprocedure investeringen EHS 2025 in 2027 | F13: EUR, pp jaar | AM13: 18114029 | AO13: Rekenmodule projectprocedure investeringen, tab 4, cel J20
B14: Correctie toevoeging vermogenskosten projectprocedure investeringen HS 2025 in 2027 | F14: EUR, pp jaar | AM14: 1639257.1 | AO14: Rekenmodule projectprocedure investeringen, tab 4, cel K20
B16: Correctie toevoeging totale kosten a.g.v. herberekende WACC
B17: Correctie toevoeging totale kosten a.g.v. herberekende WACC 2025 in 2027 EHS | F17: EUR, pp jaar | AM17: 41844848 | AO17: Rekenmodule projectprocedure investeringen, tab 4, cel J17
B18: Correctie toevoeging totale kosten a.g.v. herberekende WACC 2025 in 2027 HS | F18: EUR, pp jaar | AM18: 1786258.8 | AO18: Rekenmodule projectprocedure investeringen, tab 4, cel K17
B20: Nacalculatie efficiënte (vermogens)kosten
B21: Nacalculatie efficiënte (vermogens)kosten Marnezijl-Oudehaske EHS 2025 in 2027 | F21: EUR, pp jaar | AM21: 2511.8621 | AO21: Rekenmodule projectprocedure investeringen, tab 4, cel J20 | AQ21: Deze investering wordt in de bron aangeduid met de naam Windpark Friesland.
B22: Nacalculatie efficiënte (vermogens)kosten Windpark Friesland A 2025 in 2027 | F22: EUR, pp jaar | AM22: -5256.1226 | AO22: Rekenmodule projectprocedure investeringen, tab 4, cel K21
B23: Nacalculatie efficiënte (vermogens)kosten Windpark Friesland B 2025 in 2027 | F23: EUR, pp jaar | AM23: 31997.912 | AO23: Rekenmodule projectprocedure investeringen, tab 4, cel K22
B24: Nacalculatie efficiënte (vermogens)kosten Marnezijl-Oudehaske HS 2025 in 2027 | F24: EUR, pp jaar | AM24: =SUM(AM22:AM23) -> 26741.79 | AQ24: De investering Marnezijl-Oudehaske (HS) bestaat uit twee deelprojecten waarvoor in de bron aparte nacalculaties berekend zijn, namelijk Windpark Friesland A en Windpark Friesland B.
B25: Nacalculatie efficiënte (vermogens)kosten Lelystad-Diemen 2025 in 2027 | F25: EUR, pp jaar | AM25: 48271.9 | AO25: Rekenmodule projectprocedure investeringen 2027, tab 4, cel J23
B26: Correctie efficiënte(vermogens)kosten Diemen-Lelystad-Ens EHS in 2027 | F26: EUR, pp jaar | AM26: =SUM(AM25:AM25) -> 48271.9 | AQ26: De investering Diemen-Lelystad-Ens (EHS) bestaat uit twee deelprojecten waarvoor in de bron aparte nacalculaties berekend zijn, namelijk Ens-Lelystad en Lelystad-Diemen. Ens-Lelystad wordt niet meer nagecalculeerd na de nacalculatie van de efficiënte kosten in het tarievenbesluit 2026 omdat deze investering is opgenomen in de GAW.
B27: Nacalculatie efficiënte (vermogens)kosten Eemshaven Oudeschip-Vierverlaten EHS 2016 t/m 2025 in 2027 | F27: EUR, pp jaar | AM27: 2034724 | AO27: Rekenmodule projectprocedure investeringen 2027, tab 4, cel J24
B28: Nacalculatie efficiënte (vermogens)kosten Eemshaven Oudeschip-Vierverlaten HS 2016 t/m 2025 in 2027 | F28: EUR, pp jaar | AM28: 1010918.5 | AO28: Rekenmodule projectprocedure investeringen 2027, tab 4, cel K24
B29: Nacalculatie efficiënte (vermogens)kosten Krimpen-Geertruidenberg 2018 t/m 2025 in 2027 | F29: EUR, pp jaar | AM29: 2691483.8 | AO29: Rekenmodule projectprocedure investeringen 2027, tab 4, cel J25
B30: Nacalculatie efficiënte (vermogens)kosten HKN/HKW: onshore-deel van investering NoZ 2019 t/m 2025 in 2027 | F30: EUR, pp jaar | AM30: 1218251.5 | AO30: Rekenmodule projectprocedure investeringen 2027, tab 4, cel J26
B32: Geschatte kapitaalkosten ARO
B33: Geschatte kapitaalkosten voor de actualisatie ARO Cobra-kabel 2021 t/m 2025 in 2027 | F33: EUR, pp jaar | AM33: -959129.27 | AO33: Rekenmodule projectprocedure investeringen, tab 4, cel J30
B35: Data ten behoeve van inkoopkosten transport naastgelegen netten
B37: Inkoopkosten transport bij regionale netbeheerder(s)
B38: Prognose inkoopkosten transport bij regionale netbeheerder(s) 2025 | F38: EUR, pp jaar | AK38: 26319384 | AO38: Rekenmodule tarievenbesluit TenneT 2025, tab 4, cel K22
B40: Inter-TSO compensation
B41: Prognose Inter-TSO compensation 2025 | F41: EUR, pp jaar | AK41: -12052595 | AO41: Rekenmodule tarievenbesluit TenneT 2025, tab 4, cel J23
B43: Data ten behoeve van de nacalculatie inkoopkosten energie en vermogen 2025 in 2027
B45: Voorschotspercentage
B46: Voorschotspercentage nacalculatie inkoopkosten E&V 2025 | F46: % | H46: 0.4 | AO46: Rekenmodule tarievenbesluit TenneT 2026, tab 8, cel H28
B48: Verwachte nacalculatie inkoopkosten E&V transporttaak 2025 in tarievenbesluit 2026
B49: Netverliezen EHS | F49: EUR, pp 2025 | AO49: Rekenmodule tarievenbesluit TenneT 2026, tab 21, cel AJ88
B50: Blindvermogen betrekken EHS | F50: EUR, pp 2025 | AO50: Rekenmodule tarievenbesluit TenneT 2026, tab 21, cel AJ96
B51: Oplossen transportbeperkingen EHS | F51: EUR, pp 2025 | AO51: Rekenmodule tarievenbesluit TenneT 2026, tab 21, cel AJ104
B53: Netverliezen HS | F53: EUR, pp 2025 | AO53: Rekenmodule tarievenbesluit TenneT 2026, tab 21, cel AJ115
B54: Blindvermogen betrekken HS | F54: EUR, pp 2025 | AO54: Rekenmodule tarievenbesluit TenneT 2026, tab 21, cel AJ123
B55: Oplossen transportbeperkingen HS | F55: EUR, pp 2025 | AO55: Rekenmodule tarievenbesluit TenneT 2026, tab 21, cel AJ131
B57: Verwachte nacalculatie inkoopkosten E&V systeemtaak 2025 in tarievenbesluit 2026
...

Sheet 11. Tarieven, RV en omzet
B2: Tabblad 11 - Tarieven, rekenvolumina en omzet
B4: Beschrijving gegevens
B5: Op dit tabblad staan per tariefdrager de tarieven 2025, de rekenvolumina 2026 en de totale inkomsten 2025, uitgesplitst voor de netvlakken EHS en HS. Deze gegevens worden gebruikt ten behoeve van de berekening van de omzetcorrectie (het verschil tussen de toegestane inkomsten en de gerealiseerde inkomsten).
B7: Omschrijving | F7: Eenheid | H7: Constante | J7: Rijtotaal | L7: Vastrecht | M7: kW gecontracteerd per jaar | N7: KW max gewogen per maand | O7: kW gecontracteerd per jaar (max 600 uur) | P7: KW max gewogen per week (max 600 uur) | R7: Bronverwijzing | T7: Opmerking
B10: Tarieven, rekenvolumina en inkomsten
B12: EHS
B13: Tarieven 2025 | F13: EUR, pp 2025 | L13: 12478.96 | M13: 54.99 | N13: 7.14 | O13: 27.5 | P13: 2.47 | R13: Rekenmodule tarievenbesluit TenneT 2025, tab 5, rij 17
B14: Rekenvolumina 2026 | F14: # | L14: 22.083333 | M14: 626014 | N14: 4953231 | O14: 45829 | P14: 675650.7 | R14: Rekenmodule tarievenbesluit TenneT 2026, tab 5, rij 18
B16: Totale inkomsten EHS TOVT 2025 | F16: EUR, pp 2025 | H16: 274537.12 | R16: Rekenmodule tarievenbesluit TenneT 2025, tab 30, cel H43
B17: Totale inkomsten EHS TAVT 2025 uit EHS | F17: EUR, pp 2025 | H17: 1.6054862e+08 | R17: Rekenmodule tarievenbesluit TenneT 2025, tab 30, cel H46 | T17: Het overige gedeelte van EHS TAVT wordt door toedoen van het cascade-beginsel afgenomen door HS.
B19: HS
B20: Tarieven 2025 | F20: EUR, pp 2025 | L20: 2760 | M20: 73.46 | N20: 8.5 | O20: 36.73 | P20: 2.94 | R20: Rekenmodule tarievenbesluit TenneT 2025, tab 5, rij 21
B21: Rekenvolumina 2026 | F21: # | L21: 95.916667 | M21: 17464394 | N21: 1.486096e+08 | O21: 463271 | P21: 2685402.9 | R21: Rekenmodule tarievenbesluit TenneT 2026, tab 5, rij 22
B23: Totale inkomsten HS TOVT 2025 | F23: EUR, pp 2025 | H23: 269100 | R23: Rekenmodule tarievenbesluit TenneT 2025, tab 30, cel H60
B24: Totale inkomsten HS TAVT 2025 (met EHS) | F24: EUR, pp 2025 | H24: 2.3923315e+09 | R24: Rekenmodule tarievenbesluit TenneT 2025, tab 30, cel H64

Sheet 12. Input inv. <= 10 jaar
B2: Tabblad 12 - Input nacalculatie investeringen met een afschrijvingstermijn van 5 of 10 jaar
B4: Beschrijving gegevens
B5: Op dit tabblad vult de ACM gerealiseerde investeringen met een afschrijvingstermijn van 5 of 10 jaar in, indien deze direct volgen uit wijzigingen aan wet- en regelgeving of gerelateerd zijn aan netcongestie of cybersecurity. Voor deze investeringen is afgestemd dat deze nagecalculeerd worden, ondanks dat ze niet binnen een in het methodebesluit aangekondigde nacalculatie vallen.
B7: Toelichting bij bijzonderheden
B8: Volgens het gewijzigd methodebesluit transporttaken worden alleen investeringen met een afschrijvingstermijn langer dan 10 jaar nagecalculeerd. De ACM heeft besloten dat TenneT investeringen met een afschrijvingstermijn gelijk aan of korter dan 10 jaar ook worden nagecalculeerd als deze direct volgen uit wijzigingen aan wet- en regelgeving. Welke investeringen aan deze voorwaarde voldoen is door de ACM beoordeeld voordat deze worden opgenomen in het Tarievenvoorstel. In het Tarievenbesluit wordt dit verder toegelicht.
B10: Volgnummer t.b.v. nacalculatie | C10: Jaar opgave reguleringsdata | D10: Volgnummer rapportage in reguleringsdata | E10: Methodebesluit | F10: Tariefcategorie | G10: Activacategorie | H10: Afschrijvingstermijn | I10: Jaar begin afschrijven | J10: Maand begin afschrijven | K10: Regulatorische waarde Inclusief bouwrente (EUR) | M10: Bronverwijzing
B11: 1 | C11: 2021 | D11: 2504 | E11: Systeem | F11: EHS | G11: (Proces)automatisering | H11: 5 | I11: 2021 | J11: 5 | K11: 233283 | M11: Rekenmodule Tarievenbesluit TenneT 2026, tabblad 9
B12: 2 | C12: 2021 | D12: 2506 | E12: Systeem | F12: EHS | G12: (Proces)automatisering | H12: 5 | I12: 2021 | J12: 7 | K12: 315137.94 | M12: Rekenmodule Tarievenbesluit TenneT 2026, tabblad 9
B13: 3 | C13: 2021 | D13: 2507 | E13: Systeem | F13: EHS | G13: (Proces)automatisering | H13: 5 | I13: 2021 | J13: 7 | K13: 1933355 | M13: Rekenmodule Tarievenbesluit TenneT 2026, tabblad 9
B14: 4 | C14: 2021 | D14: 2509 | E14: Systeem | F14: EHS | G14: (Proces)automatisering | H14: 5 | I14: 2021 | J14: 9 | K14: 3189891 | M14: Rekenmodule Tarievenbesluit TenneT 2026, tabblad 9
B15: 5 | C15: 2021 | D15: 2511 | E15: Systeem | F15: EHS | G15: (Proces)automatisering | H15: 5 | I15: 2021 | J15: 11 | K15: 1170875 | M15: Rekenmodule Tarievenbesluit TenneT 2026, tabblad 9
B16: 6 | C16: 2021 | D16: 2513 | E16: Systeem | F16: EHS | G16: (Proces)automatisering | H16: 5 | I16: 2021 | J16: 12 | K16: 794948 | M16: Rekenmodule Tarievenbesluit TenneT 2026, tabblad 9
B17: 7 | C17: 2021 | D17: 2514 | E17: Systeem | F17: EHS | G17: (Proces)automatisering | H17: 5 | I17: 2021 | J17: 13 | K17: 160262.96 | M17: Rekenmodule Tarievenbesluit TenneT 2026, tabblad 9
B18: 8 | C18: 2021 | D18: 2515 | E18: Systeem | F18: EHS | G18: (Proces)automatisering | H18: 5 | I18: 2021 | J18: 13 | K18: 1199333 | M18: Rekenmodule Tarievenbesluit TenneT 2026, tabblad 9
B19: 9 | C19: 2021 | D19: 2534 | E19: Transport | F19: EHS | G19: (Proces)automatisering | H19: 5 | I19: 2021 | J19: 7 | K19: 426363.1 | M19: Rekenmodule Tarievenbesluit TenneT 2026, tabblad 9
B20: 10 | C20: 2021 | D20: 2538 | E20: Transport | F20: EHS | G20: (Proces)automatisering | H20: 5 | I20: 2021 | J20: 13 | K20: 216826.36 | M20: Rekenmodule Tarievenbesluit TenneT 2026, tabblad 9
B21: 11 | C21: 2021 | D21: 2618 | E21: Transport | F21: HS | G21: (Proces)automatisering | H21: 5 | I21: 2021 | J21: 7 | K21: 1347943 | M21: Rekenmodule Tarievenbesluit TenneT 2026, tabblad 9
B22: 12 | C22: 2021 | D22: 2622 | E22: Transport | F22: HS | G22: (Proces)automatisering | H22: 5 | I22: 2021 | J22: 13 | K22: 685494.53 | M22: Rekenmodule Tarievenbesluit TenneT 2026, tabblad 9
... B102: 102 | C102: 2025 | D102: 4090 | E102: Transport | F102: HS | G102: Computerapparatuur | H102: 5 | I102: 2025 | J102: 12 | K102: 2463533 | M102: Reguleringsdata TenneT 2025, tabblad 1D

Sheet Input (Database) -->

Sheet 13. Input desinvesteringen
B2: Tabblad 13 - Input desinvesteringen
B4: Beschrijving gegevens
B5: Op dit tabblad staan de gegevens die de ACM gebruikt voor het berekenen van de daling van de operationele kosten als gevolg van de desinvesteringen in 2021 t/m 2025.
B7: Bron
B8: Reguleringsdata TenneT 2021, tab 1B; Reguleringsdata TenneT 2022, tab 1B; Reguleringsdata TenneT 2023, tab 1B; Reguleringsdata TenneT 2024, tab 1B; Reguleringsdata TenneT 2025, tab 1B
B10: Datum inladen
B11: 46202
B13: Bewerkingen
B14: - De ACM heeft met een filter de benodigde gegevens van alle desinvesteringen opgegeven in de reguleringsdata 2021 t/m 2025 geselecteerd. - Voor een aantal investeringen was er in de database geen informatie beschikbaar over het prijspeil waarin deze investeringen zijn gerapporteerd. De ACM heeft het prijspeil van deze investeringen handmatig ingevuld op basis van de door TenneT gerapporteerde gegevens. De cellen waarvoor dit geldt zijn roze gekleurd.
B16: Volgnummer ACM | C16: Methodebesluit | D16: Tariefcategorie/fase (NOZ) | E16: SHV | F16: Activacategorie | G16: Prijspeil gerapporteerde desinvestering (jaar) | H16: Oorspronkelijk investeringsbedrag Inclusief bouwrente voor niet RCR-investeringen (EUR) | I16: Jaar desinvestering | J16: Maand desinvestering | K16: Jaar opgave reguleringsdata | M16: Opmerking
B17: 1 | C17: Transport | D17: EHS | E17: Nee | F17: GAW ultimo 2000 EHS OUD | G17: 2000 | H17: 54990 | I17: 2021 | J17: 1 | K17: 2021
B18: 2 | C18: Transport | D18: EHS | E18: Nee | F18: GAW ultimo 2000 EHS OUD | G18: 2000 | H18: 68043 | I18: 2021 | J18: 5 | K18: 2021
B19: 3 | C19: Transport | D19: EHS | E19: Nee | F19: GAW ultimo 2000 EHS OUD | G19: 2000 | H19: 1781 | I19: 2021 | J19: 6 | K19: 2021
B20: 4 | C20: Transport | D20: EHS | E20: Nee | F20: GAW ultimo 2000 EHS OUD | G20: 2000 | H20: 205399 | I20: 2021 | J20: 7 | K20: 2021
B21: 5 | C21: Transport | D21: EHS | E21: Nee | F21: GAW ultimo 2000 EHS OUD | G21: 2000 | H21: 147410 | I21: 2021 | J21: 10 | K21: 2021
B22: 6 | C22: Transport | D22: EHS | E22: Nee | F22: GAW ultimo 2000 EHS OUD | G22: 2000 | H22: 5854 | I22: 2021 | J22: 11 | K22: 2021
B23: 7 | C23: Transport | D23: EHS | E23: Nee | F23: GAW ultimo 2000 EHS OUD | G23: 2000 | H23: 27637 | I23: 2021 | J23: 12 | K23: 2021
B24: 8 | C24: Transport | D24: HS | E24: Nee | F24: GAW ultimo 2000 Delta | G24: 2008 | H24: 857116 | I24: 2021 | J24: 6 | K24: 2021
B25: 9 | C25: Transport | D25: HS | E25: Nee | F25: GAW ultimo 2000 Delta | G25: 2008 | H25: 12498 | I25: 2021 | J25: 7 | K25: 2021
B26: 10 | C26: Transport | D26: HS | E26: Nee | F26: GAW ultimo 2000 Delta | G26: 2008 | H26: 98253 | I26: 2021 | J26: 10 | K26: 2021
B27: 11 | C27: Transport | D27: HS | E27: Nee | F27: GAW ultimo 2000 Enexis | G27: 2008 | H27: 305457 | I27: 2021 | J27: 1 | K27: 2021
B28: 12 | C28: Transport | D28: HS | E28: Nee | F28: GAW ultimo 2000 Enexis | G28: 2008 | H28: 7561 | I28: 2021 | J28: 2 | K28: 2021
... B427: 411 | C427: Transport | D427: HS | E427: Nee | F427: Hoogspanningskabels | G427: 2014 | H427: 14 | I427: 2025 | J427: 7 | K427: 2025

Sheet 14. Realisaties IKE&V
B2: Tabblad 14 - Realisaties inkoopkosten energie en vermogen
B4: Beschrijving gegevens
B5: Op dit blad worden de gerealiseerde inkoopkosten energie en vermogen uit de reguleringsdata database opgehaald. Deze inputgegevens worden gebruikt bij de nacalculatie inkoopkosten energie en vermogen.
B7: Bron
B8: Reguleringsdata TenneT 2018, tab 2B; Reguleringsdata TenneT 2019, tab 2B; Reguleringsdata TenneT 2020, tab 2B; Reguleringsdata TenneT 2022, tab 2B; Reguleringsdata TenneT 2023, tab 2B; Reguleringsdata TenneT 2024 tab 2B; Reguleringsdata 2025 2B
B10: Datum inladen
B11: 46247
B13: Bewerkingen
B14: De ACM heeft met een filter de benodigde gegevens voor de gerealiseerde inkoopkosten energie en vermogen opgegeven in de reguleringsdata 2018, 2019, 2020, 2022, 2023, 2024 en 2025 geselecteerd. Voor de kostencategorieën Netverliezen, Blindvermogen betrekken, Regel- en reservevermogen, Noodvermogen, Primaire reserve en Herstelvoorzieningen laadt de ACM de in de reguleringsdata opgegeven waarde Totaal inclusief sancties in vanuit de database. Op de kostencategorie Oplossen transportbeperkingen zijn geen sancties van toepassing. Voor deze categorie laadt de ACM daarom de waarde Totaal in vanuit de database.
B16: Jaar | C16: Methodebesluit | D16: Segment | E16: Categorie | F16: Waarde | H16: Opmerkingen
B17: 2018 | C17: Transport | D17: EHS | E17: Netverliezen
B18: 2018 | C18: Transport | D18: EHS | E18: Blindvermogen betrekken
B19: 2018 | C19: Transport | D19: EHS | E19: Oplossen transportbeperkingen
B20: 2018 | C20: Transport | D20: HS | E20: Netverliezen
B21: 2018 | C21: Transport | D21: HS | E21: Blindvermogen betrekken
B22: 2018 | C22: Transport | D22: HS | E22: Oplossen transportbeperkingen
B23: 2018 | C23: Systeem | D23: EHS | E23: Regel- en reservevermogen
B24: 2018 | C24: Systeem | D24: EHS | E24: Noodvermogen
B25: 2018 | C25: Systeem | D25: EHS | E25: Primaire reserve
B26: 2018 | C26: Systeem | D26: EHS | E26: Herstelvoorzieningen
B27: 2019 | C27: Transport | D27: EHS | E27: Netverliezen
B28: 2019 | C28: Transport | D28: EHS | E28: Blindvermogen betrekken
... B96: 2025 | C96: Transport | D96: EHS | E96: Blindvermogen betrekken

Sheet 15. Realisaties IKTNN
B2: Tabblad 15 - Inkoopkosten transport naastgelegen netten
B4: Beschrijving gegevens
B5: Op dit blad worden de gerealiseerd inkoopkosten transport naastgelegen netten uit de database opgehaald. Dit omvat de inkoopkosten transport bij regionale netbeheerder(s) en de Inter-TSO compensation.
B7: Bron
B8: Reguleringsdata 2018, tab 2A; Reguleringsdata 2019, tab 2A; Reguleringsdata 2020, tab 2A; Reguleringsdata 2022, tab 2A; Reguleringsdata 2023, tab 2A; Reguleringsdata 2024, tab 2A; Reguleringsdata 2025, tab 2A
B10: Datum inladen
B11: 46202
B13: Bewerkingen
B14: De ACM heeft met een filter de benodigde gegevens voor de gerealiseerde inkoopkosten transport naastgelegen netten opgegeven in de reguleringsdata 2018, 2019, 2020, 2023, 2024 en 2025 geselecteerd.
B16: Jaar | C16: Subcategorie | D16: EHS - Directe OPEX | E16: HS - Directe OPEX | K16: Opmerkingen
B17: 2018 | C17: Kosten Cross Border Trade | D17: -10082448
B18: 2018 | C18: Inkoop transport bij regionale netbeheerders | E18: 21124303
B19: 2019 | C19: Kosten Cross Border Trade | D19: -8352546.3
B20: 2019 | C20: Inkoop transport bij regionale netbeheerders | E20: 20364643
B21: 2020 | C21: Kosten Cross Border Trade | D21: -10170981
B22: 2020 | C22: Inkoop transport bij regionale netbeheerders | E22: 20963011
B23: 2021 | C23: Kosten Cross Border Trade | D23: -9317723.5
B24: 2021 | C24: Inkoop transport bij regionale netbeheerders | E24: 21238517
B25: 2022 | C25: Kosten Cross Border Trade | D25: 1914991.2
