Workbook

Sheet Cover sheet
B2: Cover sheet
B13: About this file
B15: Case number | C15: ACM/23/181658
B16: File title | C16: Calculation production price ContourGlobal Bonaire 2025
B17: Subtitle | C17: Production price electricity CGB 2025
B18: Belongs to decision(s): | C18: ACM/UIT/625925
B19: Relationship to other calculation files | C19: The file 'Calculation production price 2023 after WACC adjustment' is an input to this file.
B20: Other remarks
B22: This calculation is developed in the standardized format used by the Energy Department of ACM (based on version 5, june 2021)
B24: About the status of this file
B26: Final version? (y/n) | C26: Yes
B27: When final, will this file be published? | C27: Yes
B28: When published, date of this file: | C28: (around) 19 December 2024
B29: Is this file legally part of the decision(s) listed above? (y/n) | C29: Yes
B30: When published, doe this file contain business-confidential information? (y/n) | C30: Information that is regarded as business confidential has been removed in this public version of the calculation file. The deleted data is flagged/explained in pink cell formatting.
B31: Other remarks | C31: This is a public version of the calculation file, published at acm.nl in December 2024.
B33: Objections and appeals can be filed against the decision to which this file belongs.
B36: Disclaimer
B38: If there are any substantive differences between the calculation in this file and the calculation that follows from the relevant decision, the decision's calculation is authentic.
B44: [ END OF SHEET ]

Sheet Explanation
B2: Explanatory notes to this file
B5: Explanation about how this file works
B7: This document contains the calculation of the production price for electricity of ContourGlobal B.V for 2025. The production price is based on an estimation of the cost of ContourGlobal in 2025 and several corrections (including profit sharing results) over 2023.
B8: ACM estimates the cost of 2025 with the cost of 2023 as can be found in the annual account of ContourGlobal and other relevant information, for instance on major occurrences.
B9: Every sheet contains specific information on the calculation made and explanatory notes on details and exemptions.
B12: Legend for the cell and sheet colors
B14: Cell colors (for numbers) | D14: Description
B16: 123 | D16: Data and input (source required)
B17: =B16 -> 123 | D17: Value that is taken from another sheet or cell without calculation
B18: =B17+B16 -> 246 | D18: Calculated value
B19: =B17+B18 -> 369 | D19: Result/calculated value that is used in another sheet
D20: Empty cell (not zero) used in a formula range
B22: Special attention:
B23: =B19+16 -> 385 | D23: Value or calculation that needs special attention or explanation
B25: Sheet tab colors
B27: Model sheets
B28: Result | D28: Sheet with result/output
B29: Data | D29: Sheet with input
B30: Calculation | D30: Sheet with calculations
B32: Explanatory sheets
B33: Input --> | D33: Empty sheet used for indexing
B34: Explanation | D34: Standardized sheets with general information abouyt this file
B42: [ END OF SHEET ]

Sheet Sources and specifics
B2: Source overview and specific applications
B5: Source overview
B7: in the overview below, ACM lists the sources that are used for data and calculations in this file.
B8: Each input sheet contains a column 'Source', in which the sources are referred to by their shortened name. These sources are further explained in the table below.
B10: No. | C10: Shortened name | D10: ACM case number and/or reference | E10: Additional information about this source
C11: As referred to in Source column | D11: If applicable | E11: Date received, email, URL, file location
B12: 1 | C12: CBS data on CPI | E12: https://opendata.cbs.nl/statline/#/CBS/nl/dataset/84046NED/table?ts=1571909504894
B13: 2 | C13: Wettelijke rente CNL | E13: https://wetten.overheid.nl/BWBR0030649/2011-11-18
B14: 3 | C14: WACC Decision on 2023-2025 (original decision) | E14: https://www.acm.nl/nl/publicaties/wacc-elektriciteit-en-drinkwater-caribisch-nederland-2023-2025
B15: 4 | C15: Recalculated WACC 2023 | D15: ACM/INT/516489
B16: 5 | C16: Calculation production price for CGB 2023 | E16: Beschikking productieprijs elektriciteit 2023 Bonaire ContourGlobal | ACM.nl
B17: 6 | C17: Calculation production price CGB 2023 after WACC adjustment | D17: ACM/INT/516491
B18: 7 | C18: Report on the annual accounts 2023 | D18: ACM/IN/866896 | E18: Received on 29 April 2024
B19: 8 | C19: Information request 2023, question 1 to 5 | D19: ACM/INT/471293 | E19: Received on 26 May 2023
B20: 9 | C20: Information request 2023, question 10 to 17 | D20: ACM/IN/816901 and ACM/IN/818704 | E20: Received on 26 October 2023 and 3 November 2023
B21: 10 | C21: Information request 2024, question 1 to 5 | D21: ACM/IN/873092 and ACM/IN/876759 | E21: Received on 22 May 2024 and 3 June 2024
B22: 11 | C22: Information request 2024, question 6 to 9 | D22: ACM/IN/903319 | E22: Received on 22 August 2024
B23: 12 | C23: Information request 2024, question 10 to 16 | D23: ACM/IN/927322 | E23: Received on 8 November 2024
B24: 13 | C24: Details on 2025 Capex and Opex Investments | D24: ACM/IN/929924 | E24: Received on 19 November 2024
B25: 14 | C25: Details on 2025 Capex and Opex Investments, part 2 | D25: ACM/IN/934224 | E25: Received on 27 November 2024
B26: 15 | C26: LSD price 15 November 2024 | D26: ACM/IN/930987 | E26: Received on 20 November 2024
B29: Explanation of the use of specific Excel-applications and other details
B31: In its calculation files, ACM seeks to use simple and easy-to-follow calculations as much as possible, and seeks to avoid the use of complex formulas or specific applications.
B32: If ACM does use cell or range references, macros, or other more complex functions in Excel, these will be explained on this sheet.
B38: [ END OF SHEET ]

Sheet Production price 2025
B2: Result: calculation of production price 2025
B4: Description result
B5: On this sheet the production price of ContourGlobal is calculated for 2025, consisting of the non-fuel part, which covers all costs excluding fuel, and the fuel component that applies for January 2025.
B6: The ACM also included the amount of variable costs, as this is information that will be used in the profit sharing calculation over 2025 (expected in tariffs for 2027).
B9: Description | F9: Unit | H9: Constant | J9: Remark
B12: Calculation production price 2025
B14: Calculation production price
B15: Total income level for 2025, after corrections | F15: USD, price level 2025 | H15: ='Total income 2025'!H76 -> 24177994
B16: Total estimated production volume | F16: kWh | H16: ='Total income 2025'!H46 -> 1.8618323e+08
B17: Production price 2025 excl. fuel component (not rounded) | F17: USD, pl 2025 / kWh | H17: =H15/H16 -> 0.12986128
B18: Production price 2025 excl. fuel component (rounded to 5 decimals) | F18: USD, pl 2025 / kWh | H18: =ROUND(H17,5) -> 0.12986 | J18: This is the production price set in the Dictum
B20: Fuel component (for January 2025) | F20: USD, pl 2025 / kWh | H20: ='Total income 2025'!H87 -> 0.16867161 | J20: This fuel component is not rounded (as it is not set in the Dictum, but follows from the formula)
B22: Production price CGB 2025 (based on fuel component for January 2025) | F22: USD, pl 2025 / kWh | H22: =H18+H20 -> 0.29853161
B23: Production price CGB 2025 (used in usage tariff decision for WEB 2025) | F23: USD, pl 2025 / kWh | H23: =ROUND(H22,5) -> 0.29853 | J23: This production price is rounded to 5 decimals as this is used in the tariff calculation for WEB.
B26: Other relevant information
B27: Total estimated costs for 2025 | F27: USD, price level 2025 | H27: ='Total income 2025'!H80 -> 20409109 | J27: Note: this figure is only relevant for profit sharing over 2025
B28: Costs considered as variable in the cost estimation for 2025 | F28: USD, price level 2025 | H28: ='Total income 2025'!H81 -> 1031357.2 | J28: Note: this figure is only relevant for profit sharing over 2025
B32: [ END OF SHEET ]

Sheet Dictum and Appendix
C2: Dictum and Appendix 1 Tariff Decision: tariffs and key figures Electricity
C4: Description
C5: On this sheet all the relevant information to include in the appendix of the decision on the tariffs of 2025 is shown.
C9: Dictum | D9: Unit | E9: Constant
C11: Production price electricity excl. fuel 2025 | D11: USD, price level 2025 | E11: ='Production price 2025'!H18 -> 0.12986
C15: Key figures production price decision - Electricity CG Bonaire 2025
C17: Please note that all numbers are displayed in Dutch decimal system
C20: General parameters
C21: Recalculated WACC 2023 | D21: % | E21: =Parameters!H29 -> 0.0823
C22: WACC 2025 | D22: % | E22: =Parameters!H31 -> 0.0645
C23: Estimated inflation 2024 for Bonaire | D23: % | E23: =Parameters!H18 -> 0.019
C24: Estimated inflation 2025 for Bonaire | D24: % | E24: =Parameters!H19 -> 0.025
C25: Legal fixed interest rate (2020 - 2025) | D25: % | E25: =Parameters!H24 -> 0.03
C26: Profit sharing percentage | D26: % | E26: =Parameters!H36 -> 0.5
C28: Summary of cost data 2023 / 2025
C29: Estimation of RAB average/ultimo 2025 (existing assets) | D29: USD | E29: 41010319
C30: Estimated depreciation in 2025 (existing assets) | D30: USD | E30: 4890973.5
C31: Regular OPEX realized in 2023 | D31: USD, price level 2023 | E31: ='Est. and realized costs 2023'!H39 -> 9021811
C33: Total expected costs for 2025 (for setting income level)
C34: Total OPEX estimation regular | D34: USD, price level 2025 | E34: ='Total income 2025'!H58 -> 9375974.2
C35: Additional OPEX estimation | D35: USD, price level 2025 | E35: confidential
C36: Total CAPEX estimation existing assets | D36: USD, price level 2025 | E36: =SUM('Calculation RAB'!H402,'Calculation RAB'!H407,'Calculation RAB'!H412,'Calculation RAB'!H417) -> 7476656.8
C37: CAPEX estimated in 2025 for part 5 of RAB | D37: USD, price level 2025 | E37: ='Calculation RAB'!H422 -> 1853506.8
C38: CAPEX estimated in 2025 for part 6 of RAB | D38: USD, price level 2025 | E38: ='Calculation RAB'!H427 -> 506109.78
C39: Total expected costs 2025 (= income level 2025 before corrections) | D39: USD, price level 2025 | E39: ='Total income 2025'!H63 -> 21287009
C41: (Regular) Corrections reimbursed in production price 2025
C42: Volume effect over 2023 (excl. fuel) | D42: USD, price level 2023 | E42: ='Volume and PS corrections 2023'!H42 -> -1314020.7
C43: Profit sharing effect over 2023 | D43: USD, price level 2023 | E43: ='Volume and PS corrections 2023'!H60 -> -201679.46
C44: Fuel cost correction over 2023 | D44: USD, price level 2023 | E44: ='Fuel costs and income 2023'!H49 -> 3037794.2
C45: Correction capital costs 2023 after adjustment to WACC and share BBT | D45: USD, price level 2023 | E45: ='Est. and realized costs 2023'!H47 -> 1202936.6
C47: Parameters on production
C48: Expected production by wind in 2025 | D48: kWh | E48: ='Est. production and costs 2025'!H14 -> 36500000
C49: Expected production by solar in 2025 | D49: kWh | E49: ='Est. production and costs 2025'!H15 -> 8856000
C50: Expected production by fuel in 2025 | D50: kWh | E50: ='Est. production and costs 2025'!H13 -> 1.4082723e+08
C51: Total net production in 2025 | D51: kWh | E51: =SUM(E48:E50) -> 1.8618323e+08
C52: Estimated LSD fuel yield for 2025 | D52: liter / kWh | E52: ='Fuel costs and income 2023'!H25 -> 0.27072405
C53: Estimated share of fuel production in total net production for 2025 | D53: % | E53: ='Total income 2025'!H48 -> 0.75639052
C54: LSD Price used for fuel component January 2025 | D54: USD / liter | E54: ='Est. production and costs 2025'!H19 -> 0.8237
C55: Fuel component in production price (January 2025) | D55: USD, price level 2025 / kWh | E55: ='Production price 2025'!H20 -> 0.16867161
C56: Production price electricity January 2025 incl. fuel | D56: USD, price level 2025 / kWh | E56: ='Production price 2025'!H23 -> 0.29853
...

Sheet Input -->
B2: This sheet seperates different types of sheets and is intentially left blank
B3: No texts, data or calculations may be included on this sheet

Sheet Parameters
B2: Parameters
B4: Description data
B5: This sheet shows the CPI, legal fixed interest rate and WACC used. Also, input for profit sharing is included.
B7: Explanatory notes
B8: The development of the CPI of Q3 year T and Q3 year T-1 will be used as the estimated inflation for the year T+1. The estimated inflation is rounded to one decimal.
B9: See Source overview for URL to relevant tables by CBS: CPI gegevens CBS (2017 = 100).
B11: Last update input CBS: 23 October 2024
B13: Description | F13: Unit | H13: Constant | J13: Source | L13: Remarks
B16: CPI for Bonaire
B18: Estimated inflation 2024 | F18: % | H18: 0.019 | J18: CPI data CBS (2017=100)
B19: Estimated inflation 2025 | F19: % | H19: 0.025
B22: Interest rate for time-value of tariff corrections
B24: Wettelijke rente CNL ('legal fixed interest rate') | F24: % | H24: 0.03 | J24: Wettelijke rente CNL
B27: WACC for electricity production only
B29: Adjusted WACC 2023 | F29: % | H29: 0.0823 | J29: Recalculation WACC 2023 | L29: The ACM uses the adjusted WACC 2023 to calculate realized capital costs in 2023 which are included in the profit sharing calculation.
B31: WACC 2025 | F31: % | H31: 0.0645 | J31: WACC Decision 2023-2025 (original decision) | L31: The ACM uses the WACC 2025 to calculate the estimated capital costs for 2025.
B34: Profit sharing parameter
B36: Profit sharing parameter | F36: % | H36: 0.5 | L36: Based on choice in method decision
B41: [ END OF SHEET ]

Sheet Est. and realized costs 2023
B2: Data on cost estimation for 2023 and realized costs of 2023
B4: Description data
B5: The first part of this sheet concerns the cost data that were used for setting the tariff for 2023. These were mainly based on the 2021 realizations.
B6: Then the realized costs of 2023 are presented. The source of the cost data is the annual account of 2023 plus additional data from CGB. The source of the production data is an information request by ACM to ContourGlobal.
B8: Explanatory notes
B9: For the realized operational costs, the CPI is used to translate costs over years, as these are expected to develop with CPI. So price level is always mentioned in the Unit column.
B10: For the realized capital costs, ACM will not apply CPI to the RAB level of investments to translate depreciation costs or costs of capital over years. By using a nominal WACC, ContourGlobal is fully compensated for costs of inflation on the invested assets. As the RAB is not indexed, depreciation levels are constant over time, and do not need to be indexed with CPI.
B11: On June 7 of 2023, ContourGlobal lost the MAN12 engine due to a fire incident. ContourGlobal included a one time write-off in the operational expenses for 2023, but as ACM intends to keep the engine in the RAB, ACM subtracts the write-off from the operational expenses to not inflate the cost base for the realized costs in 2023 and the estimated costs in 2025. The same holds for the operating expenses related to the replacement engine, since these costs are fully covered by insurance.
B12: As of the production price decision for 2025, ACM applies a regulator correction to the estimated capital costs in year t-2 as a result of the recalculation of the risk-free rate in the WACC for 2023-2025 (see WACC decision 2023-2025). In addition, the capital costs in 2023 have been underestimated based on the expectation that BBT would acquire a 50% share in the BESS and PV project at the time of COD. The effect of both corrections will be added to the total income for 2025.
B14: Description | F14: Unit | H14: Constant | J14: Source | L14: Remarks
B17: Cost estimation 2023
B19: Cost estimation for tariff 2023 before WACC adjustment
B20: Total estimated cost level 2023 | F20: USD, pl 2023 | H20: 17052598 | J20: Calculation production price for CGB 2023, sheet 'production price 2023', cell H27
B21: OPEX considered as variable (as part of the total costs of 2023) | F21: USD, pl 2023 | H21: 997749.37 | J21: Calculation production price for CGB 2023, sheet 'production price 2023', cell H28
B23: Cost estimation for tariff 2023 after WACC adjustment
B24: Total estimated cost level 2023 | F24: USD, pl 2023 | H24: 18255534 | J24: Calculation production price CGB 2023 after WACC adjustment, sheet 'production price 2023', cell H27
B26: Other relevant information
B27: Estimated production volume for 2023 | F27: kWh | H27: 139967600 | J27: Calculation production price CGB for 2023, sheet 'Est. production and costs 2023', cell H18
B30: Realized costs 2023: Operational costs
B32: Regular OPEX (excl. fuel)
B33: Personnel expenses | F33: USD, pl 2023 | H33: confidential | J33: Report on the annual accounts 2023
B34: Other operating expenses | F34: USD, pl 2023 | H34: confidential | J34: Report on the annual accounts 2023
B35: Non-variable fuel costs | F35: USD, pl 2023 | H35: confidential | J35: Report on the annual accounts 2023
B36: Vehicle and land leases | F36: USD, pl 2023 | H36: confidential | J36: Details on 2025 Capex and Opex Investments, part 2 | L36: These costs are presented outside of operational costs in the audited financial statements of CGB, so ACM adds these separately.
B37: Write-off damaged MAN12 engine due to fire incident | F37: USD, pl 2023 | H37: confidential | J37: Information request 2024, answer to question 15c and 15d | L37: These costs are deducted from the regular OPEX to avoid inflating the cost base for 2025 and the profit sharing.
B38: New MAN12 operating and maintenance expenses | F38: USD, pl 2023 | H38: confidential | J38: Information request 2024, answer to question 15b and 15d | L38: These costs are deducted from the regular OPEX to avoid inflating the cost base for 2025 and the profit sharing.
B39: Total regular OPEX | F39: USD, pl 2023 | H39: 9021811
B41: Specific cost categories
B42: Penalties and late fees | F42: USD, pl 2023 | H42: 45077 | J42: Information request 2024, answer to question 6c
B45: Realized costs 2023: Capital cotss
B47: Correction capital costs 2023 after adjustment to WACC 2023 and share BBT | F47: USD, pl 2023 | H47: 1202936.6 | J47: Calculation capital costs 2023 after adjusted WACC, sheet 'production price 2023', cell J15
B50: Realized costs 2023: Asset base
B52: Part 1: RAB power plant (initial investment)
B54: Initial costs power plant (value 20 Aug 2010) | F54: USD | H54: 61734000 | J54: Sources: see production price calculation for 2024
B55: Transaction costs financing | F55: USD | H55: 860000
B56: Residual value power plant (value 20 Aug 2025) | F56: USD | H56: 18696000
B57: PPA period in years | F57: Years | H57: 15
B59: Initial investment date | F59: date | H59: 40410 | J59: Sources: see production price calculation for 2024
B60: Yearly depreciation | F60: USD | H60: 2811866.7
B61: Full depreciation period | F61: years | H61: =(H54-H55)/H60 -> 21.648964
...

Sheet Production and fuel costs 2023
B2: Realized production levels and fuel costs 2023
B4: Description data
B5: On this sheet all relevant data on fuel use, fuel prices and invoiced income are presented. The data are used to calculate the fuel correction over 2023, which compensates for differences in fuel prices, volumes used and realized yield (see sheet 'fuel correction 2023').
B7: Explanatory notes
B8: All production volumes are net volumes.
B9: In earlier decisions and calculations the new fuel type for CGB was named 'LFO', which is incorrect. The actual fuel type is 'LSD' (Low Sulpher Diesel).
B12: Description | F12: Unit | H12: Constant | J12: Row total | L12: Year: Month: | N12: 2023 January | O12: 2023 February | P12: 2023 March | Q12: 2023 April | R12: 2023 May | S12: 2023 June | T12: 2023 July | U12: 2023 August | V12: 2023 September | W12: 2023 October | X12: 2023 November | Y12: 2023 December | AA12: Source | AC12: Remarks
B15: Data on fuel and production 2023
B17: LSD fuel data
B18: Weighted average purchasing price | F18: USD / liter | N18: confidential | O18: confidential | P18: confidential | Q18: confidential | R18: confidential | S18: confidential | T18: confidential | U18: confidential | V18: confidential | W18: confidential | X18: confidential | Y18: confidential | AA18: Information request 2024, answer to question 3b
B19: Fuel volume consumed for production | F19: liter | N19: confidential | O19: confidential | P19: confidential | Q19: confidential | R19: confidential | S19: confidential | T19: confidential | U19: confidential | V19: confidential | W19: confidential | X19: confidential | Y19: confidential | AA19: Information request 2024, answer to question 1h
B21: Production volumes
B22: Total net production with generators (fuel) | F22: kWh | J22: =SUM(N22:Y22) -> 122237790 | N22: 9235870 | O22: 7905090 | P22: 9005080 | Q22: 9155290 | R22: 9433690 | S22: 10120610 | T22: 9985660 | U22: 11323240 | V22: 11376690 | W22: 12907760 | X22: 11063900 | Y22: 10724910 | AA22: Information request 2024, answer to question 1b | AC22: Total net production over all gensets and fuel types
B23: Total net production by renewable sources | F23: kWh | J23: =SUM(N23:Y23) -> 29185560 | N23: 1469820 | O23: 1933760 | P23: 2308120 | Q23: 2141190 | R23: 3419960 | S23: 3111730 | T23: 3160490 | U23: 2806990 | V23: 2855720 | W23: 1744400 | X23: 2024700 | Y23: 2208680 | AA23: Information request 2024, answer to question 1d and 1f | AC23: Production from windfarm plus Sorobon and from PV park
B25: Total production | F25: kWh | J25: =SUM(N25:Y25) -> 151423350 | N25: =N22+N23 -> 10705690 | O25: =O22+O23 -> 9838850 | P25: =P22+P23 -> 11313200 | Q25: =Q22+Q23 -> 11296480 | R25: =R22+R23 -> 12853650 | S25: =S22+S23 -> 13232340 | T25: =T22+T23 -> 13146150 | U25: =U22+U23 -> 14130230 | ... Y25: =Y22+Y23 -> 12933590
B28: Data on income from production price 2023
B30: Information from monthly invoice to WEB
B31: Production price as calculated by CGB | F31: USD / kWh | N31: confidential | O31: confidential | P31: confidential | Q31: confidential | R31: confidential | S31: confidential | T31: confidential | U31: confidential | V31: confidential | W31: confidential | X31: confidential | Y31: confidential
B32: Volume sold to WEB | F32: kWh | N32: confidential | O32: confidential | P32: confidential | Q32: confidential | R32: confidential | S32: confidential | T32: confidential | U32: confidential | V32: confidential | W32: confidential | X32: confidential | Y32: confidential
N33: Source | O33: Source | P33: Source | Q33: Source | R33: Source | S33: Source | T33: Source | U33: Source | V33: Source | W33: Source | X33: Source | Y33: Source
N34: [8] | O34: [8] | P34: [8] | Q34: [8] | R34: [9] | S34: [9] | T34: [9] | U34: [9] | V34: [9] | W34: [9] | X34: [10] | Y34: [10]
N35: question 2 | O35: question 2 | P35: question 2 | Q35: question 2 | R35: question 10a | S35: question 10a | T35: question 10a | U35: question 10a | V35: question 10a | W35: question 10b | X35: question 2 | Y35: question 2
B37: Parameters of production price decision for 2023
B38: Production price excluding fuel component | F38: USD / kWh | H38: 0.13636 | AA38: Production price CGB for 2023, sheet 'production price 2023'
B44: [ END OF SHEET ]

Sheet Est. production and costs 2025
B2: Estimated production and cost developments for 2025
B4: Description data
B5: On this sheet ACM presents the relevant data that is taken into account when estimating the production and costs for 2025: volumes and LSD price for production, and additional costs related to major occurrences.
B8: Description | F8: Unit | H8: Constant | J8: Source | L8: Remarks
B10: Estimated production amounts 2025 and fuel information
B12: Estimated production for 2025
B13: Production by fuel | F13: kWh | H13: 1.4082723e+08 | J13: Information request 2025, answer to question 13 | L13: This is net production; fuel production calculated as difference between total demand and estimated renewable production.
B14: Production by wind | F14: kWh | H14: 36500000 | J14: Information request 2025, answer to question 13
B15: Production by solar | F15: kWh | H15: 8856000 | J15: Information request 2025, answer to question 13
B16: Total amount of renewables production by ContourGlobal in 2025 | F16: kWh | H16: =H14+H15 -> 45356000
B17: Total amount of production by ContourGlobal in 2025 | F17: kWh | H17: =H13+H14+H15 -> 1.8618323e+08
B19: LSD price (November 2025) | F19: USD / liter | H19: 0.8237 | J19: LSD price 15 November 2024
B22: Cost estimations for major occurrences in 2025
B24: Additional CAPEX 2025
B26: Investments with expected COD in 2024
B28: Spare parts and special tools for the BESS
B29: Total investment | F29: USD | H29: confidential | J29: Information request 2024, answer to question 14
B30: Depreciation period | F30: years | H30: confidential | L30: The depreciation period is calculated such that the spare parts are fully depreciated when the BESS project is fully depreciated (1 April 2038).
B31: Commercial operation date | F31: date | H31: confidential | L31: CGB has reported that this investment will have a COD in December 2024, but given that the depreciation period is linked to the BESS project, ACM chooses not to adjust the COD.
B33: Investment in 6 MW peakers
B34: Total investment | F34: USD | H34: confidential | J34: Information request 2024, answer to question 14 | L34: Estimated investment amount increased significantly compared to estimation for 2024
B35: Additional investment - Infrastructure, BOP improvements and equipment | F35: USD | H35: confidential | J35: Details on 2025 CAPEX and OPEX investments, part 2
B36: Total investment (incl. additional investment) | H36: =H34+H35 -> #VALUE!
B37: Depreciation period | F37: years | H37: confidential
B38: Commercial operation date | F38: date | H38: confidential
B40: 30 kV project
B41: Total investment | F41: USD | H41: confidential | J41: Information request 2024, answer to question 14
B42: Depreciation period | F42: years | H42: confidential
B43: Commercial operation date | F43: date | H43: confidential | L43: Expected COD changed from 2024 to 2025
B45: Investments with expected COD in 2025
B47: Infrastructure, BOP improvements and equipment - part 1: RAB power plant (initial investment)
B48: Total investment | F48: USD | H48: confidential | J48: Details on 2025 CAPEX and OPEX investments, part 2
B49: Depreciation period | F49: years | H49: ='Est. and realized costs 2023'!H64 -> #VALUE!
B50: Commercial operation date | F50: date | H50: ='Est. and realized costs 2023'!H63 -> confidential
B52: Generator maintenance Q1 - part 1: RAB power plant (initial investment)
B53: Total investment | F53: USD | H53: confidential | J53: Details on 2025 CAPEX and OPEX investments, part 2
B54: Depreciation period | F54: years | H54: ='Est. and realized costs 2023'!H64 -> #VALUE!
B55: Commercial operation date | F55: date | H55: ='Est. and realized costs 2023'!H63 -> confidential
B57: Generator maintenance Q1 - part 3: extra HFO generators
B58: Total investment | F58: USD | H58: confidential | J58: Details on 2025 CAPEX and OPEX investments, part 2
...

Sheet Calculations -->
B2: This sheet seperates different types of sheets and is intentially left blank
B3: No texts, data or calculations may be included on this sheet

Sheet Calculation RAB
B2: RAB calculation 2023 / 2025
B4: Description calculation
B5: This RAB calculation follows the choices made in earlier decisions and calculations for CGB. The RAB and depreciation levels lead to a capital cost calculation over 2023 and an estimation for 2025, at the bottom of this sheet.
B6: In addition to parts 1 - 4 of the RAB, which are similar to the decision for 2023, ACM includes in this RAB calculation the preliminary calculation of the investments belonging to part 5 and 6 of the RAB, as these are accepted as major occurrences in 2024 and 2025, respectively.
B8: Explanantory notes
B9: As in the tariff decisions for earlier years, ACM still uses the assumption of 'continuous replacement' for the assets in part 2 of the asset base (estimation based on ultimo T-2 value); the capital costs of the other parts of the RAB are estimated using the 'medio forward-looking value' (which proofs to be very precise, as this reflects the actual costs in year T).
B10: This approach holds for both the profit sharing over 2023 and the cost estimation that we make for the year 2025.
B11: For part 5 and 6 of the RAB, we calculate the RAB and depreciation based on the expected Commercial operation date. In later years this calculation may be adjusted based on actual/realized amounts and COD.
B14: Description | F14: Unit | H14: Constant | J14: Remarks
B17: Data on RAB
B19: Recalculated WACC 2023 | F19: % | H19: =Parameters!H29 -> 0.0823
B20: WACC 2025 | F20: % | H20: =Parameters!H31 -> 0.0645
B23: Part 1: RAB power plant (initial investment)
B25: Initial costs power plant (value 20 Aug 2010) | F25: USD | H25: ='Est. and realized costs 2023'!H54 -> 61734000
B26: Transaction costs financing | F26: USD | H26: ='Est. and realized costs 2023'!H55 -> 860000
B27: Residual value power plant (value 20 Aug 2025) | F27: USD | H27: ='Est. and realized costs 2023'!H56 -> 18696000
B28: PPA period in years | F28: Years | H28: ='Est. and realized costs 2023'!H57 -> 15
B31: Part 2: yearly investments (regular add-ons)
B33: RAB investments 2016
B34: Office
B35: Investment | F35: USD | H35: ='Est. and realized costs 2023'!H75 -> 773908
B36: Depreciation period | F36: years | H36: ='Est. and realized costs 2023'!H76 -> 9.25
B37: Investment date | F37: date | H37: ='Est. and realized costs 2023'!H77 -> 42491
B39: Software
B40: Investment | F40: USD | H40: ='Est. and realized costs 2023'!H80 -> 59734
B41: Depreciation period | F41: years | H41: ='Est. and realized costs 2023'!H81 -> 5
B42: Investment date | F42: date | H42: ='Est. and realized costs 2023'!H82 -> 42538
B44: Computer equipment is left out, as it is fully depreciated
B47: RAB investments 2017
B48: Software
B49: Investment | F49: USD | H49: ='Est. and realized costs 2023'!H87 -> 6000
B50: Depreciation period | F50: years | H50: ='Est. and realized costs 2023'!H88 -> 5
B51: Investment date | F51: date | H51: ='Est. and realized costs 2023'!H89 -> 42751
B53: Software
B54: Investment | F54: USD | H54: ='Est. and realized costs 2023'!H92 -> 4000
B55: Depreciation period | F55: years | H55: ='Est. and realized costs 2023'!H93 -> 5
B56: Investment date | F56: date | H56: ='Est. and realized costs 2023'!H94 -> 43050
B59: RAB investments 2018
B60: Software / computer equipment
B61: Investment | F61: USD | H61: ='Est. and realized costs 2023'!H99 -> 7636
...

Sheet Fuel costs and income 2023
B2: Costs of fuel and income from fuel component 2023
B4: Description calculation
B5: On this sheet the fuel correction over 2023 is calculated. This fuel correction reflects the difference between the monthly income from the fuel component in 2023 and the actual monthly fuel costs in 2023.
B6: This correction reimburses the positive and negative effects of differences in 1) monthly production needed (based on island demand and production by WEB), 2) availability of renewable sources (i.e. wind), 3) realized production mix between HFO and LSD (not applicable for 2023),
B7: 4) realized fuel yields of LSD (compared to assumed fuel yield), 5) actual monthly fuel prices (compared to fuel component on T-2 basis).
B10: Description | F10: Unit | H10: Constant | L10: Year: Month: | N10: 2023 January | O10: 2023 February | P10: 2023 March | Q10: 2023 April | R10: 2023 May | S10: 2023 June | T10: 2023 July | U10: 2023 August | V10: 2023 September | W10: 2023 October | X10: 2023 November | Y10: 2023 December | AA10: Remarks
B13: Data on fuel and production
B15: LSD
B16: Weighted average purchasing price | F16: USD / liter | N16: ='Production and fuel costs 2023'!N18 -> confidential | O16: ='Production and fuel costs 2023'!O18 -> confidential | P16: ='Production and fuel costs 2023'!P18 -> confidential | Q16: ='Production and fuel costs 2023'!Q18 -> confidential | R16: ='Production and fuel costs 2023'!R18 -> confidential | S16: ='Production and fuel costs 2023'!S18 -> confidential | T16: ='Production and fuel costs 2023'!T18 -> confidential | U16: ='Production and fuel costs 2023'!U18 -> confidential | ... Y16: ='Production and fuel costs 2023'!Y18 -> confidential
B17: Fuel volume consumed for production | F17: liter | N17: ='Production and fuel costs 2023'!N19 -> confidential | O17: ='Production and fuel costs 2023'!O19 -> confidential | P17: ='Production and fuel costs 2023'!P19 -> confidential | Q17: ='Production and fuel costs 2023'!Q19 -> confidential | R17: ='Production and fuel costs 2023'!R19 -> confidential | S17: ='Production and fuel costs 2023'!S19 -> confidential | T17: ='Production and fuel costs 2023'!T19 -> confidential | U17: ='Production and fuel costs 2023'!U19 -> confidential | ... Y17: ='Production and fuel costs 2023'!Y19 -> confidential
B19: Production volumes
B20: Total net production with generators (fuel) | F20: kWh | N20: ='Production and fuel costs 2023'!N22 -> 9235870 | O20: ='Production and fuel costs 2023'!O22 -> 7905090 | P20: ='Production and fuel costs 2023'!P22 -> 9005080 | Q20: ='Production and fuel costs 2023'!Q22 -> 9155290 | R20: ='Production and fuel costs 2023'!R22 -> 9433690 | S20: ='Production and fuel costs 2023'!S22 -> 10120610 | T20: ='Production and fuel costs 2023'!T22 -> 9985660 | U20: ='Production and fuel costs 2023'!U22 -> 11323240 | ... Y20: ='Production and fuel costs 2023'!Y22 -> 10724910
B21: Total net production by renewable sources | F21: kWh | N21: ='Production and fuel costs 2023'!N23 -> 1469820 | O21: ='Production and fuel costs 2023'!O23 -> 1933760 | P21: ='Production and fuel costs 2023'!P23 -> 2308120 | Q21: ='Production and fuel costs 2023'!Q23 -> 2141190 | R21: ='Production and fuel costs 2023'!R23 -> 3419960 | S21: ='Production and fuel costs 2023'!S23 -> 3111730 | T21: ='Production and fuel costs 2023'!T23 -> 3160490 | U21: ='Production and fuel costs 2023'!U23 -> 2806990 | ... Y21: ='Production and fuel costs 2023'!Y23 -> 2208680
B23: Total production | F23: kWh | N23: =N20+N21 -> 10705690 | O23: =O20+O21 -> 9838850 | P23: =P20+P21 -> 11313200 | Q23: =Q20+Q21 -> 11296480 | R23: =R20+R21 -> 12853650 | S23: =S20+S21 -> 13232340 | T23: =T20+T21 -> 13146150 | U23: =U20+U21 -> 14130230 | ... Y23: =Y20+Y21 -> 12933590
B25: Realized fuel yield based on LSD | F25: liter / kWh | H25: 0.27072405
B28: Data on income from production
B30: Information from monthly invoice to WEB
B31: Production price as calculated by CGB | F31: USD / kWh | N31: ='Production and fuel costs 2023'!N31 -> confidential | O31: ='Production and fuel costs 2023'!O31 -> confidential | P31: ='Production and fuel costs 2023'!P31 -> confidential | Q31: ='Production and fuel costs 2023'!Q31 -> confidential | R31: ='Production and fuel costs 2023'!R31 -> confidential | S31: ='Production and fuel costs 2023'!S31 -> confidential | T31: ='Production and fuel costs 2023'!T31 -> confidential | U31: ='Production and fuel costs 2023'!U31 -> confidential | ... Y31: ='Production and fuel costs 2023'!Y31 -> confidential
B32: Volume sold to WEB | F32: kWh | N32: ='Production and fuel costs 2023'!N32 -> confidential | O32: ='Production and fuel costs 2023'!O32 -> confidential | P32: ='Production and fuel costs 2023'!P32 -> confidential | Q32: ='Production and fuel costs 2023'!Q32 -> confidential | R32: ='Production and fuel costs 2023'!R32 -> confidential | S32: ='Production and fuel costs 2023'!S32 -> confidential | T32: ='Production and fuel costs 2023'!T32 -> confidential | U32: ='Production and fuel costs 2023'!U32 -> confidential | ... Y32: ='Production and fuel costs 2023'!Y32 -> confidential
B34: Production price as set in production price decision
B35: Production price excluding fuel component CGB (as set for full year) | F35: USD / kWh | N35: ='Production and fuel costs 2023'!$H$38 -> 0.13636 | O35: ='Production and fuel costs 2023'!$H$38 -> 0.13636 | P35: ='Production and fuel costs 2023'!$H$38 -> 0.13636 | Q35: ='Production and fuel costs 2023'!$H$38 -> 0.13636 | R35: ='Production and fuel costs 2023'!$H$38 -> 0.13636 | S35: ='Production and fuel costs 2023'!$H$38 -> 0.13636 | T35: ='Production and fuel costs 2023'!$H$38 -> 0.13636 | U35: ='Production and fuel costs 2023'!$H$38 -> 0.13636 | ... Y35: ='Production and fuel costs 2023'!$H$38 -> 0.13636
B38: Calculation fuel correction 2023
B40: Fuel income
B41: Calculation realized fuel component | F41: USD / kWh | N41: =N31-N35 -> #VALUE! | O41: =O31-O35 -> #VALUE! | P41: =P31-P35 -> #VALUE! | Q41: =Q31-Q35 -> #VALUE! | R41: =R31-R35 -> #VALUE! | S41: =S31-S35 -> #VALUE! | T41: =T31-T35 -> #VALUE! | U41: =U31-U35 -> #VALUE! | ... Y41: =Y31-Y35 -> #VALUE!
B42: Total income from fuel component | F42: USD | N42: =N41*N32 -> #VALUE! | O42: =O41*O32 -> #VALUE! | P42: =P41*P32 -> #VALUE! | Q42: =Q41*Q32 -> #VALUE! | R42: =R41*R32 -> #VALUE! | S42: =S41*S32 -> #VALUE! | T42: =T41*T32 -> #VALUE! | U42: =U41*U32 -> #VALUE! | ... Y42: =Y41*Y32 -> #VALUE!
B44: Fuel costs
B45: Costs LSD fuel | F45: USD | N45: =N16*N17 -> #VALUE! | O45: =O16*O17 -> #VALUE! | P45: =P16*P17 -> #VALUE! | Q45: =Q16*Q17 -> #VALUE! | R45: =R16*R17 -> #VALUE! | S45: =S16*S17 -> #VALUE! | T45: =T16*T17 -> #VALUE! | U45: =U16*U17 -> #VALUE! | ... Y45: =Y16*Y17 -> #VALUE!
B47: Total fuel cost correction per month | F47: USD | N47: 477528.22 | O47: -84587.862 | P47: 266641.79 | Q47: 387272.98 | R47: -122175.97 | S47: -288993.54 | T47: -91438.714 | U47: 153920.2 | V47: 176950.62 | W47: 803574.17 | X47: 880772.78 | Y47: 478329.5 | AA47: Positive amount means: income was lower than costs for that month, so add positive amount to income in 2025
B49: Cumulative fuel correction 2023 | F49: USD, pl 2023 | H49: =SUM(N47:Y47) -> 3037794.2 | AA49: Correction amount in price level 2023
B54: [ END OF SHEET ]

Sheet Volume and PS corrections 2023
B2: Correction for volume effect and profit sharing effect over 2023
B4: Description calculation
B5: On this sheet ACM calculates the correction for the volume effect and the profit sharing effect. From the 2020 tariff decision on, ACM refined the calculation method by taking into account the share of total costs that can be considered as 'variable'.
B6: The volume correction is made to correct the realized income for over- or undercovering the fixed costs. When realized volume is higher than estimated volume, the cost cover of fixed costs is more than 100%, which means the production price was too high (in hindsight).
B7: The profit sharing of 50% is calculated over the difference between realized costs and expected costs, where the expected costs are corrected for higher or lower realized volume.
B10: Description | F10: Unit | H10: Constant | J10: Remark
B13: Data on cost estimation 2023 and costs realization 2023
B15: Cost estimation for tariff 2023 before WACC adjustment
B16: Total estimated cost level 2023 | F16: USD, pl 2023 | H16: ='Est. and realized costs 2023'!H20 -> 17052598
B17: OPEX considered as variable (as part of the total costs of 2023) | F17: USD, pl 2023 | H17: ='Est. and realized costs 2023'!H21 -> 997749.37
B19: Estimated costs after WACC adjustment and production 2023
B20: Total estimated cost level 2023 | F20: USD, pl 2023 | H20: ='Est. and realized costs 2023'!H24 -> 18255534
B22: Estimated production volume for 2023 (net) | F22: kWh | H22: ='Est. and realized costs 2023'!H27 -> 139967600
B24: Realized costs and production 2023
B25: Total regular OPEX | F25: USD, pl 2023 | H25: ='Est. and realized costs 2023'!H39 -> 9021811
B26: Realized capital costs 2023 | F26: USD, pl 2023 | H26: ='Calculation RAB'!H394 -> 8912025.8
B28: Realized production volume 2023 (net) | F28: kWh | H28: ='Production and fuel costs 2023'!J25 -> 151423350
B30: Profit sharing parameter | F30: % | H30: =Parameters!H36 -> 0.5
B33: Calculation volume correction
B35: Estimated costs 2023 before WACC adjustment
B36: Total costs considered as variable | F36: USD, pl 2023 | H36: =H17 -> 997749.37 | J36: Note: all capital costs are regarded as fixed (based on lumpy character and lack of direct relation with kWh)
B37: Estimated fixed costs 2023 | F37: USD, pl 2023 | H37: =H16-H36 -> 16054848
B38: Estimated variable costs per unit output (excl. fuel) | F38: USD, pl 2023 / kWh | H38: =H36/H22 -> 0.0071284309 | J38: Estimated costs divided by estimated production
B40: Cost covering of fixed costs 2023
B41: Total realized income for covering fixed costs in 2023, based on realized volumes | F41: USD, pl 2023 | H41: =H37*(H28/H22) -> 17368869
B42: Over- or under covering of estimated fixed costs 2023 | F42: USD, pl 2023 | H42: =H37-H41 -> -1314020.7 | J42: Cost cover was higher than estimated fixed costs: subtract this amount from tariff income 2025
B45: Calculation of profit sharing correction
B47: Estimated costs 2023 after WACC adjustment
B48: Total costs considered as variable | F48: USD, pl 2023 | H48: =H17 -> 997749.37 | J48: Note: all capital costs are regarded as fixed (based on lumpy character and lack of direct relation with kWh)
B49: Estimated fixed costs 2023 | F49: USD, pl 2023 | H49: =H20-H48 -> 17257785
B50: Estimated variable costs per unit output (excl. fuel) | F50: USD, pl 2023 / kWh | H50: =H48/H22 -> 0.0071284309 | J50: Estimated costs divided by estimated production
B52: Cost estimation variable costs corrected for realized volume 2023 | F52: USD, pl 2023 | H52: =H50*H28 -> 1079410.9
B53: Cost estimation total costs corrected for realized volume 2023 | F53: USD, pl 2023 | H53: =H49+H52 -> 18337196 | J53: Total estimated costs for profit sharing
B55: Realized costs 2023
B56: Total realized costs | F56: USD, pl 2023 | H56: =SUM(H25:H26) -> 17933837 | J56: Total realized costs for profit sharing
B58: Profit sharing
B59: Realized economic profit over 2023 (after volume correction) | F59: USD, pl 2023 | H59: =H53-H56 -> 403358.91
B60: Profit sharing amount | F60: USD, pl 2023 | H60: =H59*-1*H30 -> -201679.46 | J60: Negative realized economic profit: profit sharing gives 50% of difference back to CGB. Add this amount to tariff income 2025.
B68: [ END OF SHEET ]

Sheet Total income 2025
B2: Calculation total income 2025
B4: Description calculation
B5: On this sheet the total income level for 2025 is calculated, including the effect of all regular corrections.The fuel component (valid for January 2025) is calculated as well. Both figures are used to calculate the production price for 2025 (January 2025) on the result sheet.
B6: As of the tariff decision for 2022, ACM applies two different interest rates when translating amounts in USD to different price levels (years). For cost estimations (only OPEX) ACM uses the cpi (as we did before 2022); for tariff corrections ACM applies the 'wettelijke rente' (legal fixed interest rate).
B9: Description | F9: Unit | H9: Constant | J9: Remark
B12: Data on cpi and interest factors
B14: Estimated inflation 2024 | F14: % | H14: =Parameters!H18 -> 0.019
B15: Estimated inflation 2025 | F15: % | H15: =Parameters!H19 -> 0.025
B17: Wettelijke rente CNL (legal fixed interest rate) for period 2020-2025 | F17: % | H17: =Parameters!H24 -> 0.03
B18: Compound 'wettelijke rente' interest factor (1+%) for tariff corrections 2023 to 2025 | F18: 1+% | H18: =(1+$H$17)^2 -> 1.0609
B21: Data on cost estimation 2025
B23: OPEX estimation for 2025
B24: Regular OPEX 2023 | F24: USD, pl 2023 | H24: ='Est. and realized costs 2023'!H39 -> 9021811
B25: Specific costs in regular OPEX 2023: penalties and late fees | F25: USD, pl 2023 | H25: ='Est. and realized costs 2023'!H42 -> 45077
B26: Additional OPEX estimated for 2025:
B27: Engine rentals 2025 | F27: USD, pl 2025 | H27: ='Est. production and costs 2025'!H86 -> confidential
B28: Lease fee BBT for Solar Assets and Battery Energy System 2025 | F28: USD, pl 2025 | H28: ='Est. production and costs 2025'!H90 -> #VALUE!
B29: New Pillar 2 tax due over 2025 | F29: USD, pl 2025 | H29: ='Est. production and costs 2025'!H92 -> confidential
B30: Other information:
B31: Percentage of OPEX considered variable | F31: % | H31: ='Est. production and costs 2025'!H98 -> 0.11
B33: Expected capital costs for 2025
B34: Capital costs RAB power plant (initial investment - part 1) | F34: USD, pl 2025 | H34: ='Calculation RAB'!H402 -> 4042027.6
B35: Capital costs yearly investments (regular add-ons and replacements - part 2) | F35: USD, pl 2025 | H35: ='Calculation RAB'!H407 -> 94821.972
B36: Capital costs expansion investments HFO and batteries (add-on realized in 2019 - part 3) | F36: USD, pl 2025 | H36: ='Calculation RAB'!H412 -> 2329717.3
B37: Capital costs Hybrid Concept expansions BESS and PV-plant (realized in 2023 - part 4) | F37: USD, pl 2025 | H37: ='Calculation RAB'!H417 -> 1010089.9
B38: Capital costs expansion investments 2024 (estimation for 2025 - part 5) | F38: USD, pl 2025 | H38: ='Calculation RAB'!H422 -> 1853506.8
B39: Capital costs Main Generation Facilities Improvement Plan 2025 (estimation for 2025 - part 6) | F39: USD, pl 2025 | H39: ='Calculation RAB'!H427 -> 506109.78
B41: Data on fuel component 2025
B43: Expected production levels
B44: Estimated production volume with fuel in 2025 | F44: kWh | H44: ='Est. production and costs 2025'!H13 -> 1.4082723e+08
B45: Estimated production by renewables in 2025 | F45: kWh | H45: ='Est. production and costs 2025'!H16 -> 45356000
B46: Total amount of estimated production by ContourGlobal in 2025 | F46: kWh | H46: =H44+H45 -> 1.8618323e+08
B48: Part of total production by fuel | F48: % | H48: =H44/H46 -> 0.75639052
B50: Information on yield and fuel price LSD production
B51: Yield production by LSD (kWh) | F51: liter / kWh | H51: ='Fuel costs and income 2023'!H25 -> 0.27072405
B52: LSD price (November 2024) | F52: USD / liter | H52: ='Est. production and costs 2025'!H19 -> 0.8237
B55: Calculation expected costs for 2025 and income level 2025
B57: Calculation expected costs for 2025 (excluding fuel)
B58: Total OPEX estimation regular OPEX | F58: USD, pl 2025 | H58: =(H24-H25)*(1+H14)*(1+H15) -> 9375974.2 | J58: ACM applies cpi; costs related to late fees and to the destroyed MAN12 engine are left out of the cost base for estimating costs in 2025
B59: Additional OPEX estimation: engine rentals | F59: USD, pl 2025 | H59: =H27 -> confidential
...
