{"text_format":"1","workbook":"xlsx","n_sheets":20,"sheets":["Toel. Wijziging NG4R (aug 2016)","Aanpassing gegevens (aug 2016)","Toel. herstel NG4R (sep. 2014)","Aanpassing gegevens (sep 14)","x-factor","Eindinkomsten","Productiviteit TD","Kosten TD","Kosten AD","Vergoedingen AD","SO","Wegingsfactor TD","Wegingsfactor AD","Rekenvolumes","Volumes","ORV","CPI&WACC","X-factorberekening na fusies","Bijlage1_Overzicht X","Bijlage 2_rekenvolumina"],"not_rendered":{"charts":0,"images":1,"macros":1,"external_links":8,"defined_names":241,"comments":8,"pivot_tables":0},"unopened":[],"bounds":{"document_bytes":16777216,"sheet_cells":100000,"rows_first":2000,"rows_last":500,"rows_between":2000,"halvings":0,"cell_chars":16384,"cell_head_chars":4096},"cells_cut":0,"cells_raw":0,"read":"whole","date_system":"1900"}

{"sheet":"Toel. Wijziging NG4R (aug 2016)","index":0,"n_rows":32,"n_cols":4,"rows_kept":32,"cut":false,"hidden":false,"merged":[[5,1,6,3]]}
[]
[null,"Toelichting bij berekening gewijzigde x-factoren, q-factoren en rekenvolumina NG4R d.d. 25 augustus 2016"]
[]
[null,"Toelichting bij dit bestand"]
[]
[null,"Dit bestand bevat het rekenmodel waarmee ACM de x-factoren voor de RNB's gas voor de periode 2011-2013 berekent. Deze x-factoren heeft ACM gewijzigd vastgesteld in de volgende x-factorbesluiten."]
[]
[]
[null,"Wijziging x-factorbesluiten 2011-2013 Gas d.d. 25 augustus 2016","Zaaknummer","Kenmerk"]
[null,"Cogas Infra & Beheer B.V. ","16.0769.52","ACM/DE/2016/204792"]
[null,"DELTA Netwerkbedrijf B.V. ","16.0771.52","ACM/DE/2016/204794"]
[null,"Enexis B.V. ","16.0773.52","ACM/DE/2016/204796"]
[null,"Liander N.V. ","16.0776.52","ACM/DE/2016/204798"]
[null,"Endinet B.V. ","16.0777.52","ACM/DE/2016/204800"]
[null,"RENDO Netbeheer B.V. ","16.0779.52","ACM/DE/2016/204802"]
[null,"Stedin Netbeheer B.V. ","16.0781.52","ACM/DE/2016/204805"]
[null,"Westland Infra Netbeheer B.V. ","16.0783.52","ACM/DE/2016/204807"]
[null,"Zebra Gasnetwerk B.V. ","16.0784.52","ACM/DE/2016/204808"]
[]
[null,"Legenda celkleuren"]
[]
[null,"Data en input"]
[]
[null,"Berekende waarde"]
[]
[null,"Waarde die zonder berekening wordt overgenomen uit een andere cel"]
[]
[null,"Berekende of overgenomen waarde en tevens resultaat"]
[]
[null,"Waarde of berekening die speciale aandacht vraagt (toelichting in opmerking)"]
[]
[null,"Waarde of berekening die (vooralsnog) kennelijk onjuist of onvolledig is"]

{"sheet":"Aanpassing gegevens (aug 2016)","index":1,"n_rows":60,"n_cols":9,"rows_kept":60,"cut":false,"hidden":false,"merged":[]}
[]
[null,"Toelichting bij berekening Gewijzigde x-factoren, q-factoren en rekenvolumina NG4R"]
[]
[null,"Dit Excel-bestand is onderdeel van het model waarmee de x-factoren voor de regionale netbeheerders gas voor de periode 2011 tot en met 2013 worden berekend. "]
[null,"Dit bestand maakt onderdeel uit van de (gewijzigde) x/q/rv-besluiten voor de vierde periode voor de regionale netbeheerders gas (besluiten van 25 augustus 2016)."]
[null,"Dit bestand zoals dat nu tot stand is gekomen is volledig gebaseerd op de berekening voor de vaststelling van de gewijzigde X- en Q-factoren en rekenvolumina NG4R van besluiten van 11 september 2014, "]
[null,"behoudens de aanpassingen die onderstaand worden toegelicht."]
[]
[null,"In onderstaande overzichten geldt steeds:"]
[null,"Oorspronkelijke gegevens: gegevens zoals opgenomen in de kapitaalkostensheet die gepubliceerd is bij de gewijzigde X- en Q-factoren en rekenvolumina NG4R van besluiten van 11 september 2014."]
[null,"Aanpassing: aanpassing van de gegevens op basis van een specifieke bron (wordt steeds genoemd)."]
[null,"Nieuw: nieuwe gegevens zoals deze zijn opgenomen in de verdere bladen. "]
[]
[null,"Het betreft gegevens in duizenden euro's, weergegeven in het prijspeil van het genoemde jaar."]
[]
[]
[null,"Aanpassing kapitaalkostensheet: voor Stedin is de start-GAW gasaansluitdienst aangepast"]
[]
[null,"Netbeheerder:",null,null,"Stedin"]
[null,"Bron gegevens: ",null,null,"Gewijzigde berekening start-GAW voor gasaansluitingen van Stedin (bestand: RNB's Gas-2011-2013-rekenmodule-start-GAW GAD wijziging zomer 2016) en effect daarvan in kapitaalkostenberekeningen"]
[null,null,null,null,"De wijziging is tot stand gekomen op basis van een e-mail van Stedin aan ACM van 18 maart 2016."]
[]
[null,"Aanpassing gegevens","Jaar","Tabblad, cel","Oorspronkelijk",null,null,null,"Nieuw"]
[]
[null,"Eindstand GAW 2009 gasaansluitdienst",2009,"Kosten AD, G51",319895.59982797649,null,null,null,271890.61322670546]
[null,"Afschrijvingen 2009 gasaansluitdienst",2009,"Kosten AD, G52",11778.822210210634,null,null,null,9932.4765717002101]
[]
[]
[null,"Aanpassing: Weglaten van afloopverschillen uit eliminatie niet tariefgereguleerde OPEX en CAPEX"]
[]
[null,"Bron gegevens: ",null,null,"Oorspronkelijke productiviteitsdata 2006 t/m 2009 van NRE, Haarlemmermeer en Obragas"]
[null,null,null,null,"In de wijziging van het x-factormodel in september 2014 is bij de eliminatie van niet tariefgereguleerde OPEX en CAPEZ bij enkele netbeheerders foutief de post 'afloopverschillen' meegenomen."]
[]
[null,"NB: deze aanpassing is een wijziging van de eerdere aanpassing van deze posten in september 2014. De 'oorspronkelijke gegevens' verwijzen in onderstaande kolom (kolom E) dan ook naar de wijziging uit september 2014."]
[]
[null,"Netbeheerder:",null,null,"Endinet Haarlemmermeer"]
[null,"Bron gegevens: ",null,null,"Productiviteitsdata 2006-2009"]
[]
[null,"Aanpassing gegevens (OPEX)","Jaar",null,"Oorspronkelijk",null,"Aanpassing",null,"Nieuw"]
[null,"Foutieve eliminatie niet tariefgereguleerde OPEX en CAPEX - TD",2006,"Kosten TD, H41",{"$f":"'Aanpassing gegevens (sep 14)'!I254","v":-93.056039999999996},null,93.056039999999996,null,{"$f":"E40+G40","v":0}]
[null,"Foutieve eliminatie niet tariefgereguleerde OPEX en CAPEX - TD",2007,"Kosten TD, H80",{"$f":"'Aanpassing gegevens (sep 14)'!I255","v":-47.742730000000009},null,47.742730000000002,null,0]
[null,"Foutieve eliminatie niet tariefgereguleerde OPEX en CAPEX - TD",2008,"Kosten TD, H121",{"$f":"'Aanpassing gegevens (sep 14)'!I256","v":-12.5204912859844},null,12.5204912859844,null,{"$f":"E42+G42","v":0}]
[null,"Foutieve eliminatie niet tariefgereguleerde OPEX en CAPEX - TD",2009,"Kosten TD, H162/H208",{"$f":"'Aanpassing gegevens (sep 14)'!I257","v":-15.20147863533307},null,15.2014786353331,null,{"$f":"E43+G43","v":3.0198066269804258E-14}]
[]
[null,"Netbeheerder:",null,null,"Endinet Regio Eindhoven"]
[null,"Bron gegevens: ",null,null,"Productiviteitsdata 2006-2009"]
[]
[null,"Aanpassing gegevens (OPEX)","Jaar",null,"Oorspronkelijk",null,"Aanpassing",null,"Nieuw"]
[null,"Foutieve eliminatie niet tariefgereguleerde OPEX en CAPEX - TD",2007,"Kosten TD, J80",{"$f":"'Aanpassing gegevens (sep 14)'!I275","v":-42.520046273243096},null,57,null,{"$f":"E49+G49","v":14.479953726756904}]
[null,"Foutieve eliminatie niet tariefgereguleerde OPEX en CAPEX - TD",2008,"Kosten TD, J121",{"$f":"'Aanpassing gegevens (sep 14)'!I276","v":10.604707439524297},null,22,null,{"$f":"E50+G50","v":32.604707439524297}]
[null,"Foutieve eliminatie niet tariefgereguleerde OPEX en CAPEX - TD",2009,"Kosten TD, J162/J208",{"$f":"'Aanpassing gegevens (sep 14)'!I277","v":19.615422209284599},null,22,null,{"$f":"E51+G51","v":41.615422209284603}]
[]
[null,"Netbeheerder:",null,null,"Endinet Oost-Brabant"]
[null,"Bron gegevens: ",null,null,"Productiviteitsdata 2006-2009"]
[]
[null,"Aanpassing gegevens (OPEX)","Jaar",null,"Oorspronkelijk",null,"Aanpassing",null,"Nieuw"]
[null,"Foutieve eliminatie niet tariefgereguleerde OPEX en CAPEX - TD",2006,"Kosten TD, L41",{"$f":"'Aanpassing gegevens (sep 14)'!I294","v":-75.840049999999991},null,75.840050000000005,null,{"$f":"E57+G57","v":0}]
[null,"Foutieve eliminatie niet tariefgereguleerde OPEX en CAPEX - TD",2007,"Kosten TD, L80",{"$f":"'Aanpassing gegevens (sep 14)'!I295","v":-103.63798999999952},null,103.63799,null,{"$f":"E59+G59","v":0}]
[null,"Foutieve eliminatie niet tariefgereguleerde OPEX en CAPEX - TD",2008,"Kosten TD, L121",{"$f":"'Aanpassing gegevens (sep 14)'!I296","v":-4.125082627121146},null,4.1250826271211496,null,{"$f":"E60+G60","v":0}]
[null,"Foutieve eliminatie niet tariefgereguleerde OPEX en CAPEX - TD",2009,"Kosten TD, L162/L208",{"$f":"'Aanpassing gegevens (sep 14)'!I297","v":-57.150848742583356},null,57.150848742583399,null,{"$f":"E60+G60","v":0}]

{"sheet":"Toel. herstel NG4R (sep. 2014)","index":2,"n_rows":32,"n_cols":4,"rows_kept":32,"cut":false,"hidden":false,"merged":[[5,1,6,3]]}
[]
[null,"Toelichting bij berekening gewijzigde x-factoren, q-factoren en rekenvolumina NG4R d.d. 11 september 2014"]
[]
[null,"Toelichting bij dit bestand"]
[]
[null,"Dit bestand bevat het rekenmodel waarmee ACM de x-factoren berekent. Deze x-factoren heeft ACM vastgesteld in de volgende x-factorbesluiten."]
[]
[]
[null,"Herstel x-factorbesluiten 2011-2013 Gas","Zaaknummer","Kenmerk"]
[null,"Cogas Infra & Beheer B.V. ","14.0714.52","ACM/DE/2014/205145"]
[null,"DELTA Netwerkbedrijf B.V. ","14.0716.52","ACM/DE/2014/205147"]
[null,"Enexis B.V. ","14.0718.52","ACM/DE/2014/205149"]
[null,"Liander N.V. ","14.0720.52","ACM/DE/2014/205151"]
[null,"Endinet B.V. ","14.0722.52","ACM/DE/2014/205153"]
[null,"RENDO Netbeheer B.V. ","14.0724.52","ACM/DE/2014/205155"]
[null,"Stedin Netbeheer B.V. ","14.0726.52","ACM/DE/2014/205157"]
[null,"Westland Infra Netbeheer B.V. ","14.0728.52","ACM/DE/2014/205159"]
[null,"Zebra Gasnetwerk B.V. ","14.0729.52","ACM/DE/2014/205160"]
[]
[null,"Legenda celkleuren"]
[]
[null,"Data en input"]
[]
[null,"Berekende waarde"]
[]
[null,"Waarde die zonder berekening wordt overgenomen uit een andere cel"]
[]
[null,"Berekende of overgenomen waarde en tevens resultaat"]
[]
[null,"Waarde of berekening die speciale aandacht vraagt (toelichting in opmerking)"]
[]
[null,"Waarde of berekening die (vooralsnog) kennelijk onjuist of onvolledig is"]

{"sheet":"Aanpassing gegevens (sep 14)","index":3,"n_rows":404,"n_cols":11,"rows_kept":404,"cut":false,"hidden":false,"merged":[]}
[]
[null,"Toelichting bij berekening Gewijzigde x-factoren, q-factoren en rekenvolumina NG4R"]
[]
[null,"Dit Excel-bestand is onderdeel van het model waarmee de x-factoren voor de regionale netbeheerders gas voor de periode 2011 tot en met 2013 worden berekend. "]
[null,"Dit bestand maakt onderdeel uit van de (gewijzigde) x/q/rv-besluiten voor de vierde periode voor de regionale netbeheerders gas (besluiten van 11 september 2014 met kenmerk 14.0747.52)."]
[null,"Dit bestand zoals dat nu tot stand is gekomen is volledig gebaseerd op de berekening voor de vaststelling van de gewijzigde X- en Q-factoren en rekenvolumina NG4R van besluiten van 31 maart 2011 met kenmerk 103636, "]
[null,"behoudens de aanpassingen die onderstaand worden toegelicht."]
[]
[null,"In onderstaande overzichten geldt steeds:"]
[null,"Oorspronkelijke gegevens: gegevens zoals opgenomen in de kapitaalkostensheet die gepubliceerd is bij de gewijzigde X- en Q-factoren en rekenvolumina NG4R van besluiten van 31 maart 2011 met kenmerk 103636."]
[null,"Aanpassing: aanpassing van de gegevens op basis van een specifieke bron (wordt steeds genoemd)."]
[null,"Nieuw: nieuwe gegevens zoals deze zijn opgenomen in de verdere bladen. "]
[]
[null,"In alle gevallen betreft het gegevens in duizenden euro's, weergegeven in het prijspeil van het genoemde jaar, of in aantallen volumes."]
[]
[]
[]
[null,"Aanpassing kapitaalkostensheet: voor Enexis worden investeringen in software voor de meetdienst in 2007-2009 uit de kapitaalkostenberekening gehaald"]
[]
[null,"Netbeheerder:",null,null,"Enexis"]
[null,"Bron gegevens: ",null,null,"Brief Enexis aan Energiekamer NMa 21 mei 2012 (kenmerken: 103779/203.B495; 12-SRA-uit-18)"]
[null,null,null,null,"en de vernieuwde Kapitaalkostensheet NG4R (eveneens tegelijkertijd met dit bestand gepubliceerd)"]
[]
[null,"Aanpassing gegevens","Jaar","Tabblad, cel","Oorspronkelijk",null,"Aanpassing",null,"Nieuw"]
[]
[null,"CAPEX: Eindstand GAW",2007,"Kosten TD, O76",1063095.3139732501,null,-596.70662400266156,null,{"$f":"E26+G26","v":1062498.6073492474}]
[null,"CAPEX: Afschrijvingen",2007,"Kosten TD, O77",37373.3394258064,null,-66.300735999953758,null,{"$f":"E27+G27","v":37307.038689806446}]
[null,"CAPEX: Eindstand GAW",2008,"Kosten TD, O117",1086115.4678574,null,571.11975233140402,null,1086686.5876097314]
[null,"CAPEX: Afschrijvingen",2008,"Kosten TD, O118",39539.8945695496,null,-18.467859191972821,null,39521.426710357628]
[null,"CAPEX: Eindstand GAW",2009,"Kosten TD, O158",1133266.0848236501,null,-2614.8426972406451,null,1130651.2421264094]
[null,"CAPEX: Afschrijvingen",2009,"Kosten TD, O159",42386.630007172898,null,-244.65719835810887,null,42141.972808814789]
[]
[null,"Aanpassing kapitaalkostensheet: Activering leaseauto's Enexis"]
[]
[null,"Netbeheerder:",null,null,"Enexis"]
[null,"Bron nieuwe gegevens: ",null,null,"OPEX onderzoek, Mail Enexis 17 september 2013 en gaw sheet NG5R"]
[]
[null,"Aanpassing gegevens","Jaar","Tabblad, cel","Oorspronkelijk",null,null,null,"Nieuw"]
[]
[null,"CAPEX: Eindstand GAW",2006,"Kosten TD, O37",1047486.34088641,null,1252.4339999958174,null,{"$f":"E40+G40","v":1048738.7748864058}]
[null,"CAPEX: Afschrijvingen",2006,"Kosten TD, O38",35212.4281054858,null,0,null,35212.4281054858]
[null,"CAPEX: Eindstand GAW",2007,"Kosten TD, O76",{"$f":"I26","v":1062498.6073492474},null,2638.8431683999952,null,1065137.4505176474]
[null,"CAPEX: Afschrijvingen",2007,"Kosten TD, O77",37307.038689806446,null,205.72690760000114,null,37512.765597406447]
[null,"CAPEX: Eindstand GAW",2008,"Kosten TD, O117",1086686.5876097314,null,3807.4019585687201,null,1090493.9895683001]
[null,"CAPEX: Afschrijvingen",2008,"Kosten TD, O118",39521.426710357628,null,362.69748468360194,null,39884.12419504123]
[null,"CAPEX: Eindstand GAW",2009,"Kosten TD, O158",1130651.2421264094,null,5244.5530006494373,null,1135895.7951270589]
[null,"CAPEX: Afschrijvingen",2009,"Kosten TD, O159",42141.972808814789,null,544.82582059346896,null,42686.798629408258]
[]
[null,"Aanpassing kapitaalkostensheet: afschrijvingstermijn start GAW afgekochte precario RENDO van 12,5 naar 20 jaar o.b.v. CBB uitspraak"]
[]
[null,"Netbeheerder:",null,null,"RENDO"]
[null,"Bron nieuwe gegevens: ",null,null,"Besluit ACM 26 juni 2013 (kenmerk ACM/RVB/2013/201914_OV)"]
[]
[null,"Aanpassing gegevens","Jaar","Tabblad, cel","Oorspronkelijk",null,null,null,"Nieuw"]
[]
[null,"CAPEX: Eindstand GAW",2006,"Kosten TD, M37",170644.84404178499,null,-604.44258305800031,null,{"$f":"E56+G56","v":170040.40145872699}]
[null,"CAPEX: Afschrijvingen",2006,"Kosten TD, M38",6996.6414086473897,null,201.48086101921035,null,7198.1222696666]
[null,"CAPEX: Eindstand GAW",2007,"Kosten TD, M76",169045.07613435201,null,-817.206372294022,null,168227.86976205799]
[null,"CAPEX: Afschrijvingen",2007,"Kosten TD, M77",7386.2776046219296,null,204.30159307348003,null,7590.5791976954097]
[null,"CAPEX: Eindstand GAW",2008,"Kosten TD, M117",169243.05678891999,null,-1032.7445529869874,null,168210.312235933]
[null,"CAPEX: Afschrijvingen",2008,"Kosten TD, M118",7822.20112291026,null,206.54891059729016,null,8028.7500335075501]
[null,"CAPEX: Eindstand GAW",2009,"Kosten TD, M158",169805.916772753,null,-1278.9508544180135,null,168526.96591833499]
[null,"CAPEX: Afschrijvingen",2009,"Kosten TD, M159",8329.0088545222006,null,213.15847573639985,null,8542.1673302586005]
[]
[null,"Eindstand GAW Precario Afkoop",2006,"ORV, M12",17913.478542081601,null,4478.370047199598,null,{"$f":"E65+G65","v":22391.848589281199}]
[null,"Afschrijvingen Precario Afkoop",2006,"ORV, M13",1492.7898785068001,null,373.19750393329991,null,1865.9873824401]
[null,"Eindstand GAW Precario Afkoop",2007,"ORV, M26",16650.578304864801,null,4162.6449588721007,null,20813.223263736902]
[null,"Afschrijvingen Precario Afkoop",2007,"ORV, M27",1513.6889368058901,null,378.42226898836998,null,1892.1112057942601]
[null,"Eindstand GAW Precario Afkoop",2008,"ORV, M40",15303.395151107599,null,3825.8491394724024,null,19129.244290580002]
[null,"Afschrijvingen Precario Afkoop",2008,"ORV, M41",1530.33951511076,null,382.58491394724001,null,1912.924429058]
[null,"Eindstand GAW Precario Afkoop",2009,"ORV, M54",14213.793416348701,null,3553.4486807419999,null,17767.242097090701]
[null,"Afschrijvingen Precario Afkoop",2009,"ORV, M55",1579.3103795943,null,394.82763119354991,null,1974.1380107878499]
[]
[null,"Aanpassing kapitaalkostensheet: investeringsgegevens Liander o.b.v.foutief geboekte investeringen (onterecht als investeringsbijdragen gepassiveerd)"]
[]
[null,"Netbeheerder:",null,"Liander"]
[null,"Bron nieuwe gegevens: ",null,"E-mail Liander aan ACM op 18 september 2013 en 25 juli 2014"]
[]
[null,"Aanpassing gegevens","Jaar","Tabblad, cel","Oorspronkelijk",null,"Aanpassing",null,"Nieuw"]
[null,"CAPEX: Eindstand GAW",2008,"Kosten TD, K117",1746866.8777226801,null,144.28080151369795,null,{"$f":"E80+G80","v":1747011.1585241938}]
[null,"CAPEX: Afschrijvingen",2008,"Kosten TD, K118",57427.782263221103,null,1.6461984848574502,null,57429.42846170596]
[null,"CAPEX: Eindstand GAW",2009,"Kosten TD, K158",1775837.0248553399,null,188.53411530493759,null,1776025.5589706448]
[null,"CAPEX: Afschrijvingen",2009,"Kosten TD, K159",59910.606813561601,null,3.8706718545290641,null,59914.47748541613]
[]
[null,"Aanpassing: voor RENDO worden operationele kosten voor fysieke meteropname in 2006-2009 uit de OPEX gehaald"]
[]
[null,"Netbeheerder:",null,null,"RENDO"]
[null,"Bron gegevens: ",null,null,"Brief RENDO aan Energiekamer NMa 4 april 2012 (kenmerken: 103780_7/1.B1522; C&R/IS/APM/12-0878)"]
[null,null,null,null,"en telefoonnotitie (18 juli 2012) over toewijzing aandeel kosten aan controle op zichtbare aspecten van fraude."]
[null,null,null,null,"Voor 2009: uitvraag CORR2009-2011; toelichting nr 9."]
[]
[null,"Opgave verkeerd opgegeven kosten","Jaar",null,null,null,"Bedrag"]
[]
[null,"Fysieke meteropname",2006,null,null,null,123.038]
[null,"Fysieke meteropname",2007,null,null,null,125.85299999999999]
[null,"Fysieke meteropname",2008,null,null,null,41.899000000000001]
[]
[null,"Toe te wijzen aan kosten voor controle op zichtbare aspecten van fraude (transportdomein):",null,null,null,null,0.15]
[null,"Kosten 2006 toe te wijzen aan personeelskosten",null,null,null,null,0.46]
[null,"Kosten 2006 toe te wijzen aan uitbesteed werk en andere externe kosten",null,null,null,null,0.4]
[null,"Kosten 2006 toe te wijzen aan overige kosten",null,null,null,null,0.14000000000000001]
[]
[]
[null,"Aanpassing gegevens","Jaar","Tabblad, cel","Oorspronkelijk",null,"Aanpassing",null,"Nieuw"]
[]
[null,"OPEX: Personeelskosten",2006,"Kosten TD, M23",1268.364,null,{"$f":"-G94*(1-$G$98)*G99","v":-48.107858},null,{"$f":"E106+G106","v":1220.256142}]
[null,"OPEX: Kosten uitbesteed werk en andere externe kosten",2006,"Kosten TD, M24",975.15899999999999,null,{"$f":"-G94*(1-$G$98)*G100","v":-41.832920000000001},null,933.32608000000005]
[null,"OPEX: Overige kosten",2006,"Kosten TD, M29",947.16200000000003,null,{"$f":"-G94*(1-$G$98)*G101","v":-14.641522},null,932.52047800000003]
[null,"OPEX: Kosten uitbesteed werk en andere externe kosten",2007,"Kosten TD, M64",1534.7416540404099,null,{"$f":"-G95*(1-$G$98)","v":-106.97505},null,1427.7666040404099]
[null,"OPEX: Kosten uitbesteed werk en andere externe kosten",2008,"Kosten TD, M104",866.26850999999999,null,{"$f":"-G96*(1-$G$98)","v":-35.614150000000002},null,830.65436]
[]
[]
[null,"Voor het jaar 2009 is door RENDO in de uitvraag CORR2009-2011 een geheel nieuwe opgave gedaan. In toelichting nr. 9 van dit informatieverzoek zijn enkele fouten met betrekking"]
[null,"tot de gegevens (waaronder fysieke meteropname) geaggregeerd aangepast. "]
[]
[null,"OPEX: Kosten uitbesteed werk en andere externe kosten",2009,"Kosten TD, M145",1009.9538,null,-48.853999999999999,null,{"$f":"E116+G116","v":961.09979999999996}]
[]
[]
[null,"Aanpassing: gewijzigde volumegegevens Stedin i.v.m. verbeterde opgave n.a.v. diverse fouten en vragen vanuit ACM"]
[]
[null,"Netbeheerder:",null,null,"Stedin"]
[null,"Bron gegevens: ",null,null,"Opgave Stedin op 1 augustus 2013 van nieuwe volumegegevens in oude formats PRD voor 2009-2011 (i.c.m. Uitvraag CORR2009-2011)"]
[null,null,null,null,"Naam van modules: PRD 2009 STED NG-PRD(i)-10-01 DEFINITIEF JULI 2013 zonder koppelingen.xls"]
[]
[null,"Aanpassing gegevens (Volumes Transportdienst)","Jaar",null,"Oorspronkelijk",null,"Aanpassing",null,"Nieuw",null,"Bijbehorende rekencapaciteiten"]
[]
[null,"Volume TD - =< 10 m3(n)h, jaarverbruik < 500 Nm3",2009,null,219728.48046477852,null,15849.932187245227,null,{"$f":"E127+G127","v":235578.41265202375},null,1.5]
[null,"Volume TD - =< 10 m3(n)h, jaarverbruik vanaf 500 Nm3 en < 4.000 Nm3",2009,null,1599001.7997095136,null,-69114.800416459329,null,{"$f":"E128+G128","v":1529886.9992930542},null,3]
[null,"Volume TD - =< 10 m3(n)h, jaarverbruik vanaf 4.000 Nm3",2009,null,9634.5380537400142,null,53264.868229214124,null,62899.406282954136,null,6]
[null,"> 10 en =< 16 m3(n)h",2009,null,7247.4544662309372,null,"geen",null,7247.4544662309372,null,10]
[null,"> 16 en =< 25 m3(n)h",2009,null,16278.454575163403,null,"geen",null,16278.454575163403,null,16]
[null,"> 25 en =< 40 m3(n)h",2009,null,6818.5454291938995,null,"geen",null,6818.5454291938995,null,25]
[null,"Volume TD Telemetriegrootverbruik - Standaard - TOVT (vastrecht)",2009,null,1966,null,145.72726767760923,null,2111.7272676776092]
[null,"Volume TD Telemetriegrootverbruik - Standaard - TAVTc (cap.tar.)",2009,null,323.80874850674991,null,662621.46358264808,null,662945.27233115479]
[]
[null,"Kleinverbruik",null,null,"Oorspronkelijk",null,null,null,"Nieuw"]
[null,"Vastrecht (TOVT)",2009,"Volumes, G67",1858709.2726986203,null,null,null,{"$f":"SUM(I127:I132)","v":1858709.2726986203}]
[null,"Capaciteitsafhankelijk tarief (TAVTc)",2009,"Volumes, G68",5687798.8017429197,null,null,null,{"$f":"SUMPRODUCT(I127:I132,K127:K132)","v":5823818.5081496947}]
[]
[null,"Profielgrootverbruik",null,null,"Oorspronkelijk",null,null,null,"Nieuw"]
[null,"Vastrecht (TOVT)",2009,"Volumes, G75",1966,null,{"$f":"I133-E141","v":145.72726767760923},null,{"$f":"+E141+G141","v":2111.7272676776092}]
[null,"Capaciteitsafhankelijk tarief (TAVTc)",2009,"Volumes, G78",636607.99956427014,null,{"$f":"I134-E142","v":26337.272766884649},null,{"$f":"+E142+G142","v":662945.27233115479}]
[]
[]
[null,"Aanpassing gegevens (Volumes Periodieke Aansluitvergoeding)"]
[]
[null,"Lage Druk - 0 t/m 10 m3(n)/h",2009,"Volumes, G132",1828365.5455361151,null,-17,null,{"$f":"E147+G147","v":1828348.5455361151}]
[null,"Lage Druk - 10 t/m 16 m3(n)/h",2009,"Volumes, G133",7247.4546882009881,null,-1,null,{"$f":"E148+G148","v":7246.4546882009881}]
[null,"Lage Druk - 16 t/m 25 m3(n)/h",2009,"Volumes, G134",16279.454688200987,null,-4,null,16275.454688200987]
[null,"Lage Druk - 25 t/m 40 m3(n)/h",2009,"Volumes, G135",6820.7271952259171,null,-4,null,6816.7271952259171]
[null,"Lage Druk - 40 t/m 65 m3(n)/h",2009,"Volumes, G136",2039.7272519824292,null,-65.49582919209638,null,1974.2314227903328]
[null,"Lage Druk - 65 t/m 100 m3(n)/h",2009,"Volumes, G137",3278.9090521831736,null,-167.27131501292433,null,3111.6377371702492]
[null,"Lage Druk - 100 t/m 160 m3(n)/h",2009,"Volumes, G138",2086.230305670515,null,-216.21699325705549,null,1870.0133124134595]
[null,"Lage Druk - 160 t/m 250 m3(n)/h",2009,"Volumes, G139",709.99859277183805,null,-159.19250959009821,null,550.80608318173984]
[null,"Lage Druk - 250 t/m 400 m3(n)/h",2009,"Volumes, G140",1033.1389779436361,null,-536.61898968533615,null,496.51998825829992]
[null,"Lage Druk - 400 t/m 650 m3(n)/h",2009,"Volumes, G141",375.73463505623096,null,-241.24349051708791,null,134.49114453914305]
[null,"Lage Druk - 650 t/m 1000 m3(n)/h",2009,"Volumes, G142",281.80097629217323,null,-241.77242852339862,null,40.028547768774615]
[null,"Lage Druk - 1000 t/m 1600 m3(n)/h",2009,"Volumes, G143",153.4386067460868,null,-138.52096442355059,null,14.91764232253621]
[null,"Lage Druk - 1600 t/m 2500 m3(n)/h",2009,"Volumes, G144",52.87411448682721,null,-48.067376806206553,null,4.8067376806206568]
[null,"Lage Druk - vanaf 2500 m3(n)/h",2009,"Volumes, G145",35.818178161613027,null,-34.35621170603698,null,1.4619664555760465]
[null,"Hoge Druk - 0 t/m 10 m3(n)/h",2009,"Volumes, G147",0,null,17,null,17]
[null,"Hoge Druk - 10 t/m 16 m3(n)/h",2009,"Volumes, G148",0,null,1,null,1]
[null,"Hoge Druk - 16 t/m 25 m3(n)/h",2009,"Volumes, G149",0,null,4,null,4]
[null,"Hoge Druk - 25 t/m 40 m3(n)/h",2009,"Volumes, G150",0,null,4,null,4]
[null,"Hoge Druk - 40 t/m 65 m3(n)/h",2009,"Volumes, G151",0,null,65.495829192096352,null,65.495829192096352]
[null,"Hoge Druk - 65 t/m 100 m3(n)/h",2009,"Volumes, G152",0,null,167.27131501292442,null,167.27131501292442]
[null,"Hoge Druk - 100 t/m 160 m3(n)/h",2009,"Volumes, G153",0,null,216.21699325705541,null,216.21699325705541]
[null,"Hoge Druk - 160 t/m 250 m3(n)/h",2009,"Volumes, G154",0,null,159.19250959009821,null,159.19250959009821]
[null,"Hoge Druk - 250 t/m 400 m3(n)/h",2009,"Volumes, G155",0,null,536.61898968533615,null,536.61898968533615]
[null,"Hoge Druk - 400 t/m 650 m3(n)/h",2009,"Volumes, G156",0,null,241.24349051708791,null,241.24349051708791]
[null,"Hoge Druk - 650 t/m 1000 m3(n)/h",2009,"Volumes, G157",0,null,241.77242852339862,null,241.77242852339862]
[null,"Hoge Druk - 1000 t/m 1600 m3(n)/h",2009,"Volumes, G158",0,null,138.52096442355059,null,138.52096442355059]
[null,"Hoge Druk - 1600 t/m 2500 m3(n)/h",2009,"Volumes, G159",0,null,48.067376806206553,null,48.067376806206553]
[null,"Hoge Druk - vanaf 2500 m3(n)/h",2009,"Volumes, G160",0,null,34.35621170603698,null,34.35621170603698]
[]
[]
[null,"Aanpassing gegevens (Volumes Eenmalige Aansluitvergoeding)"]
[]
[null,"Lage Druk - 0 t/m 10 m3(n)/h",2009,"Volumes, G87",21344.896303037745,null,3227.2622403886053,null,{"$f":"E179+G179","v":24572.158543426351}]
[null,"Lage Druk - 10 t/m 16 m3(n)/h",2009,"Volumes, G88",222.01496309296368,null,22.664969130404444,null,{"$f":"E180+G180","v":244.67993222336813}]
[null,"Lage Druk - 16 t/m 25 m3(n)/h",2009,"Volumes, G89",170.79534735507028,null,57.436131943588947,null,228.23147929865922]
[null,"Lage Druk - 25 t/m 40 m3(n)/h",2009,"Volumes, G90",81.017082457860056,null,16.148150965405122,null,97.165233423265178]
[null,"Lage Druk - 40 t/m 65 m3(n)/h",2009,"Volumes, G91",46.979617941297221,null,-0.39586396656005007,null,46.583753974737171]
[null,"Lage Druk - 65 t/m 100 m3(n)/h",2009,"Volumes, G92",29.085093172394696,null,-0.29336808319064644,null,28.79172508920405]
[null,"Lage Druk - 100 t/m 160 m3(n)/h",2009,"Volumes, G93",25.390455868970921,null,-0.10679517882003253,null,25.283660690150889]
[null,"Lage Druk - 160 t/m 250 m3(n)/h",2009,"Volumes, G94",2,null,-2,null,0]
[null,"Lage Druk - 250 t/m 400 m3(n)/h",2009,"Volumes, G95",2,null,-2,null,0]
[null,"Hoge Druk - 40 t/m 65 m3(n)/h",2009,"Volumes, G106",6.291981110797451,null,2.3230311497990819E-2,null,6.3152114222954419]
[null,"Hoge Druk - 65 t/m 100 m3(n)/h",2009,"Volumes, G107",4.3361457687219849,null,-5.7987710227896727E-2,null,4.2781580584940881]
[null,"Hoge Druk - 100 t/m 160 m3(n)/h",2009,"Volumes, G108",2.8481701153689385,null,2.9863487617993734E-2,null,2.8780336029869322]
[null,"Lage Druk Meerlengte - 0 t/m 10 m3(n)/h",2009,"Volumes, G121",13190.16621261279,null,928.10464290726304,null,14118.270855520053]
[null,"Lage Druk Meerlengte - 10 t/m 16 m3(n)/h",2009,"Volumes, G122",2032.8472228609489,null,236.90422616734986,null,2269.7514490282988]
[null,"Lage Druk Meerlengte - 16 t/m 25 m3(n)/h",2009,"Volumes, G123",3041.3817648807872,null,1623.3089954328852,null,4664.6907603136724]
[null,"Lage Druk Meerlengte - 25 t/m 40 m3(n)/h",2009,"Volumes, G124",1581.2960577508875,null,262.19265046952796,null,1843.4887082204154]
[]
[null,"Aanpassing gegevens (Bedragen Eenmalige Aansluitvergoeding)"]
[]
[null,"LD 0-10 m3/h",2009,"Vergoedingen AD, G7",15424.057313926,null,-92.750433925999459,null,{"$f":"E198+G198","v":15331.30688}]
[null,"LD 10-16 m3/h",2009,"Vergoedingen AD, G8",334.07930346560386,null,-1.9507634656039272,null,{"$f":"E199+G199","v":332.12853999999993}]
[null,"LD 16-25 m3/h",2009,"Vergoedingen AD, G9",311.58845743660959,null,-1.787047436609555,null,309.80141000000003]
[null,"LD 25-40 m3/h ",2009,"Vergoedingen AD, G10",223.99660052496387,null,-1.0674905249638869,null,222.92910999999998]
[null,"LD 40-65 m3/h ",2009,"Vergoedingen AD, G11",203.69897521795809,null,-0.86576521795811345,null,202.83320999999998]
[null,"LD 65-100 m3/h ",2009,"Vergoedingen AD, G12",155.68237133602236,null,-0.60284133602235102,null,155.07953000000001]
[null,"LD 100-160 m3/h",2009,"Vergoedingen AD, G13",151.22150209986748,null,-0.75687209986747916,null,150.46463]
[null,"LD 160-250 m3/h ",2009,"Vergoedingen AD, G14",18.205182850138694,null,-9.197785013869364E-2,null,18.113205000000001]
[null,"LD 250-400 m3/h ",2009,"Vergoedingen AD, G15",18.205182850138694,null,-9.197785013869364E-2,null,18.113205000000001]
[null,"HD 40-65 m3/h",2009,"Vergoedingen AD, G26",54.533450411048634,null,-0.23155041104863727,null,54.301899999999996]
[null,"HD 65-100 m3/h",2009,"Vergoedingen AD, G27",54.878260848945445,null,-0.27726084894544556,null,54.600999999999999]
[null,"HD 100-160 m3/h",2009,"Vergoedingen AD, G28",44.978075003183079,null,-0.18499500318307582,null,44.793080000000003]
[null,"HD 160-250 m3/h",2009,"Vergoedingen AD, G29",114.47965247685357,null,0.52034752314642674,null,115]
[null,"HD 250-400 m3/h ",2009,"Vergoedingen AD, G30",143.09956559606695,null,-0.39856559606695896,null,142.70099999999999]
[null,"HD 400-650 m3/h ",2009,"Vergoedingen AD, G31",28.619913119213393,null,0.38008688078660668,null,29]
[null,"HD 650-1000 m3/h ",2009,"Vergoedingen AD, G32",37.378054779181724,null,-0.37805477918172414,null,37]
[null,"HD 1000-1600 m3/h ",2009,"Vergoedingen AD, G33",62.296757965302881,null,0.57024203469711665,null,62.866999999999997]
[null,"HD 1600-2500 m3/h ",2009,"Vergoedingen AD, G34",0,null,null,null,0]
[null,"HD >2500 m3/h",2009,"Vergoedingen AD, G35",192.96795009290273,null,-0.36795009290273128,null,192.6]
[]
[null,"Aanpassing gegevens als gevolg van OPEX en CAPEX die niet tariefgereguleerde kosten bevatten. De opbrengsten die daarbij horen zijn opgenomen onder overige opbrengsten."]
[]
[null,"Netbeheerder:",null,null,"Cogas"]
[null,"Bron gegevens: ",null,null,"Productiviteitsdata 2006-2009"]
[]
[null,"Aanpassing gegevens (OPEX)","Jaar",null,"Oorspronkelijk",null,"Aanpassing",null,"Nieuw"]
[null,"Eliminatie niet tariefgereguleerde OPEX en CAPEX - TD",2006,"Kosten TD, E41",0,null,0,null,{"$f":"E224+G224","v":0}]
[null,"Eliminatie niet tariefgereguleerde OPEX en CAPEX - TD",2007,"Kosten TD, E80",0,null,0,null,{"$f":"E225+G225","v":0}]
[null,"Eliminatie niet tariefgereguleerde OPEX en CAPEX - TD",2008,"Kosten TD, E121",0,null,0,null,{"$f":"E226+G226","v":0}]
[null,"Eliminatie niet tariefgereguleerde OPEX en CAPEX - TD",2009,"Kosten TD, E162",0,null,0,null,{"$f":"E227+G227","v":0}]
[null,"Eliminatie niet tariefgereguleerde OPEX en CAPEX - AD",2009,"Kosten TD, E208",0,null,0,null,{"$f":"E228+G228","v":0}]
[]
[null,"Netbeheerder:",null,null,"Delta"]
[null,"Bron gegevens: ",null,null,"Productiviteitsdata 2006-2009"]
[]
[null,"Aanpassing gegevens (OPEX)","Jaar",null,"Oorspronkelijk",null,"Aanpassing",null,"Nieuw"]
[null,"Eliminatie niet tariefgereguleerde OPEX en CAPEX - TD",2006,"Kosten TD, F41",0,null,0,null,{"$f":"E234+G234","v":0}]
[null,"Eliminatie niet tariefgereguleerde OPEX en CAPEX - TD",2007,"Kosten TD, F80",0,null,0,null,{"$f":"E235+G235","v":0}]
[null,"Eliminatie niet tariefgereguleerde OPEX en CAPEX - TD",2008,"Kosten TD, F121",0,null,0,null,{"$f":"E236+G236","v":0}]
[null,"Eliminatie niet tariefgereguleerde OPEX en CAPEX - TD",2009,"Kosten TD, F162",0,null,0,null,{"$f":"E237+G237","v":0}]
[null,"Eliminatie niet tariefgereguleerde OPEX en CAPEX - AD",2009,"Kosten TD, F208",0,null,0,null,{"$f":"E238+G238","v":0}]
[]
[null,"Netbeheerder:",null,null,"Stedin"]
[null,"Bron gegevens: ",null,null,"Productiviteitsdata 2006-2009"]
[]
[null,"Aanpassing gegevens (OPEX)","Jaar",null,"Oorspronkelijk",null,"Aanpassing",null,"Nieuw"]
[null,"Eliminatie niet tariefgereguleerde OPEX en CAPEX - TD",2006,"Kosten TD, G41",0,null,1133,null,{"$f":"E244+G244","v":1133}]
[null,"Eliminatie niet tariefgereguleerde OPEX en CAPEX - TD",2007,"Kosten TD, G80",0,null,3615.5175200000003,null,{"$f":"E245+G245","v":3615.5175200000003}]
[null,"Eliminatie niet tariefgereguleerde OPEX en CAPEX - TD",2008,"Kosten TD, G121",0,null,2869.462679999991,null,{"$f":"E246+G246","v":2869.462679999991}]
[null,"Eliminatie niet tariefgereguleerde OPEX en CAPEX - TD",2009,"Kosten TD, G162",0,null,563.88793999999996,null,{"$f":"E247+G247","v":563.88793999999996}]
[null,"Eliminatie niet tariefgereguleerde OPEX en CAPEX - AD",2009,"Kosten TD, G208",0,null,0,null,{"$f":"E248+G248","v":0}]
[]
[null,"Netbeheerder:",null,null,"Endinet Haarlemmermeer"]
[null,"Bron gegevens: ",null,null,"Productiviteitsdata 2006-2009"]
[]
[null,"Aanpassing gegevens (OPEX)","Jaar",null,"Oorspronkelijk",null,"Aanpassing",null,"Nieuw"]
[null,"Eliminatie niet tariefgereguleerde OPEX en CAPEX - TD",2006,"Kosten TD, H41",0,null,-93.056039999999996,null,{"$f":"E254+G254","v":-93.056039999999996}]
[null,"Eliminatie niet tariefgereguleerde OPEX en CAPEX - TD",2007,"Kosten TD, H80",0,null,-47.742730000000009,null,{"$f":"E255+G255","v":-47.742730000000009}]
[null,"Eliminatie niet tariefgereguleerde OPEX en CAPEX - TD",2008,"Kosten TD, H121",0,null,-12.5204912859844,null,{"$f":"E256+G256","v":-12.5204912859844}]
[null,"Eliminatie niet tariefgereguleerde OPEX en CAPEX - TD",2009,"Kosten TD, H162",0,null,-15.20147863533307,null,{"$f":"E257+G257","v":-15.20147863533307}]
[null,"Eliminatie niet tariefgereguleerde OPEX en CAPEX - AD",2009,"Kosten TD, H208",0,null,0,null,{"$f":"E258+G258","v":0}]
[]
[null,"Netbeheerder:",null,null,"Intergas"]
[null,"Bron gegevens: ",null,null,"Productiviteitsdata 2006-2009"]
[]
[null,"Aanpassing gegevens (OPEX)","Jaar",null,"Oorspronkelijk",null,"Aanpassing",null,"Nieuw"]
[null,"Eliminatie niet tariefgereguleerde OPEX en CAPEX - TD",2006,"Kosten TD, I41",0,null,0,null,{"$f":"E264+G264","v":0}]
[null,"Eliminatie niet tariefgereguleerde OPEX en CAPEX - TD",2007,"Kosten TD, I80",0,null,0,null,{"$f":"E265+G265","v":0}]
[null,"Eliminatie niet tariefgereguleerde OPEX en CAPEX - TD",2008,"Kosten TD, I121",0,null,0,null,{"$f":"E266+G266","v":0}]
[null,"Eliminatie niet tariefgereguleerde OPEX en CAPEX - TD",2009,"Kosten TD, I162",0,null,0,null,{"$f":"E267+G267","v":0}]
[null,"Eliminatie niet tariefgereguleerde OPEX en CAPEX - AD",2009,"Kosten TD, I208",0,null,0,null,{"$f":"E268+G268","v":0}]
[]
[null,"Netbeheerder:",null,null,"Endinet Regio Eindhoven"]
[null,"Bron gegevens: ",null,null,"Productiviteitsdata 2006-2009"]
[]
[null,"Aanpassing gegevens (OPEX)","Jaar",null,"Oorspronkelijk",null,"Aanpassing",null,"Nieuw"]
[null,"Eliminatie niet tariefgereguleerde OPEX en CAPEX - TD",2006,"Kosten TD, J41",0,null,14.348100000000001,null,{"$f":"E274+G274","v":14.348100000000001}]
[null,"Eliminatie niet tariefgereguleerde OPEX en CAPEX - TD",2007,"Kosten TD, J80",0,null,-42.520046273243096,null,{"$f":"E275+G275","v":-42.520046273243096}]
[null,"Eliminatie niet tariefgereguleerde OPEX en CAPEX - TD",2008,"Kosten TD, J121",0,null,10.604707439524297,null,{"$f":"E276+G276","v":10.604707439524297}]
[null,"Eliminatie niet tariefgereguleerde OPEX en CAPEX - TD",2009,"Kosten TD, J162",0,null,19.615422209284599,null,{"$f":"E277+G277","v":19.615422209284599}]
[null,"Eliminatie niet tariefgereguleerde OPEX en CAPEX - AD",2009,"Kosten TD, J208",0,null,0,null,{"$f":"E278+G278","v":0}]
[]
[null,"Netbeheerder:",null,null,"Liander"]
[null,"Bron gegevens: ",null,null,"Productiviteitsdata 2006-2009"]
[]
[null,"Aanpassing gegevens (OPEX)","Jaar",null,"Oorspronkelijk",null,"Aanpassing",null,"Nieuw"]
[null,"Eliminatie niet tariefgereguleerde OPEX en CAPEX - TD",2006,"Kosten TD, K41",0,null,{"$f":"4337.81722201546-4337.81722201546","v":0},null,{"$f":"E284+G284","v":0}]
[null,"Eliminatie niet tariefgereguleerde OPEX en CAPEX - TD",2007,"Kosten TD, K80",0,null,{"$f":"52.6454635384681-52.6454635384681","v":0},null,{"$f":"E285+G285","v":0}]
[null,"Eliminatie niet tariefgereguleerde OPEX en CAPEX - TD",2008,"Kosten TD, K121",0,null,{"$f":"1034.16173839606-1034.16173839606","v":0},null,{"$f":"E286+G286","v":0}]
[null,"Eliminatie niet tariefgereguleerde OPEX en CAPEX - TD",2009,"Kosten TD, K162",0,null,{"$f":"7926.73269498173-3848","v":4078.7326949817298},null,{"$f":"E287+G287","v":4078.7326949817298}]
[null,"Eliminatie niet tariefgereguleerde OPEX en CAPEX - AD",2009,"Kosten TD, K208",0,null,0,null,{"$f":"E288+G288","v":0}]
[]
[null,"Netbeheerder:",null,null,"Endinet Oost-Brabant"]
[null,"Bron gegevens: ",null,null,"Productiviteitsdata 2006-2009"]
[]
[null,"Aanpassing gegevens (OPEX)","Jaar",null,"Oorspronkelijk",null,"Aanpassing",null,"Nieuw"]
[null,"Eliminatie niet tariefgereguleerde OPEX en CAPEX - TD",2006,"Kosten TD, L41",0,null,-75.840049999999991,null,{"$f":"E294+G294","v":-75.840049999999991}]
[null,"Eliminatie niet tariefgereguleerde OPEX en CAPEX - TD",2007,"Kosten TD, L80",0,null,-103.63798999999952,null,{"$f":"E295+G295","v":-103.63798999999952}]
[null,"Eliminatie niet tariefgereguleerde OPEX en CAPEX - TD",2008,"Kosten TD, L121",0,null,-4.125082627121146,null,{"$f":"E296+G296","v":-4.125082627121146}]
[null,"Eliminatie niet tariefgereguleerde OPEX en CAPEX - TD",2009,"Kosten TD, L162",0,null,-57.150848742583356,null,{"$f":"E297+G297","v":-57.150848742583356}]
[null,"Eliminatie niet tariefgereguleerde OPEX en CAPEX - AD",2009,"Kosten TD, L208",0,null,0,null,{"$f":"E298+G298","v":0}]
[]
[null,"Netbeheerder:",null,null,"Rendo"]
[null,"Bron gegevens: ",null,null,"Productiviteitsdata 2006-2009"]
[]
[null,"Aanpassing gegevens (OPEX)","Jaar",null,"Oorspronkelijk",null,"Aanpassing",null,"Nieuw"]
[null,"Eliminatie niet tariefgereguleerde OPEX en CAPEX - TD",2006,"Kosten TD, M41",0,null,15.888999999999999,null,{"$f":"E304+G304","v":15.888999999999999}]
[null,"Eliminatie niet tariefgereguleerde OPEX en CAPEX - TD",2007,"Kosten TD, M80",0,null,10.093999999999999,null,{"$f":"E305+G305","v":10.093999999999999}]
[null,"Eliminatie niet tariefgereguleerde OPEX en CAPEX - TD",2008,"Kosten TD, M121",0,null,8.9540000000000006,null,{"$f":"E306+G306","v":8.9540000000000006}]
[null,"Eliminatie niet tariefgereguleerde OPEX en CAPEX - TD",2009,"Kosten TD, M162",0,null,63.083979999999997,null,{"$f":"E307+G307","v":63.083979999999997}]
[null,"Eliminatie niet tariefgereguleerde OPEX en CAPEX - AD",2009,"Kosten TD, M208",0,null,0,null,{"$f":"E308+G308","v":0}]
[]
[null,"Netbeheerder:",null,null,"Westland"]
[null,"Bron gegevens: ",null,null,"Productiviteitsdata 2006-2009"]
[]
[null,"Aanpassing gegevens (OPEX)","Jaar",null,"Oorspronkelijk",null,"Aanpassing",null,"Nieuw"]
[null,"Eliminatie niet tariefgereguleerde OPEX en CAPEX - TD",2006,"Kosten TD, N41",0,null,-100.4668700000007,null,{"$f":"E314+G314","v":-100.4668700000007}]
[null,"Eliminatie niet tariefgereguleerde OPEX en CAPEX - TD",2007,"Kosten TD, N80",0,null,-129.53511999999807,null,{"$f":"E315+G315","v":-129.53511999999807}]
[null,"Eliminatie niet tariefgereguleerde OPEX en CAPEX - TD",2008,"Kosten TD, N121",0,null,-27.143330000000073,null,{"$f":"E316+G316","v":-27.143330000000073}]
[null,"Eliminatie niet tariefgereguleerde OPEX en CAPEX - TD",2009,"Kosten TD, N162",0,null,52.71,null,{"$f":"E317+G317","v":52.71}]
[null,"Eliminatie niet tariefgereguleerde OPEX en CAPEX - AD",2009,"Kosten TD, N208",0,null,0,null,{"$f":"E318+G318","v":0}]
[]
[null,"Netbeheerder:",null,null,"Enexis"]
[null,"Bron gegevens: ",null,null,"Productiviteitsdata 2006-2009"]
[]
[null,"Aanpassing gegevens (OPEX)","Jaar",null,"Oorspronkelijk",null,"Aanpassing",null,"Nieuw"]
[null,"Eliminatie niet tariefgereguleerde OPEX en CAPEX - TD",2006,"Kosten TD, O41",0,null,12,null,{"$f":"E324+G324","v":12}]
[null,"Eliminatie niet tariefgereguleerde OPEX en CAPEX - TD",2007,"Kosten TD, O80",0,null,208,null,{"$f":"E325+G325","v":208}]
[null,"Eliminatie niet tariefgereguleerde OPEX en CAPEX - TD",2008,"Kosten TD, O121",0,null,0,null,{"$f":"E326+G326","v":0}]
[null,"Eliminatie niet tariefgereguleerde OPEX en CAPEX - TD",2009,"Kosten TD, O162",0,null,1157.425,null,{"$f":"E327+G327","v":1157.425}]
[null,"Eliminatie niet tariefgereguleerde OPEX en CAPEX - AD",2009,"Kosten TD, O208",0,null,0,null,{"$f":"E328+G328","v":0}]
[]
[null,"Netbeheerder:",null,null,"Zebra"]
[null,"Bron gegevens: ",null,null,"Productiviteitsdata 2006-2009"]
[]
[null,"Aanpassing gegevens (OPEX)","Jaar",null,"Oorspronkelijk",null,"Aanpassing",null,"Nieuw"]
[null,"Eliminatie niet tariefgereguleerde OPEX en CAPEX - TD",2006,"Kosten TD, P41",0,null,0,null,{"$f":"E334+G334","v":0}]
[null,"Eliminatie niet tariefgereguleerde OPEX en CAPEX - TD",2007,"Kosten TD, P80",0,null,0,null,{"$f":"E335+G335","v":0}]
[null,"Eliminatie niet tariefgereguleerde OPEX en CAPEX - TD",2008,"Kosten TD, P121",0,null,0,null,{"$f":"E336+G336","v":0}]
[null,"Eliminatie niet tariefgereguleerde OPEX en CAPEX - TD",2009,"Kosten TD, P162",0,null,0,null,{"$f":"E337+G337","v":0}]
[null,"Eliminatie niet tariefgereguleerde OPEX en CAPEX - AD",2009,"Kosten TD, P208",0,null,0,null,{"$f":"E338+G338","v":0}]
[]
[null,"Onderzoek operationele kosten Stedin"]
[]
[null,"Betreft:",null,null,"Aanpassing managementfee Joulz"]
[]
[null,"Aanpassing gegevens (OPEX)","Jaar","Tabblad, cel","Oorspronkelijk",null,"Aanpassing",null,"Nieuw"]
[null,"Overige kosten",2009,"Kosten TD, G137",4386.2033390829201,null,-218,null,{"$f":"E345+G345","v":4168.2033390829201}]
[null,"Overige kosten",2009,"Kosten AD, G16",6348.0035191888001,null,-41,null,{"$f":"E346+G346","v":6307.0035191888001}]
[null,"Overige kosten",2009,"Kosten AD, G30",916.999866578092,null,-8,null,{"$f":"E347+G347","v":908.999866578092}]
[]
[null,"Onderzoek operationele kosten Enexis"]
[]
[null,"Betreft:",null,"Aanpassing eenmalige compensatiekorting"]
[]
[null,"Aanpassing gegevens","Jaar","Tabblad, cel","Oorspronkelijk",null,"Aanpassing",null,"Nieuw"]
[]
[null,"Overige bedrijfskosten",2009,"Kosten TD, O137",21471.855734600002,null,{"$f":"-8016.25*6.2%","v":-497.00749999999999},null,{"$f":"E355+G355","v":20974.848234600002}]
[null,"Overige bedrijfskosten",2009,"Kosten TD, O151",63449,null,{"$f":"-8016.25*25.6%","v":-2052.16},null,{"$f":"E356+G356","v":61396.84}]
[]
[null,"Betreft:",null,"Aanpassing splitsingskosten"]
[]
[null,"Aanpassing gegevens","Jaar","Tabblad, cel","Oorspronkelijk",null,"Aanpassing",null,"Nieuw"]
[]
[null,"Overige bedrijfskosten",2009,"Kosten TD, O137",{"$f":"I355","v":20974.848234600002},null,{"$f":"-307.93*6.2%","v":-19.091660000000001},null,{"$f":"E362+G362","v":20955.756574600004}]
[null,"Overige bedrijfskosten",2009,"Kosten TD, O151",{"$f":"I356","v":61396.84},null,{"$f":"-307.93*25.6%","v":-78.830080000000009},null,{"$f":"E363+G363","v":61318.009919999997}]
[null,"Overige bedrijfskosten",2008,"Kosten TD, O96",14075,null,{"$f":"-190.495*26%*20%","v":-9.9057400000000015},null,{"$f":"E364+G364","v":14065.09426}]
[null,"Overige bedrijfskosten",2008,"Kosten TD, O110",78402,null,{"$f":"-190.495*26%*80%","v":-39.622960000000006},null,78362.377040000007]
[]
[null,"Betreft:",null,"Aanpassing leaseauto's"]
[]
[null,"Aanpassing gegevens","Jaar","Tabblad, cel","Oorspronkelijk",null,"Aanpassing",null,"Nieuw"]
[]
[null,"Overige bedrijfskosten",2009,"Kosten TD, O137",{"$f":"I362","v":20955.756574600004},null,{"$f":"-(4268.1)*26%*20%","v":-221.94120000000004},null,{"$f":"E371+G371","v":20733.815374600003}]
[null,"Overige bedrijfskosten",2009,"Kosten TD, O151",{"$f":"I363","v":61318.009919999997},null,{"$f":"-(4268.1)*26%*80%","v":-887.76480000000015},null,60430.24512]
[]
[]
[null,"Onderzoek operationele kosten Liander"]
[]
[null,"Betreft:",null,"Onjuiste toerekening gastransportdienst - gasaansluitdienst periode 2006 t/m 2008"]
[]
[null,"Aanpassing gegevens","Jaar","Tabblad, cel","Oorspronkelijk",null,"Aanpassing",null,"Nieuw"]
[]
[null,"Buitengewone lasten / correctie toerekening Liander",2006,"Kosten TD, K17",0,null,{"$f":"-13000*(57437/(57437+38861))","v":-7753.8578163617112},null,{"$f":"E381+G381","v":-7753.8578163617112}]
[null,"Buitengewone lasten / correctie toerekening Liander",2006,"Kosten TD, K30",0,null,{"$f":"-13000*(38861/(57437+38861))","v":-5246.1421836382897},null,{"$f":"E382+G382","v":-5246.1421836382897}]
[null,"Buitengewone lasten / correctie toerekening Liander",2007,"Kosten TD, K57",0,null,{"$f":"-13000*(54726/(54726+41675))","v":-7379.9856847958017},null,-7379.9856847958017]
[null,"Buitengewone lasten / correctie toerekening Liander",2007,"Kosten TD, K70",0,null,{"$f":"-13000*(41675/(54726+41675))","v":-5620.0143152041992},null,-5620.0143152041992]
[null,"Buitengewone lasten / correctie toerekening Liander",2008,"Kosten TD, K97",0,null,{"$f":"-13000*(55697/(55697+56431))","v":-6457.450413812785},null,{"$f":"E385+G385","v":-6457.450413812785}]
[null,"Buitengewone lasten / correctie toerekening Liander",2008,"Kosten TD, K111",0,null,{"$f":"-13000*(56431/(55697+56431))","v":-6542.549586187215},null,-6542.549586187215]
[]
[null,"Betreft:",null,"ICT projecten niet gereguleerd"]
[]
[null,"Aanpassing gegevens","Jaar","Tabblad, cel","Oorspronkelijk",null,"Aanpassing",null,"Nieuw"]
[]
[null,"Kosten uitbesteed werk en andere externe kosten - TD-TO",2009,"Kosten TD, K131",34090.026970488201,null,{"$f":"-2446.442*21%*(49343/(49343+49499))","v":-256.47098801379974},null,{"$f":"E392+G392","v":33833.555982474405}]
[null,"Kosten uitbesteed werk en andere externe kosten - TD-TA",2009,"Kosten TD, K145",34197.157504563998,null,{"$f":"-2446.442*21%*(49499/(49343+49499))","v":-257.28183198620013},null,33939.8756725778]
[]
[null,"Aanpassing: gewijzigde kostenallocatie Liander voor het jaar 2009 m.b.t. Nuon CCC en Klant&Service"]
[]
[null,"Netbeheerder:",null,null,"Liander"]
[null,"Bron gegevens: ",null,null,"Uitvraag CORR2009-2011, Toelichting nr 9."]
[]
[null,"Aanpassing gegevens (OPEX)","Jaar",null,"Oorspronkelijk",null,"Aanpassing",null,"Nieuw"]
[]
[null,"Transportdienst (TO): Kosten uitbesteed werk en andere ext. kosten",2009,"Kosten TD, K131",{"$f":"I392","v":33833.555982474405},null,-85.538499999999999,null,{"$f":"E402+G402","v":33748.017482474403}]
[null,"Transportdienst (TA): Kosten uitbesteed werk en andere ext. kosten",2009,"Kosten TD, K145",{"$f":"I393","v":33939.8756725778},null,-85.538499999999999,null,{"$f":"E403+G403","v":33854.337172577798}]
[null,"Aansluitdienst: Kosten uitbesteed werk en andere ext. kosten",2009,"Kosten AD, K10",20685.884658172505,null,-40.627000000000002,null,{"$f":"E404+G404","v":20645.257658172504}]

{"sheet":"x-factor","index":4,"n_rows":17,"n_cols":20,"rows_kept":17,"cut":false,"hidden":false,"merged":[]}
[]
[null,"x-factor",null,null,"Cogas Infra & Beheer B.V.","DELTA Netwerkbedrijf B.V.","Stedin B.V.","Intergas Energie B.V.","Liander N.V. (gefuseerd bedrijf)","Endinet B.V. (gefuseerd bedrijf)","N.V. RENDO","Westland Energie Infrastructuur B.V.","Enexis B.V.","Zebra Gasnetwerk B.V.","Totaal",null,"Endinet Haarlemmermeer B.V.","Endinet Regio Eindhoven B.V.","Liander N.V.","Endinet Oost-Brabant N.V."]
[]
[null,"Begininkomsten 2010"]
[]
[null,"Begininkomsten 2010 Transportdienst","€","prijspeil 2010",{"$f":"SUMPRODUCT('Wegingsfactor TD'!E47:E62,Rekenvolumes!E27:E42)","v":15859727.667872662},{"$f":"SUMPRODUCT('Wegingsfactor TD'!F47:F62,Rekenvolumes!F27:F42)","v":22101116.31461326},{"$f":"SUMPRODUCT('Wegingsfactor TD'!G47:G62,Rekenvolumes!G27:G42)","v":203294537.73793894},{"$f":"SUMPRODUCT('Wegingsfactor TD'!I47:I62,Rekenvolumes!I27:I42)","v":17430029.524764352},{"$f":"S6+Q6","v":229828602.34102061},{"$f":"T6+R6","v":42085932.646276072},{"$f":"SUMPRODUCT('Wegingsfactor TD'!M47:M62,Rekenvolumes!M27:M42)","v":12882447.50769523},{"$f":"SUMPRODUCT('Wegingsfactor TD'!N47:N62,Rekenvolumes!N27:N42)","v":13987900.140170839},{"$f":"SUMPRODUCT('Wegingsfactor TD'!O47:O62,Rekenvolumes!O27:O42)","v":201407952.1752122},{"$f":"SUMPRODUCT('Wegingsfactor TD'!P47:P62,Rekenvolumes!P27:P42)","v":9673806.0199826322},{"$f":"SUM(E6:N6)","v":768552052.07554674},null,{"$f":"SUMPRODUCT('Wegingsfactor TD'!H47:H62,Rekenvolumes!H27:H42)","v":6309924.8436968895},{"$f":"SUMPRODUCT('Wegingsfactor TD'!J47:J62,Rekenvolumes!J27:J42)","v":19637621.803487066},{"$f":"SUMPRODUCT('Wegingsfactor TD'!K47:K62,Rekenvolumes!K27:K42)","v":223518677.49732372},{"$f":"SUMPRODUCT('Wegingsfactor TD'!L47:L62,Rekenvolumes!L27:L42)","v":22448310.842789009}]
[null,"Begininkomsten 2010 Aansluitdienst","€","prijspeil 2010",{"$f":"SUMPRODUCT('Wegingsfactor AD'!E7:E83,Rekenvolumes!E45:E121)","v":5114961.471210761},{"$f":"SUMPRODUCT('Wegingsfactor AD'!F7:F83,Rekenvolumes!F45:F121)","v":6090845.7918243008},{"$f":"SUMPRODUCT('Wegingsfactor AD'!G7:G83,Rekenvolumes!G45:G121)","v":60957625.528990306},{"$f":"SUMPRODUCT('Wegingsfactor AD'!I7:I83,Rekenvolumes!I45:I121)","v":7204092.4940785002},{"$f":"S7+Q7","v":70272943.470884815},{"$f":"T7+R7","v":14227320.770896211},{"$f":"SUMPRODUCT('Wegingsfactor AD'!M7:M83,Rekenvolumes!M45:M121)","v":3919018.747416527},{"$f":"SUMPRODUCT('Wegingsfactor AD'!N7:N83,Rekenvolumes!N45:N121)","v":1562354.3374754789},{"$f":"SUMPRODUCT('Wegingsfactor AD'!O7:O83,Rekenvolumes!O45:O121)","v":53994295.308638796},{"$f":"SUMPRODUCT('Wegingsfactor AD'!P7:P83,Rekenvolumes!P45:P121)","v":0},{"$f":"SUM(E7:N7)","v":223343457.92141569},null,{"$f":"SUMPRODUCT('Wegingsfactor AD'!H7:H83,Rekenvolumes!H45:H121)","v":1805002.573680127},{"$f":"SUMPRODUCT('Wegingsfactor AD'!J7:J83,Rekenvolumes!J45:J121)","v":7801027.0860241884},{"$f":"SUMPRODUCT('Wegingsfactor AD'!K7:K83,Rekenvolumes!K45:K121)","v":68467940.897204682},{"$f":"SUMPRODUCT('Wegingsfactor AD'!L7:L83,Rekenvolumes!L45:L121)","v":6426293.6848720238}]
[null,"Begininkomsten 2010 Totaal","€","prijspeil 2010",{"$f":"SUM(E6:E7)","v":20974689.139083423},{"$f":"SUM(F6:F7)","v":28191962.10643756},264252163.26692924,24634122.018842854,{"$f":"SUM(I6:I7)","v":300101545.81190544},{"$f":"SUM(J6:J7)","v":56313253.417172283},16801466.255111758,15550254.477646317,255402247.48385102,9673806.0199826322,991895509.99696243,null,{"$f":"SUM(Q6:Q7)","v":8114927.4173770165},{"$f":"SUM(R6:R7)","v":27438648.889511254},{"$f":"SUM(S6:S7)","v":291986618.39452839},{"$f":"SUM(T6:T7)","v":28874604.527661033}]
[]
[null,"Eindinkomsten 2013"]
[]
[null,"Eindinkomsten 2013","€","prijspeil 2010",{"$f":"Eindinkomsten!E33","v":20755640.166593075},{"$f":"Eindinkomsten!F33","v":27941179.642524451},{"$f":"Eindinkomsten!G33","v":282432842.35587114},{"$f":"Eindinkomsten!I33","v":23390137.195246115},{"$f":"S12+Q12","v":318137781.86676228},{"$f":"T12+R12","v":57598474.770204455},{"$f":"Eindinkomsten!M33","v":17704458.190822653},{"$f":"Eindinkomsten!N33","v":17893869.249438513},{"$f":"Eindinkomsten!O33","v":275716615.82908046},{"$f":"Eindinkomsten!P33","v":4820968.0852741757},{"$f":"Eindinkomsten!Q33","v":1046391967.3518173},null,{"$f":"Eindinkomsten!H33","v":8702286.8234618418},{"$f":"Eindinkomsten!J33","v":27166747.195942335},{"$f":"Eindinkomsten!K33","v":309435495.04330045},{"$f":"Eindinkomsten!L33","v":30431727.574262124}]
[]
[null,"x-factor vierde reguleringsperiode"]
[]
[null,"x-factor onafgerond",null,null,{"$f":"100*(1-(E12/E8)^(1/3))","v":0.34933528950518156},0.29740128785783471,-2.2426777371445716,1.7124385255724017,{"$f":"100*(1-(I12/I8)^(1/3))","v":-1.964502696243775},{"$f":"100*(1-(J12/J8)^(1/3))","v":-0.75504194681537129},-1.7603250406265536,-4.7905821463679166,-2.5839477873940808,20.717203458384837,-1.7988388335893557,null,{"$f":"100*(1-(Q12/Q8)^(1/3))","v":-2.3566942283159698},{"$f":"100*(1-(R12/R8)^(1/3))","v":0.33141185065652667},{"$f":"100*(1-(S12/S8)^(1/3))","v":-1.9535597089984202},{"$f":"100*(1-(T12/T8)^(1/3))","v":-1.7661912947380731}]
[null,"x-factor",null,null,{"$f":"IF(E16>0,ROUNDDOWN(E16,1),ROUNDUP(E16,1))","v":0.3},{"$f":"IF(F16>0,ROUNDDOWN(F16,1),ROUNDUP(F16,1))","v":0.2},-2.3000000000000003,1.7,{"$f":"IF(I16>0,ROUNDDOWN(I16,1),ROUNDUP(I16,1))","v":-2},{"$f":"IF(J16>0,ROUNDDOWN(J16,1),ROUNDUP(J16,1))","v":-0.79999999999999993},-1.8,-4.8,-2.6,20.7,-1.8,null,{"$f":"IF(Q16>0,ROUNDDOWN(Q16,1),ROUNDUP(Q16,1))","v":-2.4},{"$f":"IF(R16>0,ROUNDDOWN(R16,1),ROUNDUP(R16,1))","v":0.3},{"$f":"IF(S16>0,ROUNDDOWN(S16,1),ROUNDUP(S16,1))","v":-2},{"$f":"IF(T16>0,ROUNDDOWN(T16,1),ROUNDUP(T16,1))","v":-1.8}]

{"sheet":"Eindinkomsten","index":5,"n_rows":33,"n_cols":17,"rows_kept":33,"cut":false,"hidden":false,"merged":[]}
[]
[null,"Eindinkomsten",null,null,"Cogas Infra & Beheer B.V.","DELTA Netwerkbedrijf B.V.","Stedin B.V.","Endinet Haarlemmermeer B.V.","Intergas Energie B.V.","Endinet Regio Eindhoven B.V.","Liander N.V.","Endinet Oost-Brabant N.V.","N.V. RENDO","Westland Energie Infrastructuur B.V.","Enexis B.V.","Zebra Gasnetwerk B.V.","Totaal"]
[]
[null,"Efficiënte kosten 2010"]
[]
[null,"PV Transportdienst 2011-2013",null,{"$f":"'Productiviteit TD'!D42","v":3.400322495354176E-4}]
[null,"PV Aansluitdienst 2011-2013",null,3.4000000000000002E-2]
[null,"CPI van 2009 naar 2010",null,{"$f":"CPIv2009n2010","v":3.0000000000000001E-3}]
[]
[null,"Kosten Transportdienst 2009 (incl. ORV)","€,  prijspeil 2009",null,{"$f":"'Kosten TD'!E210*1000","v":18620116.392979216},{"$f":"'Kosten TD'!F210*1000","v":23223009.049307164},{"$f":"'Kosten TD'!G210*1000","v":249106471.76791224},{"$f":"'Kosten TD'!H210*1000","v":5308904.3316009464},{"$f":"'Kosten TD'!I210*1000","v":25758142.629439626},{"$f":"'Kosten TD'!J210*1000","v":21895953.633320265},{"$f":"'Kosten TD'!K210*1000","v":264277531.89417171},{"$f":"'Kosten TD'!L210*1000","v":22212528.772464216},{"$f":"'Kosten TD'!M210*1000","v":23105066.727195367},{"$f":"'Kosten TD'!N210*1000","v":19176870.69383515},{"$f":"'Kosten TD'!O210*1000","v":200813016.5738166},{"$f":"'Kosten TD'!P210*1000","v":5114228.6693357732}]
[null,"ORV lokale heffingen (TD) 2009","€,  prijspeil 2009",null,{"$f":"1000*ORV!E68","v":819015.2362553163},{"$f":"1000*ORV!F68","v":272917.09999999998},{"$f":"1000*ORV!G68","v":12940404},{"$f":"1000*ORV!H68","v":0},{"$f":"1000*ORV!I68","v":1438104.4747212431},{"$f":"1000*ORV!J68","v":0},{"$f":"1000*ORV!K68","v":7004694.0313149588},{"$f":"1000*ORV!L68","v":0},{"$f":"1000*ORV!M68","v":3165835.8608074733},{"$f":"1000*ORV!N68","v":2494},{"$f":"1000*ORV!O68","v":611000},{"$f":"1000*ORV!P68","v":0}]
[null,"Kosten Transportdienst 2009 (excl. ORV)","€,  prijspeil 2009",null,{"$f":"E10-E11","v":17801101.156723898},{"$f":"F10-F11","v":22950091.949307162},236166067.76791224,5308904.3316009464,24320038.154718384,21895953.633320265,257272837.86285675,22212528.772464216,{"$f":"M10-M11","v":19939230.866387893},{"$f":"N10-N11","v":19174376.69383515},{"$f":"O10-O11","v":200202016.5738166},{"$f":"P10-P11","v":5114228.6693357732},{"$f":"SUM(E12:P12)","v":852357376.43227923}]
[null,"Efficiënte kosten Transportdienst 2010","€,  prijspeil 2010",{"$f":"(1-D6+D8)*Q12","v":854624619.56545973}]
[]
[null,"Kosten Aansluitdienst 2009  (incl. ORV)","€,  prijspeil 2009",null,{"$f":"'Kosten AD'!E60*1000","v":4266149.6214699531},{"$f":"'Kosten AD'!F60*1000","v":4076242.2779441481},{"$f":"'Kosten AD'!G60*1000","v":60211239.862289928},{"$f":"'Kosten AD'!H60*1000","v":1029939.6346751684},{"$f":"'Kosten AD'!I60*1000","v":3327028.3001882671},{"$f":"'Kosten AD'!J60*1000","v":4089412.4647625596},{"$f":"'Kosten AD'!K60*1000","v":60994784.425952308},{"$f":"'Kosten AD'!L60*1000","v":3421455.3880380308},{"$f":"'Kosten AD'!M60*1000","v":2857586.3200182514},{"$f":"'Kosten AD'!N60*1000","v":1546302.0690978318},{"$f":"'Kosten AD'!O60*1000","v":38284733.984380051},{"$f":"'Kosten AD'!P60*1000","v":5390.0000000000009}]
[null,"ORV lokale heffingen (AD) 2009","€,  prijspeil 2009",null,{"$f":"1000*ORV!E74","v":6000},{"$f":"1000*ORV!F74","v":0},{"$f":"1000*ORV!G74","v":0},{"$f":"1000*ORV!H74","v":0},{"$f":"1000*ORV!I74","v":0},{"$f":"1000*ORV!J74","v":0},{"$f":"1000*ORV!K74","v":0},{"$f":"1000*ORV!L74","v":0},{"$f":"1000*ORV!M74","v":0},{"$f":"1000*ORV!N74","v":0},{"$f":"1000*ORV!O74","v":0},{"$f":"1000*ORV!P74","v":0}]
[null,"Kosten Aansluitdienst 2009 (excl. ORV)","€,  prijspeil 2009",null,{"$f":"E15-E16","v":4260149.6214699531},{"$f":"F15-F16","v":4076242.2779441481},60211239.862289928,1029939.6346751684,3327028.3001882671,4089412.4647625596,60994784.425952308,3421455.3880380308,2857586.3200182514,1546302.0690978318,38284733.984380051,5390.0000000000009,{"$f":"SUM(E17:P17)","v":184104264.34881651}]
[null,"CAPEX in Totale Kosten Aansluitdienst 2009","€,  prijspeil 2009",{"$f":"1000*'Kosten AD'!Q53","v":57365403.424016222}]
[null,"Efficiënte kosten Aansluitdienst 2010","€,  prijspeil 2010",{"$f":"(1+D8)*(Q17-D18)+D18","v":184484480.93159091}]
[]
[]
[null,"Eindinkomsten 2013"]
[]
[null,"Efficiënte kosten Transportdienst 2013","€,  prijspeil 2010",{"$f":"D13*(1-D6)^3","v":853753116.17620814}]
[null,"Efficiente kosten Aansluitdienst 2013","€,  prijspeil 2010",{"$f":"D19*(1-D7)^3","v":166299605.07840085}]
[]
[null,"Efficiente kosten (TD + AD) 2013","€,  prijspeil 2010",{"$f":"D24+D25","v":1020052721.254609}]
[null,"Efficiente kosten per SO (TD + AD) 2013","€,  prijspeil 2010",{"$f":"D27/SO!Q169","v":1.1040538342140558}]
[]
[null,"EindInkomsten (TD + AD) 2013  (excl. ORV)","€,  prijspeil 2010",null,{"$f":"$D$28*SO!E169","v":19928149.884628993},{"$f":"$D$28*SO!F169","v":27667443.79122445},{"$f":"$D$28*SO!G169","v":269453617.14387113},{"$f":"$D$28*SO!H169","v":8702286.8234618418},{"$f":"$D$28*SO!I169","v":21947718.407100707},{"$f":"$D$28*SO!J169","v":27166747.195942335},{"$f":"$D$28*SO!K169","v":302409786.92989153},{"$f":"$D$28*SO!L169","v":30431727.574262124},{"$f":"$D$28*SO!M169","v":14529124.822432758},{"$f":"$D$28*SO!N169","v":17891367.767438512},{"$f":"$D$28*SO!O169","v":275103782.82908046},{"$f":"$D$28*SO!P169","v":4820968.0852741757},{"$f":"SUM(E30:P30)","v":1020052721.2546091}]
[null,"Geschatte ORV kosten (TD + AD) 2013","€,  prijspeil 2010",null,{"$f":"(ORV!E81+ORV!E85)*1000","v":827490.28196408215},{"$f":"(ORV!F81+ORV!F85)*1000","v":273735.85129999998},{"$f":"(ORV!G81+ORV!G85)*1000","v":12979225.211999999},{"$f":"(ORV!H81+ORV!H85)*1000","v":0},{"$f":"(ORV!I81+ORV!I85)*1000","v":1442418.7881454069},{"$f":"(ORV!J81+ORV!J85)*1000","v":0},{"$f":"(ORV!K81+ORV!K85)*1000","v":7025708.1134089027},{"$f":"(ORV!L81+ORV!L85)*1000","v":0},{"$f":"(ORV!M81+ORV!M85)*1000","v":3175333.3683898957},{"$f":"(ORV!N81+ORV!N85)*1000","v":2501.482},{"$f":"(ORV!O81+ORV!O85)*1000","v":612833},{"$f":"(ORV!P81+ORV!P85)*1000","v":0},{"$f":"SUM(E31:P31)","v":26339246.097208288}]
[]
[null,"Eindinkomsten 2013","€,  prijspeil 2010",null,{"$f":"E30+E31","v":20755640.166593075},{"$f":"F30+F31","v":27941179.642524451},282432842.35587114,8702286.8234618418,23390137.195246115,27166747.195942335,309435495.04330045,30431727.574262124,17704458.190822653,17893869.249438513,275716615.82908046,4820968.0852741757,{"$f":"SUM(E33:P33)","v":1046391967.3518173}]

{"sheet":"Productiviteit TD","index":6,"n_rows":46,"n_cols":21,"rows_kept":46,"cut":false,"hidden":false,"merged":[]}
[]
[null,"Productiviteitsmeting Transportdienst",null,null,"Cogas Infra & Beheer B.V.","DELTA Netwerkbedrijf B.V.","Stedin B.V.","Endinet Haarlemmermeer B.V.","Intergas Energie B.V.","Endinet Regio Eindhoven B.V.","Liander N.V.","Endinet Oost-Brabant N.V.","N.V. RENDO","Westland Energie Infrastructuur B.V.","Enexis B.V.","Zebra Gasnetwerk B.V.","Totaal",null,null,"Liander N.V. (gefuseerd bedrijf)","Endinet B.V. (gefuseerd bedrijf)"]
[]
[]
[null,"Kostendata"]
[]
[null,"Gestandaardiseerde Economische Kosten 2006 incl ORV","€","prijspeil 2006",{"$f":"'Kosten TD'!E43*1000","v":18460515.08203676},{"$f":"'Kosten TD'!F43*1000","v":18851551.809700359},{"$f":"'Kosten TD'!G43*1000","v":228526071.72905073},{"$f":"'Kosten TD'!H43*1000","v":7772901.3222013712},{"$f":"'Kosten TD'!I43*1000","v":26317558.114939887},{"$f":"'Kosten TD'!J43*1000","v":21543745.151589431},{"$f":"'Kosten TD'!K43*1000","v":248146759.29617614},{"$f":"'Kosten TD'!L43*1000","v":26625195.112376578},{"$f":"'Kosten TD'!M43*1000","v":22649518.860107675},{"$f":"'Kosten TD'!N43*1000","v":19323008.076643851},{"$f":"'Kosten TD'!O43*1000","v":188266232.14844295},{"$f":"'Kosten TD'!P43*1000","v":0},{"$f":"SUM(E7:P7)","v":826483056.70326567},null,null,{"$f":"H7+K7","v":255919660.61837751},{"$f":"J7+L7","v":48168940.263966009}]
[null,"ORV kosten 2006","€","prijspeil 2006",{"$f":"1000*ORV!E16","v":913176.37910308538},{"$f":"1000*ORV!F16","v":281741.38},{"$f":"1000*ORV!G16","v":12439632.999999998},{"$f":"1000*ORV!H16","v":0},{"$f":"1000*ORV!I16","v":1499316.1458063161},{"$f":"1000*ORV!J16","v":0},{"$f":"1000*ORV!K16","v":6290409},{"$f":"1000*ORV!L16","v":0},{"$f":"1000*ORV!M16","v":3334426.9949755338},{"$f":"1000*ORV!N16","v":0},{"$f":"1000*ORV!O16","v":534000},{"$f":"1000*ORV!P16","v":0},{"$f":"SUM(E8:P8)","v":25292702.899884935},null,null,{"$f":"H8+K8","v":6290409},{"$f":"J8+L8","v":0}]
[null,"Gestandaardiseerde Economische Kosten 2006 excl ORV","€","prijspeil 2006",{"$f":"E7-E8","v":17547338.702933673},{"$f":"F7-F8","v":18569810.42970036},216086438.72905073,7772901.3222013712,24818241.969133571,21543745.151589431,241856350.29617614,26625195.112376578,19315091.865132142,{"$f":"N7-N8","v":19323008.076643851},{"$f":"O7-O8","v":187732232.14844295},{"$f":"P7-P8","v":0},801190353.80338073,null,null,{"$f":"H9+K9","v":249629251.61837751},{"$f":"J9+L9","v":48168940.263966009}]
[]
[null,"Gestandaardiseerde Economische Kosten 2007 incl ORV","€","prijspeil 2007",{"$f":"'Kosten TD'!E82*1000","v":17721949.068255808},{"$f":"'Kosten TD'!F82*1000","v":17704822.160055511},{"$f":"'Kosten TD'!G82*1000","v":242154033.18253329},{"$f":"'Kosten TD'!H82*1000","v":7218892.6410894217},{"$f":"'Kosten TD'!I82*1000","v":26031891.766000509},{"$f":"'Kosten TD'!J82*1000","v":22591094.886744529},{"$f":"'Kosten TD'!K82*1000","v":248840907.68695533},{"$f":"'Kosten TD'!L82*1000","v":26816067.913314272},{"$f":"'Kosten TD'!M82*1000","v":24581664.672466151},{"$f":"'Kosten TD'!N82*1000","v":19313601.881308105},{"$f":"'Kosten TD'!O82*1000","v":197165287.52950057},{"$f":"'Kosten TD'!P82*1000","v":0},850140213.38822353,null,null,{"$f":"H11+K11","v":256059800.32804474},{"$f":"J11+L11","v":49407162.800058797}]
[null,"ORV kosten 2007","€","prijspeil 2007",{"$f":"1000*ORV!E30","v":876640.03509571066},{"$f":"1000*ORV!F30","v":274637.40999999997},{"$f":"1000*ORV!G30","v":12162400.999999998},{"$f":"1000*ORV!H30","v":0},{"$f":"1000*ORV!I30","v":1472987.793004958},{"$f":"1000*ORV!J30","v":0},{"$f":"1000*ORV!K30","v":7677067.256393821},{"$f":"1000*ORV!L30","v":0},{"$f":"1000*ORV!M30","v":3264004.5681459485},{"$f":"1000*ORV!N30","v":6981.07},{"$f":"1000*ORV!O30","v":612000},{"$f":"1000*ORV!P30","v":0},26346719.132640436,null,null,7677067.256393821,0]
[null,"Gestandaardiseerde Economische Kosten 2007 excl ORV","€","prijspeil 2007",{"$f":"E11-E12","v":16845309.033160098},{"$f":"F11-F12","v":17430184.750055511},229991632.18253329,7218892.6410894217,24558903.972995549,22591094.886744529,241163840.43056151,26816067.913314272,{"$f":"M11-M12","v":21317660.104320202},{"$f":"N11-N12","v":19306620.811308105},{"$f":"O11-O12","v":196553287.52950057},{"$f":"P11-P12","v":0},823793494.25558305,null,null,248382733.07165092,49407162.800058797]
[]
[null,"Gestandaardiseerde Economische Kosten 2008 incl ORV","€","prijspeil 2008",{"$f":"'Kosten TD'!E123*1000","v":18176597.121293433},{"$f":"'Kosten TD'!F123*1000","v":18667881.710694771},{"$f":"'Kosten TD'!G123*1000","v":234654381.12711242},{"$f":"'Kosten TD'!H123*1000","v":5253011.7135747299},{"$f":"'Kosten TD'!I123*1000","v":25553955.658774965},{"$f":"'Kosten TD'!J123*1000","v":22439067.431076359},{"$f":"'Kosten TD'!K123*1000","v":264872755.87396377},{"$f":"'Kosten TD'!L123*1000","v":21421020.72094759},{"$f":"'Kosten TD'!M123*1000","v":22419673.142135393},{"$f":"'Kosten TD'!N123*1000","v":19538384.94929583},{"$f":"'Kosten TD'!O123*1000","v":208965222.84827584},{"$f":"'Kosten TD'!P123*1000","v":0},861961952.29714513,null,null,{"$f":"H15+K15","v":270125767.58753848},{"$f":"J15+L15","v":43860088.152023949}]
[null,"ORV kosten 2008","€","prijspeil 2008",{"$f":"1000*ORV!E44","v":839951.24522892246},{"$f":"1000*ORV!F44","v":275418.28999999998},{"$f":"1000*ORV!G44","v":12264064},{"$f":"1000*ORV!H44","v":0},{"$f":"1000*ORV!I44","v":1441351.3733180966},{"$f":"1000*ORV!J44","v":0},{"$f":"1000*ORV!K44","v":7595804},{"$f":"1000*ORV!L44","v":0},{"$f":"1000*ORV!M44","v":3190723.35507396},{"$f":"1000*ORV!N44","v":3348},{"$f":"1000*ORV!O44","v":617000},{"$f":"1000*ORV!P44","v":0},26227660.26362098,null,null,7595804,0]
[null,"Gestandaardiseerde Economische Kosten 2008 excl ORV","€","prijspeil 2008",{"$f":"E15-E16","v":17336645.876064509},{"$f":"F15-F16","v":18392463.420694772},222390317.12711242,5253011.7135747299,24112604.285456866,22439067.431076359,257276951.87396377,21421020.72094759,{"$f":"M15-M16","v":19228949.787061434},{"$f":"N15-N16","v":19535036.94929583},{"$f":"O15-O16","v":208348222.84827584},{"$f":"P15-P16","v":0},835734292.03352427,null,null,262529963.58753851,43860088.152023949]
[]
[null,"Gestandaardiseerde Economische Kosten 2009 incl OVR","€","prijspeil 2009",{"$f":"1000*'Kosten TD'!E164","v":18620116.392979216},{"$f":"1000*'Kosten TD'!F164","v":21384843.454463858},{"$f":"1000*'Kosten TD'!G164","v":249106471.76791224},{"$f":"1000*'Kosten TD'!H164","v":5308904.3316009464},{"$f":"1000*'Kosten TD'!I164","v":25758142.629439626},{"$f":"1000*'Kosten TD'!J164","v":21895953.633320265},{"$f":"1000*'Kosten TD'!K164","v":264277531.89417171},{"$f":"1000*'Kosten TD'!L164","v":22212528.772464216},{"$f":"1000*'Kosten TD'!M164","v":23105066.727195367},{"$f":"1000*'Kosten TD'!N164","v":19176870.69383515},{"$f":"1000*'Kosten TD'!O164","v":200702114.9390859},{"$f":"1000*'Kosten TD'!P164","v":0},871548545.23646855,null,null,{"$f":"H19+K19","v":269586436.22577268},{"$f":"J19+L19","v":44108482.40578448}]
[null,"ORV kosten 2009","€","prijspeil 2009",{"$f":"1000*ORV!E58","v":819015.2362553163},{"$f":"1000*ORV!F58","v":272917.09999999998},{"$f":"1000*ORV!G58","v":12940404},{"$f":"1000*ORV!H58","v":0},{"$f":"1000*ORV!I58","v":1438104.4747212431},{"$f":"1000*ORV!J58","v":0},{"$f":"1000*ORV!K58","v":7004694.0313149588},{"$f":"1000*ORV!L58","v":0},{"$f":"1000*ORV!M58","v":3165835.8608074733},{"$f":"1000*ORV!N58","v":2494},{"$f":"1000*ORV!O58","v":611000},{"$f":"1000*ORV!P58","v":0},26254464.703098994,null,null,7004694.0313149588,0]
[null,"Gestandaardiseerde Economische Kosten 2009 excl ORV","€","prijspeil 2009",{"$f":"E19-E20","v":17801101.156723898},{"$f":"F19-F20","v":21111926.354463857},236166067.76791224,5308904.3316009464,24320038.154718384,21895953.633320265,257272837.86285675,22212528.772464216,{"$f":"M19-M20","v":19939230.866387893},{"$f":"N19-N20","v":19174376.69383515},{"$f":"O19-O20","v":200091114.9390859},{"$f":"P19-P20","v":0},845294080.53336954,null,null,262581742.19445768,44108482.40578448]
[]
[]
[null,"Gestandaardiseerde Economische Kosten 2007 excl. ORV","€","prijspeil 2006",{"$f":"E13/(1+_CPI2007)","v":16612730.801933035},17189531.311691824,{"$f":"G13/(1+_CPI2007)","v":226816205.30821824},7119223.5119225066,24219826.403348669,22279186.278840758,237834162.16031706,26445826.344491392,{"$f":"M13/(1+_CPI2007)","v":21023333.436213218},{"$f":"N13/(1+_CPI2007)","v":19040059.971704245},{"$f":"O13/(1+_CPI2007)","v":193839534.05276191},{"$f":"P13/(1+_CPI2007)","v":0},{"$f":"SUM(E24:P24)","v":812419619.58144283},null,null,{"$f":"H24+K24","v":244953385.67223957},{"$f":"J24+L24","v":48725012.62333215}]
[null,"Gestandaardiseerde Economische Kosten 2008 excl. ORV","€","prijspeil 2007",{"$f":"E17/(1+_CPI2008)","v":17148017.68156727},18192347.597126383,{"$f":"G17/(1+_CPI2008)","v":219970640.08616462},5195857.2834567064,23850251.518750612,22194923.275050804,254477697.20471197,21187953.235358648,{"$f":"M17/(1+_CPI2008)","v":19019732.727063734},{"$f":"N17/(1+_CPI2008)","v":19322489.564090833},{"$f":"O17/(1+_CPI2008)","v":206081328.23766157},{"$f":"P17/(1+_CPI2008)","v":0},{"$f":"SUM(E25:P25)","v":826641238.41100323},null,null,259673554.48816869,43382876.510409452]
[null,"Gestandaardiseerde Economische Kosten 2009 excl. ORV","€","prijspeil 2008",{"$f":"E21/(1+_CPI2009)","v":17249129.027833235},20457292.979131643,{"$f":"G21/(1+_CPI2009)","v":228843088.92239559},5144287.1430241726,23565928.444494557,21217009.33461266,249295385.52602398,21523768.190372303,{"$f":"M21/(1+_CPI2009)","v":19320960.141848732},{"$f":"N21/(1+_CPI2009)","v":18579822.377747238},{"$f":"O21/(1+_CPI2009)","v":193886739.28205997},{"$f":"P21/(1+_CPI2009)","v":0},{"$f":"SUM(E26:P26)","v":819083411.36954403},null,null,254439672.66904816,42740777.524984963]
[]
[null,"Outputdata"]
[]
[null,"Samengestelde Output 2006",null,null,{"$f":"SO!E18","v":14431578.741088167},{"$f":"SO!F18","v":18817286.994324122},{"$f":"SO!G18","v":191454536.0324775},{"$f":"SO!H18","v":6575050.2505912827},{"$f":"SO!I18","v":16232236.431899132},{"$f":"SO!J18","v":20203227.811859664},{"$f":"SO!K18","v":224838508.8041361},{"$f":"SO!L18","v":22346322.988743719},{"$f":"SO!M18","v":10654583.364463201},{"$f":"SO!N18","v":15829273.913561139},{"$f":"SO!O18","v":204138703.47003418},{"$f":"SO!P18","v":0},{"$f":"SUM(E30:P30)","v":745521308.80317831},null,null,{"$f":"H30+K30","v":231413559.05472738},{"$f":"J30+L30","v":42549550.800603382}]
[null,"Samengestelde Output 2007",null,null,{"$f":"SO!E34","v":14505014.465402476},{"$f":"SO!F34","v":18801547.062343635},{"$f":"SO!G34","v":191223669.54723397},{"$f":"SO!H34","v":6656931.0687319245},{"$f":"SO!I34","v":16552254.490068285},{"$f":"SO!J34","v":20254265.808893573},{"$f":"SO!K34","v":225612246.40313476},{"$f":"SO!L34","v":22691912.937626049},{"$f":"SO!M34","v":10720595.398304913},{"$f":"SO!N34","v":15234328.421121873},{"$f":"SO!O34","v":205781526.94603041},{"$f":"SO!P34","v":0},{"$f":"SUM(E31:P31)","v":748034292.5488919},null,null,232269177.4718667,42946178.746519625]
[null,"Samengestelde Output 2008",null,null,{"$f":"SO!E50","v":14760071.252803734},{"$f":"SO!F50","v":18940990.096431788},{"$f":"SO!G50","v":196080021.07937011},{"$f":"SO!H50","v":6733573.9435819536},{"$f":"SO!I50","v":16642859.524535205},{"$f":"SO!J50","v":20391135.369779982},{"$f":"SO!K50","v":227029779.75375387},{"$f":"SO!L50","v":22963706.977544717},{"$f":"SO!M50","v":10768878.571035102},{"$f":"SO!N50","v":15131425.250831606},{"$f":"SO!O50","v":205491498.73522872},{"$f":"SO!P50","v":0},{"$f":"SUM(E32:P32)","v":754933940.55489683},null,null,233763353.69733584,43354842.347324699]
[null,"Samengestelde Output 2009",null,null,{"$f":"SO!E66","v":14716513.233191725},{"$f":"SO!F66","v":19248722.645143036},{"$f":"SO!G66","v":199261132.95025063},{"$f":"SO!H66","v":6614921.4899189128},{"$f":"SO!I66","v":16645310.063392222},{"$f":"SO!J66","v":20278130.845745411},{"$f":"SO!K66","v":225900553.48985067},{"$f":"SO!L66","v":23024818.230359208},{"$f":"SO!M66","v":10845865.481213262},{"$f":"SO!N66","v":14474764.54794595},{"$f":"SO!O66","v":205688781.47111458},{"$f":"SO!P66","v":0},{"$f":"SUM(E33:P33)","v":756699514.4481256},null,null,232515474.97976959,43302949.076104619]
[]
[null,"Productiviteitsverandering"]
[]
[null,"PV 2007","%",null,{"$f":"((E9/E30)-(E24/E31))/(E9/E30)","v":5.8055215701072742E-2},{"$f":"((F9/F30)-(F24/F31))/(F9/F30)","v":7.355426210609696E-2},{"$f":"((G9/G30)-(G24/G31))/(G9/G30)","v":-5.0922234627720726E-2},{"$f":"((H9/H30)-(H24/H31))/(H9/H30)","v":9.5362701010916692E-2},4.2979553682310677E-2,{"$f":"((J9/J30)-(J24/J31))/(J9/J30)","v":-3.1531221756709991E-2},2.0002951382873453E-2,2.1863859065026092E-2,-8.1738697897910384E-2,-2.3838029576317265E-2,-2.4288931854423681E-2,null,-1.0609192572182131E-2,null,null,{"$f":"((T9/T30)-(T24/T31))/(T9/T30)","v":2.2345977509487781E-2},-2.2021284423245952E-3]
[null,"PV 2008","%",null,{"$f":"((E13/E31)-(E25/E32))/(E13/E31)","v":-3.7919760345794378E-4},{"$f":"((F13/F31)-(F25/F32))/(F13/F31)","v":-3.6042721687999497E-2},{"$f":"((G13/G31)-(G25/G32))/(G13/G31)","v":6.7259173866363944E-2},0.28843421558286741,3.414220348578282E-2,{"$f":"((J13/J31)-(J25/J32))/(J13/J31)","v":2.4131126738016154E-2},-4.8618165616668881E-2,0.21923017406998874,0.11179481879461407,-7.6281492860496534E-3,-4.9955416775718325E-2,null,{"$f":"((Q13/Q31)-(Q25/Q32))/(Q13/Q31)","v":5.7141334722651373E-3},null,null,{"$f":"((T13/T31)-(T25/T32))/(T13/T31)","v":-3.8774963967056958E-2},0.13020812725198713]
[null,"PV 2009","%",null,{"$f":"((E17/E32)-(E26/E33))/(E17/E32)","v":2.1032198638124152E-3},{"$f":"((F17/F32)-(F26/F33))/(F17/F32)","v":-9.4483014802692139E-2},{"$f":"((G17/G32)-(G26/G33))/(G17/G32)","v":-1.2587767799195675E-2},{"$f":"((H17/H32)-(H26/H33))/(H17/H32)","v":3.1317310889213781E-3},2.2815670739066405E-2,{"$f":"((J17/J32)-(J26/J33))/(J17/J32)","v":4.9191948846045067E-2},2.617954896543179E-2,-2.1296942243321892E-3,2.3472466475145818E-3,5.7498857612786093E-3,7.0302719087464868E-2,null,{"$f":"((Q17/Q32)-(Q26/Q33))/(Q17/Q32)","v":2.2210423041550242E-2},null,null,{"$f":"((T17/T32)-(T26/T33))/(T17/T32)","v":2.5615163853874193E-2},{"$f":"((U17/U32)-(U26/U33))/(U17/U32)","v":2.4352232164756942E-2}]
[]
[]
[null,"Productiviteitsverandering 2006-2009","%",3.400322495354176E-4]
[]
[null,"(linkerdeel formule)",null,{"$f":"(1-D42)+(1-D42)^2+(1-D42)^3","v":2.9979602689511955}]
[null,"(rechterdeel formule)",null,{"$f":"(1-Q37)+(1-Q37)*(1-Q38)+(1-Q37)*(1-Q38)*(1-Q39)","v":2.9979602681601327}]
[null,"(verschil)",null,{"$f":"D45-D44","v":-7.9106277084406429E-10}]

{"sheet":"Kosten TD","index":7,"n_rows":217,"n_cols":17,"rows_kept":217,"cut":false,"hidden":false,"merged":[]}
[]
[null,"Gestandaardiseerde Economische Kosten Transportdienst",null,null,"Cogas Infra & Beheer B.V.","DELTA Netwerkbedrijf B.V.","Stedin B.V.","Endinet Haarlemmermeer B.V.","Intergas Energie B.V.","Endinet Regio Eindhoven B.V.","Liander N.V.","Endinet Oost-Brabant N.V.","N.V. RENDO","Westland Energie Infrastructuur B.V.","Enexis B.V.","Zebra Gasnetwerk B.V.","Totaal"]
[]
[]
[null,"Kosten TD 2006 excl. EHD (t.b.v. productiviteitsmeting)"]
[]
[null,"OPEX Transportonafhankelijk (TO)"]
[null,"Inkoopkosten gastransportdiensten","€ '000",null,0,0,0,0,0,0,0,0,0,0,0,0,{"$f":"SUM(E8:P8)","v":0}]
[null,"Inkoopkosten overige transportgerelateerd activiteiten","€ '000",null,0,0,0,0,0,0,0,0,0,0,0,0,{"$f":"SUM(E9:P9)","v":0}]
[null,"Personeelskosten","€ '000",null,35,461.92099878787889,25924.576238118567,85,977.71119831578972,661.57925,3838.0112554695888,82,345.346,0,0,0,32411.144940691822]
[null,"Kosten uitbesteed werk en andere externe kosten","€ '000",null,3930,3544.3055728836125,6281.3786350337814,1687,533.61900000000003,193.65885,48691.44864182634,4471,322.92500000000001,0,0,0,{"$f":"SUM(E11:P11)","v":69655.335699743737}]
[null,"Bijzondere waardeverminderingen immateriele en materiele vaste activa","€ '000",null,0,0,0,0,0,0,0,0,0,0,0,0,0]
[null,"Kosten wettelijke reserve inzake O&O-kosten","€ '000",null,0,0,0,0,0,0,0,0,0,0,0,0,0]
[null,"Precario","€ '000",null,0,0,12426.632999999998,0,0,0,3751.9099023771155,0,0,0,0,0,{"$f":"SUM(E14:P14)","v":16178.542902377114}]
[null,"Gedoogbelasting","€ '000",null,3.4448599999999998,0,13,0,0,0,0,0,0,0,534,0,{"$f":"SUM(E15:P15)","v":550.44485999999995}]
[null,"Overige bedrijfskosten","€ '000",null,25,151.49972306865905,12994.960094828652,304,1431.7283511322601,2713.0657330458534,1155.1889274391808,392,320.78300000000002,734.89364873110856,{"$f":"18707","v":18707},0,38930.11947824571]
[null,"Buitengewone lasten / correctie toerekening Liander","€ '000",null,null,0,0,0,0,0,{"$f":"'Aanpassing gegevens (sep 14)'!G381","v":-7753.8578163617112},0,0,0,0,0,-7753.8578163617112]
[null,"Totaal bedrijfslasten TO (excl. Afschrijvingen)","€ '000",null,{"$f":"SUM(E8:E16)","v":3993.4448600000001},{"$f":"SUM(F8:F17)","v":4157.7262947401505},57640.547967980994,2076,2943.0585494480501,3568.3038330458535,49682.700910750507,4945,989.05399999999997,734.89364873110856,19241,0,{"$f":"SUM(E18:P18)","v":149971.73006469666}]
[]
[null,"OPEX Transportafhankelijk (TA)"]
[null,"Inkoopkosten gastransportdiensten","€ '000",null,0,0,0,0,0,0,0,0,0,0,0,0,{"$f":"SUM(E21:P21)","v":0}]
[null,"Inkoopkosten overige transportgerelateerd activiteiten","€ '000",null,0,0,0,0,0,0,0,0,0,432,0,0,{"$f":"SUM(E22:P22)","v":432}]
[null,"Personeelskosten","€ '000",null,103,null,14570.512366613741,86,574.31986474493931,507.86354291845487,2596.7542830661359,83,{"$f":"1268.364+'Aanpassing gegevens (sep 14)'!G106","v":1220.256142},0,0,0,19741.706199343269]
[null,"Kosten uitbesteed werk en andere externe kosten","€ '000",null,4812,4397.6402097270548,11999.345121391701,1925,1536.2094203802724,147.53546489270386,32944.074259596498,4196,{"$f":"975.159+'Aanpassing gegevens (sep 14)'!G107","v":933.32608000000005},0,0,0,62891.130555988231]
[null,"Bijzondere waardeverminderingen immateriele en materiele vaste activa","€ '000",null,0,0,0,0,0,0,0,0,0,0,0,0,0]
[null,"Kosten wettelijke reserve inzake O&O-kosten","€ '000",null,0,0,0,0,0,0,0,0,0,0,0,0,0]
[null,"Precario","€ '000",null,0,281.74137999999999,0,0,0,0,2538.4990976228842,0,80.144999999999996,0,0,0,{"$f":"SUM(E27:P27)","v":2900.3854776228841}]
[null,"Gedoogbelasting","€ '000",null,0,0,0,0,0,0,0,0,0,0,0,0,{"$f":"SUM(E28:P28)","v":0}]
[null,"Overige bedrijfskosten","€ '000",null,97,0,4011.4105205555898,0,146.35521909225,0,781.58754506081914,0,{"$f":"947.162+'Aanpassing gegevens (sep 14)'!G108","v":932.52047800000003},4656.6677716255563,{"$f":"64012","v":64012},0,{"$f":"SUM(E29:P29)","v":74637.541534334217}]
[null,"Buitengewone lasten / correctie toerekening Liander","€ '000",null,0,0,0,0,0,0,{"$f":"'Aanpassing gegevens (sep 14)'!G382","v":-5246.1421836382897},0,769.47900000000004,0,0,0,-4476.6631836382894]
[null,"Dotatie aan voorziening die bij nader inzien toch meegenomen wordt","€ '000",null,0,0,0,800,0,0,0,1200,0,0,4791,0,{"$f":"SUM(E31:P31)","v":6791}]
[null,"Totaal bedrijfslasten TA (excl. Afschrijvingen)","€ '000",null,{"$f":"SUM(E21:E31)","v":5012},4679.3815897270551,30581.268008561034,{"$f":"SUM(H21:H31)","v":2811},2256.8845042174617,655.39900781115875,{"$f":"SUM(K21:K31)","v":33614.773001708054},5479,3935.7267000000002,{"$f":"SUM(N21:N31)","v":5088.6677716255563},{"$f":"SUM(O21:O31)","v":68803},{"$f":"SUM(P21:P31)","v":0},{"$f":"SUM(E32:P32)","v":162917.10058365032}]
[]
[null,"Totaal OPEX","€ '000",null,{"$f":"E18+E32","v":9005.4448599999996},{"$f":"F18+F32","v":8837.1078844672047},88221.815976542028,4887,5199.9430536655118,4223.7028408570122,83297.473912458561,10424,4924.7807000000003,5823.5614203566647,88044,0,312888.83064834698]
[]
[null,"CAPEX (o.b.v. WACC NG4R t.b.v. productiviteit)"]
[null,"Eindstand GAW","€ '000",null,90733.023389800015,106471.59414343799,1471325.6092693936,30173.289554922547,224194.0393640564,184033.85833386768,1770234.913043621,171228.60243188732,{"$f":"170644.844041785+'Aanpassing gegevens (sep 14)'!G56","v":170040.40145872699},131678.15049431173,{"$f":"1047486.34088641+'Aanpassing gegevens (sep 14)'!G40","v":1048738.7748864058},0,{"$f":"SUM(E37:P37)","v":5398852.2563704317}]
[null,"Afschrijvingen","€ '000",null,3829.6227718691584,3413.2050883399993,50215.067977806306,1015.1573697961732,7217.5846207028753,5924.2911940326248,55094.720775013055,5585.0217615995662,{"$f":"6996.64140864739+'Aanpassing gegevens (sep 14)'!G57","v":7198.1222696666},5234.9344556398592,{"$f":"35212.4281054858+'Aanpassing gegevens (sep 14)'!G41","v":35212.4281054858},0,{"$f":"SUM(E38:P38)","v":179940.15638995206}]
[null,"Totaal CAPEX","€ '000",null,{"$f":"E38+WACC2011_2013*E37","v":9455.0702220367602},10014.443925233154,141437.2557525087,2885.9013222013709,21117.615061274373,17334.39041073242,164849.28538371756,16201.195112376579,17740.627160107673,13398.979786287186,100234.23214844296,0,514668.9962849188]
[]
[null,"Eliminatie niet-tariefgereguleerde OPEX en CAPEX","€ '000",null,{"$f":"-'Aanpassing gegevens (sep 14)'!G224","v":0},{"$f":"-'Aanpassing gegevens (sep 14)'!G234","v":0},{"$f":"-'Aanpassing gegevens (sep 14)'!G244","v":-1133},{"$f":"-'Aanpassing gegevens (aug 2016)'!I40","v":0},{"$f":"-'Aanpassing gegevens (sep 14)'!G264","v":0},{"$f":"-'Aanpassing gegevens (sep 14)'!G274","v":-14.348100000000001},{"$f":"-'Aanpassing gegevens (sep 14)'!G284","v":0},{"$f":"-'Aanpassing gegevens (aug 2016)'!I57","v":0},{"$f":"-'Aanpassing gegevens (sep 14)'!G304","v":-15.888999999999999},{"$f":"-'Aanpassing gegevens (sep 14)'!G314","v":100.4668700000007},{"$f":"-'Aanpassing gegevens (sep 14)'!G324","v":-12},null,{"$f":"SUM(E41:P41)","v":-1074.7702299999992}]
[]
[null,"Gestandaardiseerde Economische Kosten 2006 (incl. ORV)","€ '000",null,{"$f":"E34+E39+E41","v":18460.51508203676},{"$f":"F34+F39+F41","v":18851.551809700359},{"$f":"G34+G39+G41","v":228526.07172905072},7772.9013222013709,26317.558114939886,21543.745151589432,248146.75929617614,26625.195112376579,22649.518860107673,19323.008076643851,188266.23214844294,0,{"$f":"SUM(E43:P43)","v":826483.05670326552}]
[]
[null,"Kosten TD 2007 excl. EHD (t.b.v. productiviteitsmeting)"]
[]
[null,"OPEX Transportonafhankelijk (TO)"]
[null,"Inkoopkosten gastransportdiensten","€ '000",null,0,0,0,0,0,0,0,0,0,0,0,0,{"$f":"SUM(E48:P48)","v":0}]
[null,"Inkoopkosten overige transportgerelateerde activiteiten","€ '000",null,0,0,0,0,0,0,0,0,0,0,0,0,0]
[null,"Personeelskosten","€ '000",null,21.740797052561064,490.49273818181825,28157.444224884108,122,1001.664,817.77,5075.2243807108371,984.5,449.021014881491,0,0,0,37119.857155710815]
[null,"Kosten uitbesteed werk en andere externe kosten","€ '000",null,3725,2363.1152282306484,4559.5780667973686,1631,269.02800000000002,180.39348000000001,44236.449680970887,3326,551.34577842074202,0,0,0,60841.910234419644]
[null,"Bijzondere waardeverminderingen immateriële en materiële vaste activa","€ '000",null,0,0,0,0,0,0,0,0,0,0,0,0,0]
[null,"Kosten wettelijke reserve inzake onderzoek- en ontwikkelingskosten","€ '000",null,0,0,0,0,0,0,0,0,0,0,0,0,0]
[null,"Precario","€ '000",null,0,0,8265.3365299999987,0,0,0,4350.6814843386819,0,0,0,0,0,12616.018014338681]
[null,"Gedoogbelasting","€ '000",null,0,0,3897.0644700000003,0,0,0,0,0,0,0,0,0,3897.0644700000003]
[null,"Overige bedrijfskosten","€ '000",null,26,158.14340926951499,15580.472910194811,321.92500000000001,1368.58,3665.617165700352,1063.6243750437941,561.61749999999995,104.01486602651499,742.55946717992776,{"$f":"15087","v":15087},0,38679.55469341491]
[null,"Buitengewone lasten / correctie toerekening Liander","€ '000",null,0,0,0,0,0,0,{"$f":"'Aanpassing gegevens (sep 14)'!G383","v":-7379.9856847958017},0,0,0,0,0,-7379.9856847958017]
[null,"Totaal bedrijfslasten TO (excl. Afschrijvingen)","€ '000",null,{"$f":"SUM(E48:E57)","v":3772.740797052561},{"$f":"SUM(F48:F57)","v":3011.7513756819817},60459.896201876283,2074.9250000000002,2639.2719999999999,4663.7806457003517,47345.994236268401,4872.1175000000003,1104.3816593287479,742.55946717992776,15087,0,{"$f":"SUM(E58:P58)","v":145774.41888308828}]
[]
[null,"OPEX Transportafhankelijk (TA)"]
[null,"Inkoopkosten gastransportdiensten","€ '000",null,0,0,0,0,0,0,0,0,0,0,0,0,{"$f":"SUM(E61:P61)","v":0}]
[null,"Inkoopkosten overige transportgerelateerde activiteiten","€ '000",null,0,0,0,0,0,0,0,0,0,264,0,0,{"$f":"SUM(E62:P62)","v":264}]
[null,"Personeelskosten","€ '000",null,82.350420414552843,0,18376.285934604948,1508,532.53,459.85052360515016,3880.3470745342388,2686.5,1423.7251691364399,0,0,0,28949.589122295329]
[null,"Kosten uitbesteed werk en andere externe kosten","€ '000",null,4322,4338.8998000949123,12695.035641076638,546,1546.1379999999999,112.13350072961373,33654.737247080782,2764,{"$f":"1534.74165404041+'Aanpassing gegevens (sep 14)'!G109","v":1427.7666040404099},0,0,0,61406.71079302235]
[null,"Bijzondere waardeverminderingen immateriële en materiële vaste activa","€ '000",null,0,0,0,0,0,0,0,0,0,0,0,0,0]
[null,"Kosten wettelijke reserve inzake onderzoek- en ontwikkelingskosten","€ '000",null,0,0,0,0,0,0,0,0,0,0,0,0,0]
[null,"Precario","€ '000",null,0,274.63740999999999,0,0,0,0,3326.3857720551391,0,81.473519999999994,6.9810699999999999,612,0,4301.4777720551392]
[null,"Gedoogbelasting","€ '000",null,0,0,0,0,0,0,0,0,0,0,0,0,0]
[null,"Overige bedrijfskosten","€ '000",null,97,0,10582.180698887702,0,166.71700000000001,0,813.21167745620596,0,102.396507017544,4705.2423779993933,{"$f":"78123","v":78123},0,94589.748261360844]
[null,"Buitengewone lasten / correctie toerekening Liander","€ '000",null,0,0,0,0,0,0,{"$f":"'Aanpassing gegevens (sep 14)'!G384","v":-5620.0143152041992},0,2431.30809,0,0,0,-3188.7062252041992]
[null,"Totaal bedrijfslasten TA (excl. Afschrijvingen)","€ '000",null,{"$f":"SUM(E61:E70)","v":4501.3504204145529},4613.5372100949126,41653.502274569284,2054,2245.3849999999998,571.98402433476394,36054.667455922172,5450.5,5466.6698901943946,4976.2234479993931,78735,0,{"$f":"SUM(E71:P71)","v":186322.81972352945}]
[]
[null,"Totaal OPEX ","€ '000",null,{"$f":"E58+E71","v":8274.0912174671139},{"$f":"F58+F71","v":7625.2885857768943},102113.39847644557,4128.9250000000002,4884.6569999999992,5235.7646700351161,83400.661692190566,10322.6175,6571.051549523143,5718.7829151793212,93822,0,{"$f":"Q58+Q71","v":332097.23860661773}]
[]
[null,"CAPEX (o.b.v. WACC NG4R t.b.v. productiviteit)"]
[null,"Eindstand GAW ","€ '000",null,89438.622458921644,106292.81757693764,1482202.0389904878,30990.296020897698,220637.2528242566,182516.74912591223,1760400.0784474025,170757.34938445571,{"$f":"169045.076134352+'Aanpassing gegevens (sep 14)'!G58","v":168227.86976205799},130281.51253209308,{"$f":"1063095.31397325+'Aanpassing gegevens (sep 14)'!G26+'Aanpassing gegevens (sep 14)'!G42","v":1065137.4505176474},0,{"$f":"SUM(E76:P76)","v":5406882.0376410708}]
[null,"Afschrijvingen","€ '000",null,3902.6632583355558,3489.3788845084841,51759.625808677447,1168.569287793764,7467.7250908966034,6053.7717246296088,56295.441131025793,5906.4947514780206,{"$f":"7386.27760462193+'Aanpassing gegevens (sep 14)'!G59","v":7590.5791976954097},5387.8300691390186,{"$f":"37373.3394258064+'Aanpassing gegevens (sep 14)'!G27+'Aanpassing gegevens (sep 14)'!G43","v":37512.765597406447},0,{"$f":"SUM(E77:P77)","v":186534.84480158618}]
[null,"Totaal CAPEX","€ '000",null,{"$f":"E77+WACC2011_2013*E76","v":9447.8578507886978},10079.533574278617,143656.1522260877,3089.9676410894212,21147.234766000511,17369.810170436169,165440.24599476476,16493.450413314273,18020.707122943008,13465.28384612879,103551.28752950058,0,521761.53113533254]
[]
[null,"Eliminatie niet-tariefgereguleerde OPEX en CAPEX","€ '000",null,{"$f":"-'Aanpassing gegevens (sep 14)'!G225","v":0},{"$f":"-'Aanpassing gegevens (sep 14)'!G235","v":0},{"$f":"-'Aanpassing gegevens (sep 14)'!G245","v":-3615.5175200000003},{"$f":"'Aanpassing gegevens (aug 2016)'!I41","v":0},{"$f":"-'Aanpassing gegevens (sep 14)'!G265","v":0},{"$f":"-'Aanpassing gegevens (aug 2016)'!I49","v":-14.479953726756904},{"$f":"-'Aanpassing gegevens (sep 14)'!G285","v":0},{"$f":"-'Aanpassing gegevens (aug 2016)'!I58","v":0},{"$f":"-'Aanpassing gegevens (sep 14)'!G305","v":-10.093999999999999},{"$f":"-'Aanpassing gegevens (sep 14)'!G315","v":129.53511999999807},{"$f":"-'Aanpassing gegevens (sep 14)'!G325","v":-208},null,{"$f":"SUM(E80:P80)","v":-3718.556353726759}]
[]
[null,"Gestandaardiseerde Economische Kosten 2007 (incl. ORV)","€ '000",null,{"$f":"E73+E78+E80","v":17721.94906825581},{"$f":"F73+F78+F80","v":17704.822160055512},242154.03318253328,7218.8926410894219,26031.89176600051,22591.09488674453,248840.90768695532,26816.067913314273,24581.664672466151,19313.601881308106,197165.28752950058,0,{"$f":"SUM(E82:P82)","v":850140.21338822343}]
[]
[null,"Kosten TD 2008 excl. EHD (t.b.v. productiviteitsmeting)"]
[]
[null,"OPEX Transportonafhankelijk (TO) "]
[null,"Inkoopkosten gastransportdiensten","€ '000",null,0,0,0,0,0,0,0,0,0,0,0,0,{"$f":"SUM(E87:P87)","v":0}]
[null,"Inkoopkosten overige transportgerelateerde activiteiten","€ '000",null,0,0,0,0,0,0,0,0,0,0,0,0,{"$f":"SUM(E88:P88)","v":0}]
[null,"Personeelskosten","€ '000",null,9,1049.646852354485,37981.431575995608,137,985,579.61099999999999,12486.574273506585,466.5,341.82299999999998,0,0,0,{"$f":"SUM(E89:P89)","v":54036.586701856671}]
[null,"Kosten uitbesteed werk en andere externe kosten","€ '000",null,3605,4069.7579544911096,0,807,282,200.89290000000003,40421.819994923862,1659,545.89499000000001,0,0,0,{"$f":"SUM(E90:P90)","v":51591.365839414975}]
[null,"Bijzondere waardeverminderingen immateriële en materiële vaste activa","€ '000",null,0,0,0,0,0,0,0,0,0,0,0,0,0]
[null,"Kosten wettelijke reserve inzake onderzoek- en ontwikkelingskosten","€ '000",null,0,0,0,0,0,0,0,0,0,0,0,0,0]
[null,"Precario","€ '000",null,0,0,12264.064,0,0,0,3840.0292321883712,0,91.785780000000003,0,0,0,16195.879012188372]
[null,"Gedoogbelasting","€ '000",null,0,0,0,0,0,0,0,0,0,0,0,0,0]
[null,"Dotaties voorzieningen","€ '000",null,0,0,152.2160950735794,51.344999999999999,0,160.91820419388375,0,182.43,70.127999999999986,0,0,0,617.03729926746314]
[null,"Overige bedrijfskosten","€ '000",null,128,152.24041722960939,4440.9194408525,111,1357,3470.5527233172816,-1051.1347249468949,513,183.94972000000001,777.10299999999995,{"$f":"14075+'Aanpassing gegevens (sep 14)'!G364","v":14065.09426},0,24147.724836452497]
[null,"Buitengewone lasten / correctie toerekening Liander",null,null,0,0,0,0,0,0,{"$f":"'Aanpassing gegevens (sep 14)'!G385","v":-6457.450413812785},0,0,0,0,0,-6457.450413812785]
[null,"Totaal bedrijfslasten TO (excl. Afschrijvingen)","€ '000",null,{"$f":"SUM(E87:E97)","v":3742},{"$f":"SUM(F87:F97)","v":5271.6452240752033},{"$f":"SUM(G87:G97)","v":54838.631111921684},1106.345,2624,4411.9748275111651,{"$f":"SUM(K87:K97)","v":49239.838361859132},2820.93,1233.58149,777.10299999999995,14065.09426,0,{"$f":"SUM(E98:P98)","v":140131.14327536718}]
[]
[null,"OPEX Transportafhankelijk (TA)"]
[null,"Inkoopkosten gastransportdiensten","€ '000",null,0,0,0,0,0,0,0,0,0,0,0,0,{"$f":"SUM(E101:O101)","v":0}]
[null,"Inkoopkosten overige transportgerelateerde activiteiten","€ '000",null,0,0,0,0,0,0,0,0,0,350,0,0,350]
[null,"Personeelskosten","€ '000",null,42,0,9485.0224333238893,756,566,470.74417703862673,12212.605101997135,1314.5,1345.9269999999999,0,0,0,26192.79871235965]
[null,"Kosten uitbesteed werk en andere externe kosten","€ '000",null,4814,3069.1407072717402,11765.484553247499,148,1193,177.13762257510732,39534.920810860996,521,{"$f":"866.26851+'Aanpassing gegevens (sep 14)'!G110","v":830.65436},0,0,0,62053.338053955347]
[null,"Bijzondere waardeverminderingen immateriële en materiële vaste activa","€ '000",null,0,0,0,0,0,0,0,0,0,0,0,0,0]
[null,"Kosten wettelijke reserve inzake onderzoek- en ontwikkelingskosten","€ '000",null,0,0,0,0,0,0,0,0,0,0,0,0,0]
[null,"Precario","€ '000",null,0,275.41828999999996,0,0,0,0,3755.7747678116284,0,0,3.3479999999999999,617,0,4651.541057811628]
[null,"Gedoogbelasting","€ '000",null,0,0,0,0,0,0,0,0,0,0,0,0,0]
[null,"Dotaties voorzieningen","€ '000",null,0,0,0,0,0,0,0,0,0,0,8426,0,8426]
[null,"Overige bedrijfskosten","€ '000",null,98,0,16135.0009215071,0,201,0,928.0461274161139,0,560.67489999999998,4924.13,{"$f":"78402+'Aanpassing gegevens (sep 14)'!G365","v":78362.377040000007},0,101209.22898892322]
[null,"Buitengewone lasten / correctie toerekening Liander","€ '000",null,0,0,0,0,0,0,{"$f":"'Aanpassing gegevens (sep 14)'!G386","v":-6542.549586187215},0,0,0,0,0,-6542.549586187215]
[null,"Totaal bedrijfslasten TA (excl. Afschrijvingen)","€ '000",null,{"$f":"SUM(E101:E111)","v":4954},3344.5589972717403,37385.507908078493,904,1960,647.88179961373407,49888.797221898654,1835.5,2737.2562600000001,5277.4780000000001,87405.377040000007,0,{"$f":"SUM(Q101:Q110)","v":202882.90681304986}]
[]
[null,"Totaal OPEX ","€ '000",null,{"$f":"E98+E112","v":8696},{"$f":"F98+F112","v":8616.2042213469431},92224.139020000177,2010.345,4584,5059.8566271248992,99128.635583757787,4656.43,{"$f":"M98+M112","v":3970.8377500000001},{"$f":"N98+N112","v":6054.5810000000001},{"$f":"O98+O112","v":101470.4713},{"$f":"P98+P112","v":0},{"$f":"Q98+Q112","v":343014.05008841702}]
[]
[null,"CAPEX (o.b.v. WACC NG4R t.b.v. productiviteit)"]
[null,"Eindstand GAW ","€ '000",null,88626.705953812736,104746.6536044095,1484488.4858819516,30554.786112529677,215908.64280015827,180723.65964808772,{"$f":"1746866.87772268+'Aanpassing gegevens (sep 14)'!G80","v":1747011.1585241938},168341.61482594573,{"$f":"169243.05678892+'Aanpassing gegevens (sep 14)'!G60","v":168210.312235933},128040.32361476572,{"$f":"1086115.4678574+'Aanpassing gegevens (sep 14)'!G28+'Aanpassing gegevens (sep 14)'!G44","v":1090493.9895683001},0,{"$f":"SUM(E117:O117)","v":5407146.3327700887}]
[null,"Afschrijvingen ","€ '000",null,3985.7413521570443,3557.3849658744407,53261.418662431228,1348.2699745978891,7583.6198051651527,6206.9486132095453,{"$f":"57427.7822632211+'Aanpassing gegevens (sep 14)'!G81","v":57429.42846170596},6327.410601738954,{"$f":"7822.20112291026+'Aanpassing gegevens (sep 14)'!G61","v":8028.7500335075501},5518.160555180355,{"$f":"39539.8945695496+'Aanpassing gegevens (sep 14)'!G29+'Aanpassing gegevens (sep 14)'!G45","v":39884.12419504123},0,{"$f":"SUM(E118:O118)","v":193131.25722060938}]
[null,"Totaal CAPEX","€ '000",null,{"$f":"E118+WACC2011_2013*E117","v":9480.5971212934346},{"$f":"F118+WACC2011_2013*F117","v":10051.677489347829},145299.70478711225,3242.6667135747293,20969.955658774965,17411.815511390985,165744.12029020599,16764.590720947588,{"$f":"M118+WACC2011_2013*M117","v":18457.789392135397},{"$f":"N118+WACC2011_2013*N117","v":13456.66061929583},{"$f":"O118+WACC2011_2013*O117","v":107494.75154827585},{"$f":"P118+WACC2011_2013*P117","v":0},{"$f":"Q118+WACC2011_2013*Q117","v":528374.32985235483}]
[]
[null,"Eliminatie niet-tariefgereguleerde OPEX en CAPEX","€ '000",null,{"$f":"-'Aanpassing gegevens (sep 14)'!G226","v":0},{"$f":"-'Aanpassing gegevens (sep 14)'!G236","v":0},{"$f":"-'Aanpassing gegevens (sep 14)'!G246","v":-2869.462679999991},{"$f":"-'Aanpassing gegevens (aug 2016)'!I42","v":0},{"$f":"-'Aanpassing gegevens (sep 14)'!G266","v":0},{"$f":"-'Aanpassing gegevens (aug 2016)'!I50","v":-32.604707439524297},{"$f":"-'Aanpassing gegevens (sep 14)'!G286","v":0},{"$f":"-'Aanpassing gegevens (aug 2016)'!I59","v":0},{"$f":"-'Aanpassing gegevens (sep 14)'!G306","v":-8.9540000000000006},{"$f":"-'Aanpassing gegevens (sep 14)'!G316","v":27.143330000000073},{"$f":"-'Aanpassing gegevens (sep 14)'!G326","v":0},null,{"$f":"SUM(E121:P121)","v":-2883.8780574395155}]
[]
[null,"Gestandaardiseerde Economische Kosten 2008 (incl. ORV)","€ '000",null,{"$f":"E114+E119+E121","v":18176.597121293435},{"$f":"F114+F119+F121","v":18667.881710694772},234654.38112711243,5253.0117135747296,25553.955658774965,22439.067431076361,264872.75587396376,21421.020720947588,22419.673142135394,19538.384949295829,208965.22284827585,0,{"$f":"SUM(E123:P123)","v":861961.95229714504}]
[]
[null,"Kosten TD 2009 excl. EHD (t.b.v. productiviteitsmeting)"]
[]
[null,"OPEX Transportonafhankelijk (TO)"]
[null,"Inkoopkosten gastransportdiensten","€ '000",null,0,0,0,0,0,0,0,0,0,0,0,0,{"$f":"SUM(E128:P128)","v":0}]
[null,"Inkoopkosten overige transportgerelateerde activiteiten","€ '000",null,0,0,0,0,0,0,0,0,0,0,0,0,{"$f":"SUM(E129:P129)","v":0}]
[null,"Personeelskosten","€ '000",null,265,1037.1251094590898,46410.937260001214,60,1095.7421065008405,922.53475000000003,10970.313955113261,641,303.91082,0,0,0,{"$f":"SUM(E130:P130)","v":61706.564001074403}]
[null,"Kosten uitbesteed werk en andere externe kosten","€ '000",null,3526,4350.99209227355,0,718.5,183.01520400000001,276.12037000000004,{"$f":"34090.0269704882+'Aanpassing gegevens (sep 14)'!G392+'Aanpassing gegevens (sep 14)'!G402","v":33748.017482474403},1782,652.38355000000001,0,0,0,{"$f":"SUM(E131:P131)","v":45237.028698747949}]
[null,"Bijzondere waardeverminderingen immateriële en materiële vaste activa","€ '000",null,0,0,0,0,0,0,0,0,0,0,0,0,{"$f":"SUM(E132:P132)","v":0}]
[null,"Kosten wettelijke reserve inzake onderzoek- en ontwikkelingskosten","€ '000",null,0,0,0,0,0,0,0,0,0,0,0,0,0]
[null,"Precario","€ '000",null,0,0,12940.404,0,0,0,3496.8524516453481,0,90.128839999999997,0,0,0,16527.385291645351]
[null,"Gedoogbelasting","€ '000",null,0,0,0,0,0,0,0,0,0,0,0,0,0]
[null,"Dotaties voorzieningen","€ '000",null,0,0,51.080085483889093,47.708390849999986,0,149.9075159748927,0,171.09557737500003,-92.981859999999998,0,0,0,326.80970968378188]
[null,"Overige bedrijfskosten","€ '000",null,18,155.542381425,{"$f":"4386.20333908292+'Aanpassing gegevens (sep 14)'!G345","v":4168.2033390829201},268,1148.2586034988753,2471.2842628055841,871.65577473407461,806,307.30408999999997,747.95438689569119,{"$f":"21471.8557346+'Aanpassing gegevens (sep 14)'!G355+'Aanpassing gegevens (sep 14)'!G362+'Aanpassing gegevens (sep 14)'!G371","v":20733.815374600003},0,31696.018213042145]
[null,"Buitengewone lasten","€ '000",null,0,0,0,0,0,0,0,0,0,0,0,0,{"$f":"SUM(E138:P138)","v":0}]
[null,"Totaal bedrijfslasten TO (excl. Afschrijvingen)","€ '000",null,{"$f":"SUM(E128:E138)","v":3809},5543.6595831576396,63570.624684568029,1094.2083908499999,2427.0159139997158,3819.8468987804772,49086.83966396709,3400.0955773750002,1260.7454400000001,747.95438689569119,20733.815374600003,{"$f":"SUM(P128:P138)","v":0},{"$f":"SUM(E139:P139)","v":155493.80591419365}]
[]
[null,"OPEX Transportafhankelijk (TA)"]
[null,"Inkoopkosten gastransportdiensten","€ '000",null,0,0,0,0,0,0,0,0,0,0,0,0,{"$f":"SUM(E142:O142)","v":0}]
[null,"Inkoopkosten overige transportgerelateerde activiteiten","€ '000",null,0,0,0,0,0,0,0,0,0,0,0,0,0]
[null,"Personeelskosten","€ '000",null,562,183.02207813983935,8258.3148215528927,587.93689000000006,663.37663142857139,211.95903218884115,11004.789011234765,1086.4214899999999,1068.16814,0,0,0,23625.988094544911]
[null,"Kosten uitbesteed werk en andere externe kosten","€ '000",null,4371,4438.3571912512825,9474.8260322197493,303.35910999999999,1003.3064899349722,128.48701240343348,{"$f":"34197.157504564+'Aanpassing gegevens (sep 14)'!G393+'Aanpassing gegevens (sep 14)'!G403","v":33854.337172577798},597.86493000000019,{"$f":"1009.9538+'Aanpassing gegevens (sep 14)'!G116","v":961.09979999999996},0,0,0,55132.637738387246]
[null,"Bijzondere waardeverminderingen immateriële en materiële vaste activa","€ '000",null,0,0,0,0,0,0,0,0,0,0,0,0,0]
[null,"Kosten wettelijke reserve inzake onderzoek- en ontwikkelingskosten","€ '000",null,0,0,0,0,0,0,0,0,0,0,0,0,0]
[null,"Precario","€ '000",null,0,272.9171,0,0,0,0,3507.8415796696104,0,0,0,611,0,4391.7586796696105]
[null,"Gedoogbelasting","€ '000",null,0,0,0,0,0,0,0,0,0,2.4940000000000002,0,0,2.4940000000000002]
[null,"Dotaties voorzieningen","€ '000",null,0,0,0,0,0,0,0,0,0,0,6972.1415172000006,0,6972.1415172000006]
[null,"Overige bedrijfskosten","€ '000",null,100,0,18365.326159684599,0,304.10154770671448,0,874.39502010804893,0,887.29810999999995,4739.4273907754332,{"$f":"63449+'Aanpassing gegevens (sep 14)'!G356+'Aanpassing gegevens (sep 14)'!G363+'Aanpassing gegevens (sep 14)'!G372","v":60430.24512},0,85700.79334827479]
[null,"Buitengewone lasten",null,null,0,0,0,0,0,0,0,0,0,0,0,0]
[null,"Totaal bedrijfslasten TA (excl. Afschrijvingen)","€ '000",null,{"$f":"SUM(E142:E152)","v":5033},{"$f":"SUM(F142:F152)","v":4894.2963693911215},36098.467013457237,891.29600000000005,1970.7846690702581,340.44604459227463,49241.36278359023,1684.2864200000001,2916.5660499999999,4741.9213907754329,68013.386637200005,0,{"$f":"SUM(Q142:Q151)","v":175825.81337807656}]
[]
[null,"Totaal OPEX","€ '000",null,{"$f":"E139+E153","v":8842},{"$f":"F139+F153","v":10437.95595254876},99669.091698025266,1985.5043908499999,4397.800583069974,4160.2929433727522,98328.202447557327,5084.3819973750005,{"$f":"M139+M153","v":4177.31149},{"$f":"N139+N153","v":5489.8757776711245},{"$f":"O139+O153","v":88747.202011800007},{"$f":"P139+P153","v":0},{"$f":"Q139+Q153","v":331319.61929227022}]
[]
[null,"CAPEX (o.b.v. WACC NG4R t.b.v. productiviteit)"]
[null,"Eindstand GAW","€ '000",null,90404.737901231914,111115.7153708268,1518095.047922963,30591.147140063626,216658.22548337816,181479.72691329394,{"$f":"1775837.02485534+'Aanpassing gegevens (sep 14)'!G82","v":1776025.5589706448},168532.78849177697,{"$f":"169805.916772753+'Aanpassing gegevens (sep 14)'!G62","v":168526.96591833499},128730.4798019981,{"$f":"1133266.08482365+'Aanpassing gegevens (sep 14)'!G30+'Aanpassing gegevens (sep 14)'!G46","v":1135895.7951270589},0,{"$f":"SUM(E158:P158)","v":5526056.1890415717}]
[null,"Afschrijvingen","€ '000",null,4173.0226431028368,4057.7131489238373,55879.375038663231,1426.7488180670014,7927.5320664002047,6525.5330435325741,{"$f":"59910.6068135616+'Aanpassing gegevens (sep 14)'!G83","v":59914.47748541613},6679.1138885990449,{"$f":"8329.0088545222+'Aanpassing gegevens (sep 14)'!G63","v":8542.1673302586005},5758.4151684401413,{"$f":"42386.6300071729+'Aanpassing gegevens (sep 14)'!G31+'Aanpassing gegevens (sep 14)'!G47","v":42686.798629408258},0,{"$f":"SUM(E159:P159)","v":203570.89726081188}]
[null,"Totaal CAPEX","€ '000",null,{"$f":"E159+WACC2011_2013*E158","v":9778.1163929792165},10946.887501915098,150001.26800988696,3323.3999407509464,21360.342046369653,17777.276112156796,170028.06214159611,17128.146775089215,{"$f":"M159+WACC2011_2013*M158","v":18990.839217195367},{"$f":"N159+WACC2011_2013*N158","v":13739.704916164024},{"$f":"O159+WACC2011_2013*O158","v":113112.3379272859},{"$f":"P159+WACC2011_2013*P158","v":0},{"$f":"Q159+WACC2011_2013*Q158","v":546186.38098138932}]
[]
[null,"Eliminatie niet-tariefgereguleerde OPEX en CAPEX","€ '000",null,{"$f":"-'Aanpassing gegevens (sep 14)'!G227","v":0},{"$f":"-'Aanpassing gegevens (sep 14)'!G237","v":0},{"$f":"-'Aanpassing gegevens (sep 14)'!I247","v":-563.88793999999996},{"$f":"-'Aanpassing gegevens (aug 2016)'!I76","v":0},{"$f":"-'Aanpassing gegevens (sep 14)'!G267","v":0},{"$f":"-'Aanpassing gegevens (aug 2016)'!I51","v":-41.615422209284603},{"$f":"-'Aanpassing gegevens (sep 14)'!G287","v":-4078.7326949817298},{"$f":"-'Aanpassing gegevens (aug 2016)'!I60","v":0},{"$f":"-'Aanpassing gegevens (sep 14)'!G307","v":-63.083979999999997},{"$f":"-'Aanpassing gegevens (sep 14)'!G317","v":-52.71},{"$f":"-'Aanpassing gegevens (sep 14)'!G327","v":-1157.425},null,{"$f":"SUM(E162:P162)","v":-5957.4550371910145}]
[]
[null,"Gestandaardiseerde Economische Kosten 2009 (incl. ORV)","€ '000",null,{"$f":"E155+E160+E162","v":18620.116392979216},{"$f":"F155+F160+F162","v":21384.843454463859},249106.47176791224,5308.9043316009465,25758.142629439626,21895.953633320263,264277.53189417173,22212.528772464215,23105.066727195368,19176.87069383515,{"$f":"O155+O160+O162","v":200702.11493908591},0,{"$f":"SUM(E164:P164)","v":871548.54523646866}]
[]
[]
[null,"Kosten TD 2009 incl. EHD (t.b.v. eindinkomsten)"]
[]
[null,"Totaal OPEX Transportdienst < 16 bar ","€ '000",null,{"$f":"E155","v":8842},{"$f":"F155","v":10437.95595254876},{"$f":"G155","v":99669.091698025266},1985.5043908499999,4397.800583069974,4160.2929433727522,98328.202447557327,5084.3819973750005,4177.31149,5489.8757776711245,88747.202011800007,0,331319.61929227022]
[]
[null,"Totaal CAPEX Transportdienst < 16 bar","€ '000",null,{"$f":"E160","v":9778.1163929792165},{"$f":"F160","v":10946.887501915098},150001.26800988696,3323.3999407509464,21360.342046369653,17777.276112156796,170028.06214159611,17128.146775089215,18990.839217195367,13739.704916164024,113112.3379272859,0,546186.38098138932]
[]
[null,"OPEX TD Transportonafhankelijk (TO) > 16 bar "]
[null,"Inkoopkosten gastransportdiensten","€ '000",null,0,0,0,0,0,0,0,0,0,0,0,0,{"$f":"SUM(E174:P174)","v":0}]
[null,"Inkoopkosten overige transportgerelateerde activiteiten","€ '000",null,0,0,0,0,0,0,0,0,0,0,0,0,0]
[null,"Personeelskosten","€ '000",null,0,51.533353210708285,0,0,0,0,0,0,0,0,0,0,{"$f":"SUM(E176:P176)","v":51.533353210708285}]
[null,"Kosten uitbesteed werk en andere externe kosten","€ '000",null,0,276.59536466051713,0,0,0,0,0,0,0,0,0,0,276.59536466051713]
[null,"Bijzondere waardeverminderingen immateriële en materiële vaste activa","€ '000",null,0,0,0,0,0,0,0,0,0,0,0,0,0]
[null,"Kosten wettelijke reserve inzake onderzoek- en ontwikkelingskosten","€ '000",null,0,0,0,0,0,0,0,0,0,0,0,0,0]
[null,"Precario","€ '000",null,0,0,0,0,0,0,0,0,0,0,0,0,0]
[null,"Gedoogbelasting","€ '000",null,0,0,0,0,0,0,0,0,0,0,0,0,0]
[null,"Dotaties aan dan wel vrijval van voorzieningen","€ '000",null,0,0,0,0,0,0,0,0,0,0,0,0,0]
[null,"Overige bedrijfskosten","€ '000",null,0,11.431673709655954,0,0,0,0,0,0,0,0,0,0,11.431673709655954]
[null,"Buitengewone lasten","€ '000",null,0,null,null,null,null,null,null,null,null,null,null,null,0]
[null,"totaal bedrijfslasten ex afschrijvingen TO > 16 bar","€ '000",null,{"$f":"SUM(E174:E184)","v":0},339.5603915808814,0,0,0,0,0,0,0,0,0,{"$f":"SUM(P174:P184)","v":0},{"$f":"SUM(Q176:Q183)","v":339.5603915808814}]
[]
[null,"OPEX TD Transportafhankelijk (TA) > 16 bar"]
[null,"Inkoopkosten gastransportdiensten","€ '000",null,0,0,0,0,0,0,0,0,0,0,0,0,{"$f":"SUM(E188:P188)","v":0}]
[null,"Inkoopkosten overige transportgerelateerde activiteiten","€ '000",null,0,0,0,0,0,0,0,0,0,0,0,0,0]
[null,"Personeelskosten","€ '000",null,0,9.0941211548308729,0,0,0,0,0,0,0,0,0,0,9.0941211548308729]
[null,"Kosten uitbesteed werk en andere externe kosten","€ '000",null,0,553.69540020887894,0,0,0,0,0,0,0,0,0,0,553.69540020887894]
[null,"Bijzondere waardeverminderingen immateriële en materiële vaste activa","€ '000",null,0,0,0,0,0,0,0,0,0,0,0,0,0]
[null,"Kosten wettelijke reserve inzake onderzoek- en ontwikkelingskosten","€ '000",null,0,0,0,0,0,0,0,0,0,0,0,0,0]
[null,"Precario","€ '000",null,0,0,0,0,0,0,0,0,0,0,0,0,0]
[null,"Gedoogbelasting","€ '000",null,0,0,0,0,0,0,0,0,0,0,0,0,0]
[null,"Dotaties aan dan wel vrijval van voorzieningen","€ '000",null,0,0,0,0,0,0,0,0,0,0,0,0,0]
[null,"Overige bedrijfskosten","€ '000",null,0,0,0,0,0,0,0,0,0,0,83,1270,{"$f":"SUM(E197:P197)","v":1353}]
[null,"Buitengewone lasten","€ '000",null,0,0,0,0,0,0,0,0,0,0,0,0,{"$f":"SUM(E198:P198)","v":0}]
[null,"totaal bedrijfslasten ex afschrijvingen TA > 16 bar","€ '000",null,{"$f":"SUM(E188:E198)","v":0},{"$f":"SUM(F188:F198)","v":562.78952136370981},0,0,0,0,0,0,0,0,83,1270,{"$f":"SUM(Q188:Q197)","v":1915.7895213637098}]
[]
[null,"Totaal OPEX > 16 bar","€ '000",null,{"$f":"E185+E199","v":0},902.34991294459121,0,0,0,0,0,0,0,0,83,1270,{"$f":"Q185+Q199","v":2255.3499129445913}]
[]
[null,"CAPEX > 16 bar"]
[null,"Eindstand GAW TD > 16 bar","€ '000",null,0,10926.53489754244,0,0,0,0,0,0,0,0,328.84788687608437,43858.526924770536,{"$f":"SUM(E204:P204)","v":55113.909709189058}]
[null,"Afschrijvingen TD > 16 bar","€ '000",null,0,258.37051825108119,0,0,0,0,0,0,0,0,7.5130657443616649,1125,{"$f":"SUM(E205:P205)","v":1390.8835839954429}]
[null,"Totaal CAPEX TD > 16 bar","€ '000",null,{"$f":"E205+WACC2011_2013*E204","v":0},935.81568189871246,0,0,0,0,0,0,{"$f":"M205+WACC2011_2013*M204","v":0},{"$f":"N205+WACC2011_2013*N204","v":0},{"$f":"O205+WACC2011_2013*O204","v":27.901634730678897},{"$f":"P205+WACC2011_2013*P204","v":3844.2286693357732},{"$f":"SUM(E206:P206)","v":4807.9459859651643}]
[]
[null,"Eliminatie niet-tariefgereguleerde OPEX en CAPEX","€ '000",null,{"$f":"-'Aanpassing gegevens (sep 14)'!G227","v":0},{"$f":"-'Aanpassing gegevens (sep 14)'!G237","v":0},{"$f":"-'Aanpassing gegevens (sep 14)'!I247","v":-563.88793999999996},{"$f":"-'Aanpassing gegevens (aug 2016)'!I122","v":0},{"$f":"-'Aanpassing gegevens (sep 14)'!G267","v":0},{"$f":"-'Aanpassing gegevens (aug 2016)'!I51","v":-41.615422209284603},{"$f":"-'Aanpassing gegevens (sep 14)'!G287","v":-4078.7326949817298},{"$f":"-'Aanpassing gegevens (aug 2016)'!I60","v":0},{"$f":"-'Aanpassing gegevens (sep 14)'!G307","v":-63.083979999999997},{"$f":"-'Aanpassing gegevens (sep 14)'!G317","v":-52.71},{"$f":"-'Aanpassing gegevens (sep 14)'!G327","v":-1157.425},{"$f":"-'Aanpassing gegevens (sep 14)'!G337","v":0},{"$f":"SUM(E208:P208)","v":-5957.4550371910145}]
[]
[null,"Totaal Kosten 2009 (OPEX + CAPEX) Transportdienst (incl. EHD)","€ '000",null,{"$f":"E169+E171+E201+E206+E208","v":18620.116392979216},{"$f":"F169+F171+F201+F206+F208","v":23223.009049307162},249106.47176791224,5308.9043316009465,25758.142629439626,21895.953633320263,264277.53189417173,22212.528772464215,23105.066727195368,19176.87069383515,200813.0165738166,5114.2286693357728,{"$f":"SUM(E210:P210)","v":878611.84113537834}]
[]
[]
[null,"Sectorkosten TD 2009 incl. EHD (t.b.v. significantietoets ORV)"]
[]
[null,"OPEX TD 2009 (incl. ORV)","€ '000",{"$f":"Q169+Q201","v":333574.96920521482}]
[null,"CAPEX TD 2009 (incl. ORV; o.b.v. WACC 2009 t.b.v. significantietoets ORV)","€ '000",{"$f":"WACC2009*(Q158+Q204)+Q159+Q205","v":511926.13627609919}]
[null,"Totale Sectorkosten TD (incl. ORV) t.b.v. significantietoets ORV","€ '000",{"$f":"D215+D216","v":845501.10548131401}]

{"sheet":"Kosten AD","index":8,"n_rows":67,"n_cols":17,"rows_kept":67,"cut":false,"hidden":false,"merged":[]}
[]
[null,"Gestandaardiseerde Economische Kosten Aansluitdienst",null,null,"Cogas Infra & Beheer B.V.","DELTA Netwerkbedrijf B.V.","Stedin B.V.","Endinet Haarlemmermeer B.V.","Intergas Energie B.V.","Endinet Regio Eindhoven B.V.","Liander N.V.","Endinet Oost-Brabant N.V.","N.V. RENDO","Westland Energie Infrastructuur B.V.","Enexis B.V.","Zebra Gasnetwerk B.V.","Totaal"]
[]
[]
[null,"OPEX AD 2009 incl. EHD (t.b.v. eindinkomsten) vóór toepassing van aansluitpuntpercentage"]
[]
[null,"OPEX AD < 40 m3/h (excl. EHD)"]
[null,"Inkoopkosten gasaansluitdienst","€ '000",null,0,0,0,0,0,0,0,0,0,0,0,0,{"$f":"SUM(E8:P8)","v":0}]
[null,"Personeelskosten","€ '000",null,951,264.25662765421242,4375.4344061212623,124,276.22754073854964,342.13458185142622,11055.418178301134,272.21138566525656,591.505494,0,0,0,18252.188214331843]
[null,"Kosten uitbesteed werk en andere externe kosten","€ '000",null,577,735.87579733875236,4172.2745975392636,179,417.22757514988575,193.77708204958986,{"$f":"'Aanpassing gegevens (sep 14)'!I404","v":20645.257658172504},585,192.24511999999999,0,0,0,27697.657830249995]
[null,"Bijzondere waardeverminderingen immateriële en materiële vaste activa","€ '000",null,0,0,0,0,0,0,0,0,0,0,0,0,0]
[null,"Kosten wettelijke reserve inzake onderzoek- en ontwikkelingskosten","€ '000",null,0,0,0,0,0,0,0,0,0,0,0,0,0]
[null,"Precario","€ '000",null,0,0,0,0,0,0,0,0,0,0,0,0,0]
[null,"Gedoogbelasting","€ '000",null,6,0,0,0,0,0,0,0,0,0,0,0,6]
[null,"Dotaties voorzieningen","€ '000",null,0,0,196.47901534683646,10,0,43.304939834652274,0,34,-4.1853699999999998,0,0,0,279.59858518148877]
[null,"Overige bedrijfskosten","€ '000",null,27,33.688102050000005,{"$f":"6348.0035191888+'Aanpassing gegevens (sep 14)'!G346","v":6307.0035191888001},28,157.90342740313559,598.87417511789477,347.42547443793819,127,68.650480000000002,261.03289247431627,9518,0,17474.578070672087]
[null,"Buitengewone lasten","€ '000",null,0,0,0,0,0,0,0,0,0,0,0,0,0]
[null,"Eliminatie niet-tariefgereguleerde OPEX en CAPEX","€ '000",null,{"$f":"-'Aanpassing gegevens (sep 14)'!I228","v":0},{"$f":"-'Aanpassing gegevens (sep 14)'!I238","v":0},{"$f":"-'Aanpassing gegevens (sep 14)'!I248","v":0},{"$f":"-'Aanpassing gegevens (sep 14)'!I258","v":0},{"$f":"-'Aanpassing gegevens (sep 14)'!I268","v":0},{"$f":"-'Aanpassing gegevens (sep 14)'!I278","v":0},{"$f":"-'Aanpassing gegevens (sep 14)'!I288","v":0},{"$f":"-'Aanpassing gegevens (sep 14)'!I298","v":0},{"$f":"-'Aanpassing gegevens (sep 14)'!I308","v":0},{"$f":"-'Aanpassing gegevens (sep 14)'!I318","v":0},{"$f":"-'Aanpassing gegevens (sep 14)'!I328","v":0},{"$f":"-'Aanpassing gegevens (sep 14)'!I338","v":0},0]
[null,"Totaal bedrijfslasten (excl. Afschrijvingen)","€ '000",null,{"$f":"SUM(E8:E18)","v":1561},{"$f":"SUM(F8:F18)","v":1033.8205270429648},15051.191538196163,341,851.35854329157087,1178.0907788535631,32048.101310911577,1018.2113856652566,848.21572400000002,261.03289247431627,9518,0,{"$f":"SUM(Q8:Q18)","v":63710.022700435409}]
[]
[null,"OPEX AD > 40 m3/h (excl. EHD)"]
[null,"Inkoopkosten gasaansluitdienst","€ '000",null,0,0,0,0,0,0,0,0,0,0,0,0,{"$f":"SUM(E22:P22)","v":0}]
[null,"Personeelskosten","€ '000",null,48,17.575825256541002,890.91276549852148,25.18098999999998,14.877733994223615,21.697385959732607,2139.2249705708127,58.651714334743446,43.702295900000003,0,0,0,3259.8236815145747]
[null,"Kosten uitbesteed werk en andere externe kosten","€ '000",null,28,48.943424955334407,849.54597763199058,36.621000000000009,22.472056412399048,12.288895546976693,4002.7215873176901,125.66717999999995,14.20368,0,0,0,5140.4638018643909]
[null,"Bijzondere waardeverminderingen immateriële en materiële vaste activa","€ '000",null,0,0,0,0,0,0,0,0,0,0,0,0,0]
[null,"Kosten wettelijke reserve inzake onderzoek- en ontwikkelingskosten","€ '000",null,0,0,0,0,0,0,0,0,0,0,0,0,0]
[null,"Precario","€ '000",null,0,0,0,0,0,0,0,0,0,0,0,0,0]
[null,"Gedoogbelasting","€ '000",null,0,0,0,0,0,0,0,0,0,0,0,0,0]
[null,"Dotaties voorzieningen","€ '000",null,0,0,0,2.1677307500000005,0,2.7462993903477364,0,7.8673032499999991,-0.288298,0,0,0,12.493035390347737]
[null,"Overige bedrijfskosten","€ '000",null,0,2.2406105765873017,{"$f":"916.999866578092+'Aanpassing gegevens (sep 14)'!G347","v":908.999866578092},6.1907999999999994,8.5047464253523533,37.979218728880717,67.226878110209952,27,5.0721100000000003,234.95750136747856,1663,0,2961.1717317866005]
[null,"Buitengewone lasten","€ '000",null,0,0,0,0,0,0,0,0,0,0,0,0,0]
[null,"Totaal bedrijfslasten (excl. Afschrijvingen)","€ '000",null,{"$f":"SUM(E22:E31)","v":76},{"$f":"SUM(F22:F31)","v":68.759860788462703},2649.4586097086039,70.160520749999989,45.854536831975011,74.711799625937758,6209.1734359987131,219.18619758474338,62.689787900000006,234.95750136747856,1663,0,{"$f":"SUM(Q22:Q30)","v":11373.952250555913}]
[]
[null,"OPEX AD EHD"]
[null,"Inkoopkosten gasaansluitdienst","€ '000",null,0,0,0,0,0,0,0,0,0,0,0,0,{"$f":"SUM(E35:P35)","v":0}]
[null,"Personeelskosten","€ '000",null,0,4.9426567082135371,0,0,0,0,0,0,0,0,0,0,4.9426567082135371]
[null,"Kosten uitbesteed werk en andere externe kosten","€ '000",null,0,115.51135331653778,0,0,0,0,0,0,0,0,0,0,115.51135331653778]
[null,"Bijzondere waardeverminderingen immateriële en materiële vaste activa","€ '000",null,0,0,0,0,0,0,0,0,0,0,0,0,0]
[null,"Kosten wettelijke reserve inzake onderzoek- en ontwikkelingskosten","€ '000",null,0,0,0,0,0,0,0,0,0,0,0,0,0]
[null,"Precario","€ '000",null,0,0,0,0,0,0,0,0,0,0,0,0,0]
[null,"Gedoogbelasting","€ '000",null,0,0,0,0,0,0,0,0,0,0,0,0,0]
[null,"Dotaties voorzieningen","€ '000",null,0,0,0,0,0,0,0,0,0,0,0,0,0]
[null,"Overige bedrijfskosten","€ '000",null,0,0.93196754999999987,0,0,0,0,0,0,0,0,98,14,112.93196755]
[null,"Buitengewone lasten","€ '000",null,0,0,0,0,0,0,0,0,0,0,0,0,0]
[null,"Totaal bedrijfslasten (excl. Afschrijvingen)","€ '000",null,{"$f":"SUM(E35:E44)","v":0},{"$f":"SUM(F35:F44)","v":121.38597757475131},0,0,0,0,0,0,0,0,98,14,{"$f":"SUM(Q35:Q43)","v":233.38597757475131}]
[]
[]
[null,"Totale kosten incl. ontvangen vergoedingen AD 2009 incl. EHD"]
[]
[null,"CAPEX (o.b.v. WACC NG4R t.b.v. eindinkomsten)"]
[null,"Eindstand GAW 2009 gasaansluitdienst","€ '000",null,11091.334960560145,14888.664694220137,{"$f":"'Aanpassing gegevens (aug 2016)'!I25","v":271890.61322670546},2889.4378498630913,14981.379917734615,9476.8001286105336,91217.380523605898,8099.2346810635327,10554.882065406771,2129.6593906006688,136396.1343690854,0,{"$f":"SUM(E51:P51)","v":573615.52180745616}]
[null,"Afschrijvingen 2009 gasaansluitdienst","€ '000",null,389.24393175573914,628.12940708969734,{"$f":"'Aanpassing gegevens (aug 2016)'!I26","v":9932.4765717002101},133.63076036494513,524.54820531683993,432.12657965849229,3920.1442997176518,386.84321250228862,409.9935896215319,91.716606129794968,4952.387908096749,0,{"$f":"SUM(E52:P52)","v":21801.24107195394}]
[null,"Totaal CAPEX  gasaansluitdienst na toepassing aansluitpuntpercentage","€ '000",null,{"$f":"E52+WACC2011_2013*E51","v":1076.9066993104682},1551.2266181313457,26789.69459175595,312.77590705645679,1453.393760216386,1019.6881876323453,9575.6218921812178,888.99576272822765,{"$f":"M52+WACC2011_2013*M51","v":1064.3962776767517},{"$f":"N52+WACC2011_2013*N51","v":223.75548834703642},{"$f":"O52+WACC2011_2013*O51","v":13408.948238980043},{"$f":"P52+WACC2011_2013*P51","v":0},{"$f":"Q52+WACC2011_2013*Q51","v":57365.403424016222}]
[]
[null,"Aansluitpuntpercentage ter bepaling OPEX en vergoedingen AD EAV en ML > 40m3/h",null,0.38500000000000001]
[]
[null,"OPEX Aansluitdienst na toepassing aansluitpuntpercentage (incl EHD)","€ '000",null,{"$f":"E19+$D$55*(E32+E45)","v":1590.26},{"$f":"F19+$D$55*(F32+F45)","v":1107.0266748128022},16071.233102933975,368.01180048875,869.01253997188121,1206.854821709549,34438.633083771085,1102.5980717353827,872.35129234150008,351.49153050079553,10195.985000000001,5.3900000000000006,{"$f":"SUM(E57:P57)","v":68178.847918265717}]
[null,"Ontvangen vergoedingen AD EAV en ML (incl. EHD) na toepassing aansluitpuntpercentage","€ '000",null,{"$f":"'Vergoedingen AD'!E137","v":1598.9829221594848},{"$f":"'Vergoedingen AD'!F137","v":1417.9889850000002},{"$f":"'Vergoedingen AD'!G137","v":17350.312167600001},{"$f":"'Vergoedingen AD'!H137","v":349.15192712996168},{"$f":"'Vergoedingen AD'!I137","v":1004.622},{"$f":"'Vergoedingen AD'!J137","v":1862.8694554206652},{"$f":"'Vergoedingen AD'!K137","v":16980.529449999998},{"$f":"'Vergoedingen AD'!L137","v":1429.8615535744207},{"$f":"'Vergoedingen AD'!M137","v":920.83875},{"$f":"'Vergoedingen AD'!N137","v":971.05505025000002},{"$f":"'Vergoedingen AD'!O137","v":14679.800745400007},{"$f":"'Vergoedingen AD'!P137","v":0},{"$f":"SUM(E58:P58)","v":58566.013006534544}]
[]
[null,"Totaal Kosten 2009 (OPEX incl. vergoedingen + CAPEX) Aansluitdienst (incl. EHD)","€ '000",null,{"$f":"E57+E58+E53","v":4266.1496214699528},{"$f":"F57+F58+F53","v":4076.2422779441481},60211.239862289927,1029.9396346751685,3327.0283001882672,4089.4124647625595,60994.784425952304,3421.4553880380308,2857.5863200182516,1546.3020690978319,38284.733984380051,5.3900000000000006,{"$f":"SUM(E60:P60)","v":184110.26434881653}]
[]
[]
[null,"Sectorkosten AD 2009 (t.b.v. significantietoets ORV)"]
[]
[null,"OPEX AD 2009 (incl. ORV; incl. ontvangen vergoedingen)","€ '000",{"$f":"Q19+Q58+$D$55*(Q32+Q45)","v":126744.86092480026}]
[null,"CAPEX AD 2009 (incl. ORV; o.b.v. WACC 2009 t.b.v. significantietoets ORV)","€ '000",{"$f":"WACC2009*Q51+Q52","v":53350.094771364034}]
[null,"Totale Sectorkosten AD t.b.v. significantietoets ORV","€ '000",{"$f":"D65+D66","v":180094.95569616428}]

{"sheet":"Vergoedingen AD","index":9,"n_rows":173,"n_cols":17,"rows_kept":173,"cut":false,"hidden":false,"merged":[]}
[]
[null,"Ontvangen vergoedingen en inkomsten Aansluitdienst",null,null,"Cogas Infra & Beheer B.V.","DELTA Netwerkbedrijf B.V.","Stedin B.V.","Endinet Haarlemmermeer B.V.","Intergas Energie B.V.","Endinet Regio Eindhoven B.V.","Liander N.V.","Endinet Oost-Brabant N.V.","N.V. RENDO","Westland Energie Infrastructuur B.V.","Enexis B.V.","Zebra Gasnetwerk B.V.","Totaal"]
[]
[null,"Vergoedingen 2009 (EAV en Meerlengte) vóór toepassing aansluitpuntpercentage"]
[]
[null,"Eenmalige aansluitvergoeding"]
[null,"LD 0-10 m3/h","€ '000",null,1446.2319500000001,1214.09238,{"$f":"'Aanpassing gegevens (sep 14)'!I198","v":15331.30688},203.167,950.88,1697.6427270174643,14317.295,1102.008,803.84799999999996,704.56445000000008,11810.403729056832,0,{"$f":"SUM(E7:P7)","v":49581.440116074293}]
[null,"LD 10-16 m3/h","€ '000",null,0,0,{"$f":"'Aanpassing gegevens (sep 14)'!I199","v":332.12853999999993},31.241949559948875,0,0,452.62599999999998,119.34,22.23,14.64359,245.09004390596618,0,1217.300123465915]
[null,"LD 16-25 m3/h","€ '000",null,30.766833716810741,49.854770000000002,{"$f":"'Aanpassing gegevens (sep 14)'!I200","v":309.80141000000003},21.69473725382645,25.85,72.919710832826581,224.83,36.257167491022841,22.23,5.82538,286.31388703720347,0,1086.3438963316903]
[null,"LD 25-40 m3/h ","€ '000",null,10.643400000000002,9.9844799999999996,{"$f":"'Aanpassing gegevens (sep 14)'!I201","v":222.92910999999998},30.645238891967008,12.8,27.498772183311424,770.94599999999991,45.954000000000001,12.69,18.077870000000001,253.48370000000003,0,1415.6525710752785]
[null,"LD 40-65 m3/h ","€ '000",null,30.535240000000002,16.405000000000001,{"$f":"'Aanpassing gegevens (sep 14)'!I202","v":202.83320999999998},35.437235860059708,7.4,44.23381304691587,0,50.834000000000003,4,7.5460799999999999,254.01904999999999,0,653.24362890697557]
[null,"LD 65-100 m3/h ","€ '000",null,13.5525,7.79,{"$f":"'Aanpassing gegevens (sep 14)'!I203","v":155.07953000000001},18.14710662779634,18,31.098480000000002,487.64400000000001,36.543999999999997,4.2300000000000004,null,191.72800000000001,0,963.81361662779636]
[null,"LD 100-160 m3/h","€ '000",null,0,11.935,{"$f":"'Aanpassing gegevens (sep 14)'!I204","v":150.46463},0,13.8,12.019360000000001,250.422,13.647835577668207,0,33.046419999999998,137.36799999999999,0,622.70324557766821]
[null,"LD 160-250 m3/h ","€ '000",null,0,0,{"$f":"'Aanpassing gegevens (sep 14)'!I205","v":18.113205000000001},27.359817055571003,null,0,165.57599999999999,0,0,0,89.605999999999995,0,300.65502205557101]
[null,"LD 250-400 m3/h ","€ '000",null,0,0,{"$f":"'Aanpassing gegevens (sep 14)'!I206","v":18.113205000000001},0,null,66.922386919481568,269.91800000000001,52.372050353235977,0,17.198229999999999,8.4149999999999991,0,432.93887227271762]
[null,"LD 400-650 m3/h ","€ '000",null,0,0,0,0,null,0,129.215,0,0,0,0,0,129.215]
[null,"LD 650-1000 m3/h ","€ '000",null,0,0,0,0,null,0,0,0,0,0,0,0,0]
[null,"LD 1000-1600 m3/h ","€ '000",null,0,0,0,0,null,0,0,0,0,0,0,0,0]
[null,"LD 1600-2500 m3/h ","€ '000",null,0,0,0,0,null,0,0,0,0,0,0,0,0]
[null,"LD >2500 m3/h","€ '000",null,0,0,0,0,null,0,0,0,0,0,0,0,0]
[]
[null,"HD 0-10 m3/h","€ '000",null,null,0,0,0,null,0,0,0,0,0,0,0,0]
[null,"HD 10-16 m3/h","€ '000",null,null,0,0,0,null,0,0,0,0,0,0,0,0]
[null,"HD 16-25 m3/h","€ '000",null,null,0,0,0,null,0,0,0,0,0,0,0,0]
[null,"HD 25-40 m3/h","€ '000",null,null,0,0,0,null,0,0,0,0,0,0,0,0]
[null,"HD 40-65 m3/h","€ '000",null,null,0,{"$f":"'Aanpassing gegevens (sep 14)'!I207","v":54.301899999999996},0,null,0,0,0,0,0,164.12798000000001,0,218.42988]
[null,"HD 65-100 m3/h","€ '000",null,null,0,{"$f":"'Aanpassing gegevens (sep 14)'!I208","v":54.600999999999999},0,null,0,12.874000000000001,0,0,0,224.87445000000002,0,292.34945000000005]
[null,"HD 100-160 m3/h","€ '000",null,null,0,{"$f":"'Aanpassing gegevens (sep 14)'!I209","v":44.793080000000003},0,null,0,0,0,0,null,474.03831000000002,0,518.83139000000006]
[null,"HD 160-250 m3/h","€ '000",null,null,28.734999999999999,{"$f":"'Aanpassing gegevens (sep 14)'!I210","v":115},0,null,0,20.696999999999999,58.875,0,0,625.1418000000001,0,848.44880000000012]
[null,"HD 250-400 m3/h ","€ '000",null,null,49.5,{"$f":"'Aanpassing gegevens (sep 14)'!I211","v":142.70099999999999},0,null,0,24.538,0,0,0,203.11614,0,419.85514000000001]
[null,"HD 400-650 m3/h ","€ '000",null,null,0,{"$f":"'Aanpassing gegevens (sep 14)'!I212","v":29},0,null,0,206.744,21.95,0,16.664950000000001,54.432000000000002,0,328.79095000000001]
[null,"HD 650-1000 m3/h ","€ '000",null,null,216.5,{"$f":"'Aanpassing gegevens (sep 14)'!I213","v":37},0,null,0,0,0,0,166.83580000000001,0,0,420.33580000000001]
[null,"HD 1000-1600 m3/h ","€ '000",null,null,0,{"$f":"'Aanpassing gegevens (sep 14)'!I214","v":62.866999999999997},0,null,0,0,0,0,18.330719999999999,0,0,81.197720000000004]
[null,"HD 1600-2500 m3/h ","€ '000",null,null,0,{"$f":"'Aanpassing gegevens (sep 14)'!I215","v":0},0,null,0,0,23.695,0,83.784450000000007,0,0,107.47945000000001]
[null,"HD >2500 m3/h","€ '000",null,null,0,{"$f":"'Aanpassing gegevens (sep 14)'!I216","v":192.6},0,null,0,0,0,0,0,374.17531000000002,0,566.77530999999999]
[]
[null,"EHD 0-40 m3/h","€ '000",null,0,0,0,0,0,0,0,0,0,0,0,0,0]
[null,"EHD >40 m3/h","€ '000",null,0,0,0,0,0,0,0,0,0,0,0,0,0]
[]
[null,"Meerlengtevergoeding "]
[null,"LD 0-10 m3/h","€ '000",null,10.453480652827666,10.808339999999999,397.71168999999998,15.3725,null,4.6759400000000007,410.37759999999997,16.576499999999999,55.552199999999999,84.125799999999998,701.42220000000009,0,{"$f":"SUM(E41:P41)","v":1707.0762506528276}]
[null,"LD 10-16 m3/h","€ '000",null,23.910389470404986,0,66.571809999999999,2.2360000000000002,null,0,85.927800000000005,6.2779999999999996,0,6.1658999999999997,72.025399999999991,0,263.11529947040498]
[null,"LD 16-25 m3/h","€ '000",null,52.101632967546578,5.86599,136.81538,1.806,null,0.7367999999999999,47.055699999999995,1.6984999999999999,1.1200000000000001,0,125.3796,0,372.57960296754658]
[null,"LD 25-40 m3/h ","€ '000",null,7.9014554518950444,0,61.222259999999991,11.824999999999999,null,0,35.952949999999994,2.4510000000000001,0,5.4405000000000001,107.28099999999999,0,232.07416545189503]
[null,"HD 0-10 m3/h","€ '000",null,null,0,null,null,null,null,0,null,null,null,null,0,0]
[null,"HD 10-16 m3/h","€ '000",null,null,0,null,null,null,null,0,null,null,null,null,0,0]
[null,"HD 16-25 m3/h","€ '000",null,null,0,null,null,null,null,0,null,null,null,null,0,0]
[null,"HD 25-40 m3/h","€ '000",null,null,0,null,null,null,null,31.981619999999999,null,null,null,null,0,31.981619999999999]
[null,"EHD 0-40 m3/h","€ '000",null,0,0,0,0,0,0,0,0,0,0,0,0,0]
[]
[]
[null,"Inkomsten uit PAV vóór toepassing aansluitpuntpercentage"]
[]
[null,"LD 0-10 m3/h","€ '000",null,3247.8149999999996,4293.7111800000002,40754.268010000007,1280.4257918809772,5716.8450000000003,5536.7368584523456,47302.449760654308,4298.0986806193341,2721.6133999999997,425.83914322478506,34845.924754234016,0,{"$f":"SUM(E54:P54)","v":150423.72757906577}]
[null,"LD 10-16 m3/h","€ '000",null,0.11447999999999998,0,323.09153000000003,12.805433762173553,0.51,0.19936658557280312,301.16559276698013,108.00875273375449,47.504749999999994,3.7158415805545335,249.30327144957607,0,1046.4190188786115]
[null,"LD 16-25 m3/h","€ '000",null,131.59475999999998,143.18711999999999,725.73808999999994,25.886253196651918,116.43300000000001,165.12537450067418,813.42716279193826,116.89059733435722,78.642899999999997,3.5544256464672861,1411.5696697047845,0,3732.0493531748734]
[null,"LD 25-40 m3/h ","€ '000",null,54.2592,54.848639999999996,480.04278000000005,23.714483376435613,88.212000000000003,71.696018415042957,358.78603999999996,75.342391743764509,33.7376,2.5168452928884317,544.14462022432303,0,1787.3006190524543]
[null,"LD 40-65 m3/h ","€ '000",null,52.300800000000002,31.220640000000003,357.54379,30.862931271320296,2.8279999999999998,61.525634725456463,508.11540359872635,97.138732530262956,24.942143999999999,18.565390000000001,513.34238814654577,0,1698.3858542723119]
[null,"LD 65-100 m3/h ","€ '000",null,46.202399999999997,51.738600000000005,615.77912000000003,40.695714771621084,167.804,65.645149412201349,1256.536161947563,95.413813135386036,35.996855519650659,39.576520000000002,627.97579539320327,0,3043.3641301796251]
[null,"LD 100-160 m3/h","€ '000",null,21.893759999999997,28.306199999999997,574.673,26.543031828552561,86.625,88.856714101540405,1056.7314211106127,81.148947814132271,18.907430443959242,30.423523333333332,460.08206329218143,0,2474.1910919243119]
[null,"LD 160-250 m3/h ","€ '000",null,21.546239999999997,28.486080000000001,320.03186569190603,15.510911937598257,87.831999999999994,37.007591703242845,984.59850184193874,32.682187247921014,18.331594000000003,83.155160000000009,262.00471244075965,0,1891.1868448633666]
[null,"LD 250-400 m3/h ","€ '000",null,7.6463999999999999,7.4059200000000001,465.68739430809393,9.0822672826251072,97.707999999999998,65.194501936919352,919.6378595303272,16.55383486240261,11.792414000000003,116.43204666666669,181.26566404860785,0,1898.406302635643]
[null,"LD 400-650 m3/h ","€ '000",null,3.3638400000000002,0,216.40060571428569,0,60.5,16.294961374291496,530.78153686041242,0,1.2386400000000002,7.4113333333333337E-2,32.32337289562593,0,860.97707017794892]
[null,"LD 650-1000 m3/h ","€ '000",null,0,0,162.30045428571427,0,27.835999999999999,7.6716656913732608,449.48948863836642,0,0,0.55585000000000007,13.277187825646157,0,{"$f":"SUM(E64:P64)","v":661.1306464411}]
[null,"LD 1000-1600 m3/h ","€ '000",null,0,1.09836,169.05558814070349,0,0,6.1543284232739275,243.54858155673534,0,0,53.95450666666666,0,0,473.81136478737943]
[null,"LD 1600-2500 m3/h ","€ '000",null,0,0,58.255641859296482,0,0,3.5039408845057127,132.13242617022024,0,0,0,0,0,193.89200891402243]
[null,"LD >2500 m3/h","€ '000",null,0,0,62.335449999999994,0,0,0,78.01772228496435,0,0,2.1122299999999998,0,0,142.46540228496434]
[]
[null,"HD 0-10 m3/h","€ '000",null,0,0,null,0,0,0,0,0,0,0,0,0,0]
[null,"HD 10-16 m3/h","€ '000",null,0,0,null,0,0,0,0,0,0,0,0,0,0]
[null,"HD 16-25 m3/h","€ '000",null,0,0,null,0,0,0,0,0,6.9349999999999995E-2,0,0,0,6.9349999999999995E-2]
[null,"HD 25-40 m3/h","€ '000",null,0,0,null,0,0,0,0,7.0440000000000003E-2,0,0,0,0,7.0440000000000003E-2]
[null,"HD 40-65 m3/h","€ '000",null,0,0,null,0,0,0,1.39968,0,0.15659999999999999,0,76.175183187031152,0,{"$f":"SUM(E73:P73)","v":77.731463187031153}]
[null,"HD 65-100 m3/h","€ '000",null,0.74519999999999997,11.224920000000001,null,0,2.9380000000000002,0,2.9159999999999999,7.9905400167787146,1.9126080000000001,0,285.67981957992401,0,{"$f":"SUM(E74:P74)","v":313.40708759670275}]
[null,"HD 100-160 m3/h","€ '000",null,0.69503999999999999,7.4472000000000005,null,0,2.8780000000000001,0.2343599999999999,3.7422000000000004,1.3104,17.859480000000005,0.11117,323.28731215068018,0,357.56516215068018]
[null,"HD 160-250 m3/h","€ '000",null,7.9929599999999992,42.959760000000003,null,5.3810690997657993,12.7913,0,14.968800000000002,26.100878515924691,24.893879999999999,0.55585000000000007,487.18353795066048,0,{"$f":"SUM(E76:P76)","v":622.82803556635099}]
[null,"HD 250-400 m3/h ","€ '000",null,5.7347999999999999,52.460639999999998,null,0,28.102900000000002,0.19115403216000004,27.497879999999999,76.391895587443372,38.682009999999998,2.8904200000000002,481.14685729262334,0,713.09855691222674]
[null,"HD 400-650 m3/h ","€ '000",null,3.7843200000000001,27.091799999999999,null,81.336818132324993,37.184899999999999,4.2380223213599999,67.2624,178.27061685382736,18.494739999999997,10.89466,323.45707325033214,0,{"$f":"SUM(E78:P78)","v":752.0153505578445}]
[null,"HD 650-1000 m3/h ","€ '000",null,1.8503999999999998,3.90144,null,4.17900113513869,15.6516,1.9252446427200003,82.28952000000001,139.91670439505765,15.100199999999999,7.6707300000000007,228.49703345903791,0,500.98187363195427]
[null,"HD 1000-1600 m3/h ","€ '000",null,0,5.4921600000000002,null,63.018207113222246,34.055,0,63.277200000000001,216.21062323019481,13.402439999999999,7.9301266666666681,95.359226135647248,0,{"$f":"SUM(E80:P80)","v":498.744983145731}]
[null,"HD 1600-2500 m3/h ","€ '000",null,0,0,null,0,0,4.4337027973200005,42.874919999999996,14.767063379457607,18.530279999999998,1.5563800000000001,30.778699615377956,0,112.94104579215556]
[null,"HD >2500 m3/h","€ '000",null,0,0,null,2.9221852115927009,0,3.53064,45.33408,0,12.200520000000001,15.749083333333331,7.0442210567499224,0,{"$f":"SUM(E82:P82)","v":86.780729601675958}]
[]
[null,"EHD 0-40 m3/h","€ '000",null,0,0,0,0,0,0,0,0,0,0,0,0,{"$f":"SUM(E84:P84)","v":0}]
[null,"EHD >40 m3/h","€ '000",null,0,124.26233999999998,0,0,0,0,0,0,0,0,1031,0,{"$f":"SUM(E85:P85)","v":1155.26234}]
[]
[]
[null,"Vergoedingen 2009 (EAV en Meerlengte) na toepassing aansluitpuntpercentage"]
[]
[null,"Aansluitpuntpercentage ter bepaling vergoedingen > 40m3/h",null,{"$f":"'Kosten AD'!D55","v":0.38500000000000001}]
[]
[null,"Eenmalige aansluitvergoeding"]
[null,"LD 0-10 m3/h","€ '000",null,{"$f":"E7","v":1446.2319500000001},{"$f":"F7","v":1214.09238},15331.30688,203.167,950.88,1697.6427270174643,14317.295,1102.008,803.84799999999996,704.56445000000008,11810.403729056832,0,{"$f":"SUM(E93:P93)","v":49581.440116074293}]
[null,"LD 10-16 m3/h","€ '000",null,{"$f":"E8","v":0},0,332.12853999999993,31.241949559948875,0,0,452.62599999999998,119.34,22.23,14.64359,245.09004390596618,0,1217.300123465915]
[null,"LD 16-25 m3/h","€ '000",null,30.766833716810741,49.854770000000002,309.80141000000003,21.69473725382645,25.85,72.919710832826581,224.83,36.257167491022841,22.23,5.82538,286.31388703720347,0,1086.3438963316903]
[null,"LD 25-40 m3/h ","€ '000",null,10.643400000000002,9.9844799999999996,222.92910999999998,30.645238891967008,12.8,27.498772183311424,770.94599999999991,45.954000000000001,12.69,18.077870000000001,253.48370000000003,0,1415.6525710752785]
[null,"LD 40-65 m3/h ","€ '000",null,{"$f":"E11*$D$90","v":11.756067400000001},{"$f":"F11*$D$90","v":6.3159250000000009},78.090785849999989,13.643335806122987,2.8490000000000002,17.03001802306261,0,19.571090000000002,1.54,2.9052408000000001,97.797334250000006,0,251.49879712918559]
[null,"LD 65-100 m3/h ","€ '000",null,{"$f":"E12*$D$90","v":5.2177125000000002},2.9991500000000002,59.705619050000003,6.9866360517015913,6.93,11.972914800000002,187.74294,14.069439999999998,1.6285500000000002,0,73.815280000000001,0,371.06824240170158]
[null,"LD 100-160 m3/h","€ '000",null,0,4.5949750000000007,57.928882550000004,0,5.3130000000000006,4.6274535999999999,96.412469999999999,5.2544166974022595,0,12.722871699999999,52.886679999999998,0,239.74074954740229]
[null,"LD 160-250 m3/h ","€ '000",null,0,0,6.9735839250000007,10.533529566394837,0,0,63.746760000000002,0,0,0,34.498309999999996,0,115.75218349139485]
[null,"LD 250-400 m3/h ","€ '000",null,0,0,6.9735839250000007,0,0,25.765118964000404,103.91843,20.163239385995851,0,6.6213185499999998,3.2397749999999998,0,166.68146582499628]
[null,"LD 400-650 m3/h ","€ '000",null,0,0,0,0,0,0,49.747775000000004,0,0,0,0,0,49.747775000000004]
[null,"LD 650-1000 m3/h ","€ '000",null,0,0,0,0,0,0,0,0,0,0,0,0,0]
[null,"LD 1000-1600 m3/h ","€ '000",null,0,0,0,0,0,0,0,0,0,0,0,0,0]
[null,"LD 1600-2500 m3/h ","€ '000",null,0,0,0,0,0,0,0,0,0,0,0,0,0]
[null,"LD >2500 m3/h","€ '000",null,0,0,0,0,0,0,0,0,0,0,0,0,0]
[]
[null,"HD 0-10 m3/h","€ '000",null,{"$f":"E22","v":0},{"$f":"F22","v":0},0,0,0,0,0,0,0,0,0,0,{"$f":"SUM(E108:P108)","v":0}]
[null,"HD 10-16 m3/h","€ '000",null,{"$f":"E23","v":0},0,0,0,0,0,0,0,0,0,0,0,0]
[null,"HD 16-25 m3/h","€ '000",null,0,0,0,0,0,0,0,0,0,0,0,0,0]
[null,"HD 25-40 m3/h","€ '000",null,0,0,0,0,0,0,0,0,0,0,0,0,0]
[null,"HD 40-65 m3/h","€ '000",null,{"$f":"E26*$D$90","v":0},{"$f":"F26*$D$90","v":0},20.906231500000001,0,0,0,0,0,0,0,63.189272300000006,0,84.095503800000003]
[null,"HD 65-100 m3/h","€ '000",null,{"$f":"E27*$D$90","v":0},0,21.021384999999999,0,0,0,4.9564900000000005,0,0,0,86.57666325000001,0,112.55453825000001]
[null,"HD 100-160 m3/h","€ '000",null,0,0,17.245335800000003,0,0,0,0,0,0,0,182.50474935000003,0,199.75008515000002]
[null,"HD 160-250 m3/h","€ '000",null,0,11.062975,44.274999999999999,0,0,0,7.9683450000000002,22.666875000000001,0,0,240.67959300000004,0,326.65278800000004]
[null,"HD 250-400 m3/h ","€ '000",null,0,19.057500000000001,54.939884999999997,0,0,0,9.4471299999999996,0,0,0,78.199713900000006,0,161.6442289]
[null,"HD 400-650 m3/h ","€ '000",null,0,0,11.165000000000001,0,0,0,79.596440000000001,8.4507499999999993,0,6.416005750000001,20.956320000000002,0,126.58451575000001]
[null,"HD 650-1000 m3/h ","€ '000",null,0,83.352500000000006,14.245000000000001,0,0,0,0,0,0,64.231783000000007,0,0,161.82928300000003]
[null,"HD 1000-1600 m3/h ","€ '000",null,0,0,24.203795,0,0,0,0,0,0,7.0573271999999996,0,0,31.261122199999999]
[null,"HD 1600-2500 m3/h ","€ '000",null,0,0,0,0,0,0,0,9.1225749999999994,0,32.25701325,0,0,41.379588249999998]
[null,"HD >2500 m3/h","€ '000",null,0,0,74.150999999999996,0,0,0,0,0,0,0,144.05749435000001,0,218.20849435000002]
[]
[null,"EHD 0-40 m3/h","€ '000",null,{"$f":"E37","v":0},{"$f":"F37","v":0},0,0,0,0,0,0,0,0,0,0,{"$f":"SUM(E123:P123)","v":0}]
[null,"EHD >40 m3/h","€ '000",null,{"$f":"E38*$D$90","v":0},{"$f":"F38*$D$90","v":0},0,0,0,0,0,0,0,0,0,0,{"$f":"SUM(E124:P124)","v":0}]
[]
[null,"Meerlengtevergoeding "]
[null,"LD 0-10 m3/h","€ '000",null,{"$f":"E41","v":10.453480652827666},{"$f":"F41","v":10.808339999999999},397.71168999999998,15.3725,0,4.6759400000000007,410.37759999999997,16.576499999999999,55.552199999999999,84.125799999999998,701.42220000000009,0,{"$f":"SUM(E127:P127)","v":1707.0762506528276}]
[null,"LD 10-16 m3/h","€ '000",null,{"$f":"E42","v":23.910389470404986},0,66.571809999999999,2.2360000000000002,0,0,85.927800000000005,6.2779999999999996,0,6.1658999999999997,72.025399999999991,0,263.11529947040498]
[null,"LD 16-25 m3/h","€ '000",null,52.101632967546578,5.86599,136.81538,1.806,0,0.7367999999999999,47.055699999999995,1.6984999999999999,1.1200000000000001,0,125.3796,0,372.57960296754658]
[null,"LD 25-40 m3/h ","€ '000",null,7.9014554518950444,0,61.222259999999991,11.824999999999999,0,0,35.952949999999994,2.4510000000000001,0,5.4405000000000001,107.28099999999999,0,232.07416545189503]
[null,"HD 0-10 m3/h","€ '000",null,0,0,0,0,0,0,0,0,0,0,0,0,0]
[null,"HD 10-16 m3/h","€ '000",null,0,0,0,0,0,0,0,0,0,0,0,0,0]
[null,"HD 16-25 m3/h","€ '000",null,0,0,0,0,0,0,0,0,0,0,0,0,0]
[null,"HD 25-40 m3/h","€ '000",null,0,0,0,0,0,0,31.981619999999999,0,0,0,0,0,31.981619999999999]
[null,"EHD 0-40 m3/h","€ '000",null,0,0,0,0,0,0,0,0,0,0,0,0,0]
[]
[null,"Ontvangen vergoedingen AD EAV en ML (incl. EHD)","€ '000",null,{"$f":"SUM(E93:E135)","v":1598.9829221594848},{"$f":"SUM(F93:F135)","v":1417.9889850000002},17350.312167600001,349.15192712996168,1004.622,1862.8694554206652,16980.529449999998,1429.8615535744207,920.83875,971.05505025000002,14679.800745400007,0,58566.013006534544]
[]
[]
[null,"Inkomsten uit PAV na toepassing aansluitpuntpercentage"]
[]
[null,"LD 0-10 m3/h","€ '000",null,{"$f":"E54","v":3247.8149999999996},{"$f":"F54","v":4293.7111800000002},40754.268010000007,1280.4257918809772,5716.8450000000003,5536.7368584523456,47302.449760654308,4298.0986806193341,2721.6133999999997,425.83914322478506,34845.924754234016,0,{"$f":"SUM(E142:P142)","v":150423.72757906577}]
[null,"LD 10-16 m3/h","€ '000",null,{"$f":"E55","v":0.11447999999999998},0,323.09153000000003,12.805433762173553,0.51,0.19936658557280312,301.16559276698013,108.00875273375449,47.504749999999994,3.7158415805545335,249.30327144957607,0,1046.4190188786115]
[null,"LD 16-25 m3/h","€ '000",null,131.59475999999998,143.18711999999999,725.73808999999994,25.886253196651918,116.43300000000001,165.12537450067418,813.42716279193826,116.89059733435722,78.642899999999997,3.5544256464672861,1411.5696697047845,0,3732.0493531748734]
[null,"LD 25-40 m3/h ","€ '000",null,54.2592,54.848639999999996,480.04278000000005,23.714483376435613,88.212000000000003,71.696018415042957,358.78603999999996,75.342391743764509,33.7376,2.5168452928884317,544.14462022432303,0,1787.3006190524543]
[null,"LD 40-65 m3/h ","€ '000",null,{"$f":"E58*$D$90","v":20.135808000000001},{"$f":"F58*$D$90","v":12.019946400000002},137.65435915,11.882228539458314,1.0887799999999999,23.68736936930074,195.62443038550964,37.398412024151241,9.6027254400000004,7.1476751500000004,197.63681943642013,0,653.87855389484014]
[null,"LD 65-100 m3/h ","€ '000",null,{"$f":"E59*$D$90","v":17.787924},19.919361000000002,237.07496120000002,15.667850187074118,64.60454,25.273382523697521,483.76642234981176,36.734318057123623,13.858789375065504,15.2369602,241.77068122638326,0,1171.6951901191558]
[null,"LD 100-160 m3/h","€ '000",null,8.4290975999999986,10.897886999999999,221.24910500000001,10.219067253992737,33.350625000000001,34.209834929093056,406.84159712758589,31.242344908440923,7.2793607209243083,11.713056483333332,177.13159436748987,0,952.56357039086015]
[null,"LD 160-250 m3/h ","€ '000",null,8.2953023999999989,10.967140800000001,123.21226829138382,5.9717010959753294,33.81532,14.247922805748496,379.07042320914644,12.582642090449591,7.0576636900000009,32.014736600000006,100.87181428969247,0,728.10693527239619]
[null,"LD 250-400 m3/h ","€ '000",null,2.943864,2.8512792,179.28964680861617,3.4966729038106665,37.617580000000004,25.099883245713951,354.06057591917596,6.373226422025005,4.5400793900000007,44.826337966666678,69.787280658714025,0,730.88642651472242]
[null,"LD 400-650 m3/h ","€ '000",null,1.2950784000000002,0,83.31423319999999,0,23.2925,6.2735601291022265,204.35089169125879,0,0.47687640000000009,2.8533633333333336E-2,12.444498564815984,0,331.47617201851034]
[null,"LD 650-1000 m3/h ","€ '000",null,0,0,62.485674899999992,0,10.71686,2.9535912911787054,173.05345312577109,0,0,0.21400225000000003,5.111717312873771,0,254.53529887982353]
[null,"LD 1000-1600 m3/h ","€ '000",null,0,0.42286859999999998,65.086401434170853,0,0,2.3694164429604623,93.766203899343111,0,0,20.772485066666665,0,0,182.41737544314108]
[null,"LD 1600-2500 m3/h ","€ '000",null,0,0,22.428422115829147,0,0,1.3490172405346994,50.870984075534793,0,0,0,0,0,74.648423431898635]
[null,"LD >2500 m3/h","€ '000",null,0,0,23.999148249999998,0,0,0,30.036823079711276,0,0,0.81320854999999992,0,0,54.849179879711272]
[]
[null,"HD 0-10 m3/h","€ '000",null,{"$f":"E69","v":0},{"$f":"F69","v":0},0,0,0,0,0,0,0,0,0,0,{"$f":"SUM(E157:P157)","v":0}]
[null,"HD 10-16 m3/h","€ '000",null,{"$f":"E70","v":0},0,0,0,0,0,0,0,0,0,0,0,{"$f":"SUM(E158:P158)","v":0}]
[null,"HD 16-25 m3/h","€ '000",null,0,0,0,0,0,0,0,0,6.9349999999999995E-2,0,0,0,{"$f":"SUM(E159:P159)","v":6.9349999999999995E-2}]
[null,"HD 25-40 m3/h","€ '000",null,0,0,0,0,0,0,0,7.0440000000000003E-2,0,0,0,0,{"$f":"SUM(E160:P160)","v":7.0440000000000003E-2}]
[null,"HD 40-65 m3/h","€ '000",null,{"$f":"E73*$D$90","v":0},{"$f":"F73*$D$90","v":0},0,0,0,0,0.53887680000000004,0,6.0290999999999997E-2,0,29.327445527006994,0,{"$f":"SUM(E161:P161)","v":29.926613327006994}]
[null,"HD 65-100 m3/h","€ '000",null,{"$f":"E74*$D$90","v":0.28690199999999999},4.3215942000000007,0,0,1.1311300000000002,0,1.12266,3.0763579064598052,0.73635408000000002,0,109.98673053827075,0,{"$f":"SUM(E162:P162)","v":120.66172872473055}]
[null,"HD 100-160 m3/h","€ '000",null,0.26759040000000001,2.8671720000000001,0,0,1.1080300000000001,9.0228599999999964E-2,1.4407470000000002,0.50450400000000006,6.8758998000000018,4.2800450000000004E-2,124.46561517801187,0,137.66258742801188]
[null,"HD 160-250 m3/h","€ '000",null,3.0772895999999998,16.5395076,0,2.0717116034098328,4.9246505000000003,0,5.7629880000000009,10.048838228631006,9.5841437999999997,0.21400225000000003,187.56566211100429,0,239.78879369304514]
[null,"HD 250-400 m3/h ","€ '000",null,2.2078980000000001,20.197346400000001,0,0,10.8196165,7.3594302381600016E-2,10.586683799999999,29.410879801165699,14.89257385,1.1128117000000002,185.24154005765999,0,274.54294441120726]
[null,"HD 400-650 m3/h ","€ '000",null,1.4569632000000001,10.430343000000001,0,31.314674980945124,14.316186500000001,1.6316385937236,25.896024000000001,68.634187488723541,7.1204748999999987,4.1944441000000001,124.53097320137788,0,289.52590996477016]
[null,"HD 650-1000 m3/h ","€ '000",null,0.71240399999999993,1.5020544,0,1.6089154370283958,6.0258660000000006,0.74121918744720017,31.681465200000005,53.867931192097195,5.8135769999999996,2.9532310500000003,87.971357881729602,0,192.87802134830241]
[null,"HD 1000-1600 m3/h ","€ '000",null,0,2.1144816,0,24.262009738590564,13.111174999999999,0,24.361722,83.241089943624999,5.1599393999999998,3.0530987666666674,36.713302062224194,0,192.01681851110644]
[null,"HD 1600-2500 m3/h ","€ '000",null,0,0,0,0,0,1.7069755769682002,16.5068442,5.6853194010911787,7.1341577999999997,0.59920630000000008,11.849799351920513,0,43.482302629979891]
[null,"HD >2500 m3/h","€ '000",null,0,0,0,1.1250413064631899,0,1.3592964000000001,17.453620799999999,0,4.6972002000000002,6.0633970833333324,2.7120251068487202,0,33.410580896645243]
[]
[null,"EHD 0-40 m3/h","€ '000",null,{"$f":"E84","v":0},{"$f":"F84","v":0},0,0,0,0,0,0,0,0,0,0,{"$f":"SUM(E172:P172)","v":0}]
[null,"EHD >40 m3/h","€ '000",null,0,{"$f":"F85*$D$90","v":47.84100089999999},0,0,0,0,0,0,0,0,396.935,0,{"$f":"SUM(E173:P173)","v":444.77600089999999}]

{"sheet":"SO","index":10,"n_rows":169,"n_cols":17,"rows_kept":169,"cut":false,"hidden":false,"merged":[]}
[]
[null,"Samengestelde Output",null,null,"Cogas Infra & Beheer B.V.","DELTA Netwerkbedrijf B.V.","Stedin B.V.","Endinet Haarlemmermeer B.V.","Intergas Energie B.V.","Endinet Regio Eindhoven B.V.","Liander N.V.","Endinet Oost-Brabant N.V.","N.V. RENDO","Westland Energie Infrastructuur B.V.","Enexis B.V.","Zebra Gasnetwerk B.V.","Totaal"]
[]
[null,2006]
[]
[null,"Kleinverbruik"]
[null,"Vastrecht (TOVT)",null,null,{"$f":"'Wegingsfactor TD'!$D81*Volumes!E7","v":2334492.0000000005},{"$f":"'Wegingsfactor TD'!$D81*Volumes!F7","v":3231267.0000000009},{"$f":"'Wegingsfactor TD'!$D81*Volumes!G7","v":31425146.093906756},{"$f":"'Wegingsfactor TD'!$D81*Volumes!H7","v":1010469.75822},{"$f":"'Wegingsfactor TD'!$D81*Volumes!I7","v":2550260.7000000002},{"$f":"'Wegingsfactor TD'!$D81*Volumes!J7","v":3260382.7824986908},{"$f":"'Wegingsfactor TD'!$D81*Volumes!K7","v":37424131.200000003},{"$f":"'Wegingsfactor TD'!$D81*Volumes!L7","v":3445278.2402400007},{"$f":"'Wegingsfactor TD'!$D81*Volumes!M7","v":1749366.0000000002},{"$f":"'Wegingsfactor TD'!$D81*Volumes!N7","v":841322.30382153264},{"$f":"'Wegingsfactor TD'!$D81*Volumes!O7","v":32418584.949645922},{"$f":"'Wegingsfactor TD'!$D81*Volumes!P7","v":0},{"$f":"SUM(E7:O7)","v":119690701.02833292}]
[null,"Capaciteitsafhankelijk tarief (TAVTc)",null,null,{"$f":"'Wegingsfactor TD'!$D82*Volumes!E8","v":10516596.498348791},{"$f":"'Wegingsfactor TD'!$D82*Volumes!F8","v":13425182.865398921},{"$f":"'Wegingsfactor TD'!$D82*Volumes!G8","v":126573850.02742124},{"$f":"'Wegingsfactor TD'!$D82*Volumes!H8","v":4203783.4223623052},{"$f":"'Wegingsfactor TD'!$D82*Volumes!I8","v":11262153.347414713},{"$f":"'Wegingsfactor TD'!$D82*Volumes!J8","v":14210077.706746506},{"$f":"'Wegingsfactor TD'!$D82*Volumes!K8","v":154133354.35738352},{"$f":"'Wegingsfactor TD'!$D82*Volumes!L8","v":15263124.782729615},{"$f":"'Wegingsfactor TD'!$D82*Volumes!M8","v":7638966.0366166765},{"$f":"'Wegingsfactor TD'!$D82*Volumes!N8","v":3523756.9318409059},{"$f":"'Wegingsfactor TD'!$D82*Volumes!O8","v":141325978.05768725},{"$f":"'Wegingsfactor TD'!$D82*Volumes!P8","v":0},{"$f":"SUM(E8:O8)","v":502076824.03395045}]
[]
[null,"Profielgrootverbruik"]
[null,"Vastrecht (TOVT)",null,null,{"$f":"'Wegingsfactor TD'!$D85*Volumes!E11","v":9306.0000000000018},{"$f":"'Wegingsfactor TD'!$D85*Volumes!F11","v":12072.000000000004},{"$f":"'Wegingsfactor TD'!$D85*Volumes!G11","v":160684.48350855566},{"$f":"'Wegingsfactor TD'!$D85*Volumes!H11","v":6921.3844800000015},{"$f":"'Wegingsfactor TD'!$D85*Volumes!I11","v":11260.800000000003},{"$f":"'Wegingsfactor TD'!$D85*Volumes!J11","v":15254.31224329118},{"$f":"'Wegingsfactor TD'!$D85*Volumes!K11","v":176526.00000000003},{"$f":"'Wegingsfactor TD'!$D85*Volumes!L11","v":18908.634240000003},{"$f":"'Wegingsfactor TD'!$D85*Volumes!M11","v":7074.0000000000018},{"$f":"'Wegingsfactor TD'!$D85*Volumes!N11","v":15887.874178467702},{"$f":"'Wegingsfactor TD'!$D85*Volumes!O11","v":143926.69603740316},{"$f":"'Wegingsfactor TD'!$D85*Volumes!P11","v":0},{"$f":"SUM(E11:O11)","v":577822.18468771782}]
[null,"Capaciteitsafhankelijk tarief (TAVTc)",null,null,{"$f":"'Wegingsfactor TD'!$D86*Volumes!E12","v":793074.74857686262},{"$f":"'Wegingsfactor TD'!$D86*Volumes!F12","v":1037567.4363699605},{"$f":"'Wegingsfactor TD'!$D86*Volumes!G12","v":18213895.61157947},{"$f":"'Wegingsfactor TD'!$D86*Volumes!H12","v":623043.55184076587},{"$f":"'Wegingsfactor TD'!$D86*Volumes!I12","v":1234175.1549322645},{"$f":"'Wegingsfactor TD'!$D86*Volumes!J12","v":1437090.8730529207},{"$f":"'Wegingsfactor TD'!$D86*Volumes!K12","v":16798394.499593284},{"$f":"'Wegingsfactor TD'!$D86*Volumes!L12","v":1574727.9127614603},{"$f":"'Wegingsfactor TD'!$D86*Volumes!M12","v":606102.53525394388},{"$f":"'Wegingsfactor TD'!$D86*Volumes!N12","v":3372769.3840904301},{"$f":"'Wegingsfactor TD'!$D86*Volumes!O12","v":13216932.464505581},{"$f":"'Wegingsfactor TD'!$D86*Volumes!P12","v":0},{"$f":"SUM(E12:O12)","v":58907774.172556944}]
[]
[null,"Telemetriegrootverbruik (< 16 bar)"]
[null,"Vastrecht (TOVT)",null,null,{"$f":"'Wegingsfactor TD'!$D89*Volumes!E15","v":70401.48309527649},{"$f":"'Wegingsfactor TD'!$D89*Volumes!F15","v":100953.07009888705},{"$f":"'Wegingsfactor TD'!$D89*Volumes!G15","v":1386776.3839899749},{"$f":"'Wegingsfactor TD'!$D89*Volumes!H15","v":72618.006770251508},{"$f":"'Wegingsfactor TD'!$D89*Volumes!I15","v":116228.86360069233},{"$f":"'Wegingsfactor TD'!$D89*Volumes!J15","v":114345.5744011355},{"$f":"'Wegingsfactor TD'!$D89*Volumes!K15","v":1746266.7243991257},{"$f":"'Wegingsfactor TD'!$D89*Volumes!L15","v":221285.66392337205},{"$f":"'Wegingsfactor TD'!$D89*Volumes!M15","v":53578.185295244861},{"$f":"'Wegingsfactor TD'!$D89*Volumes!N15","v":898979.40201015898},{"$f":"'Wegingsfactor TD'!$D89*Volumes!O15","v":2472132.5817088205},{"$f":"'Wegingsfactor TD'!$D89*Volumes!P15","v":0},{"$f":"SUM(E15:O15)","v":7253565.9392929394}]
[null,"Capaciteitsafhankelijk tarief (TAVTc) gestandaardiseerd",null,null,{"$f":"'Wegingsfactor TD'!$D90*Volumes!E18","v":707708.01106723573},{"$f":"'Wegingsfactor TD'!$D90*Volumes!F18","v":1010244.6224563548},{"$f":"'Wegingsfactor TD'!$D90*Volumes!G18","v":13694183.432071496},{"$f":"'Wegingsfactor TD'!$D90*Volumes!H18","v":658214.12691796105},{"$f":"'Wegingsfactor TD'!$D90*Volumes!I18","v":1058157.5659514628},{"$f":"'Wegingsfactor TD'!$D90*Volumes!J18","v":1166076.5629171224},{"$f":"'Wegingsfactor TD'!$D90*Volumes!K18","v":14559836.022760149},{"$f":"'Wegingsfactor TD'!$D90*Volumes!L18","v":1822997.7548492702},{"$f":"'Wegingsfactor TD'!$D90*Volumes!M18","v":599496.60729733401},{"$f":"'Wegingsfactor TD'!$D90*Volumes!N18","v":7176558.0176196424},{"$f":"'Wegingsfactor TD'!$D90*Volumes!O18","v":14561148.720449194},{"$f":"'Wegingsfactor TD'!$D90*Volumes!P18","v":0},{"$f":"SUM(E16:O16)","v":57014621.444357216}]
[]
[null,"Samengestelde Output 2006",null,null,{"$f":"SUM(E7:E16)","v":14431578.741088167},{"$f":"SUM(F7:F16)","v":18817286.994324122},191454536.0324775,6575050.2505912827,16232236.431899132,20203227.811859664,224838508.8041361,22346322.988743719,10654583.364463201,15829273.913561139,204138703.47003418,{"$f":"SUM(P7:P16)","v":0},{"$f":"SUM(E18:O18)","v":745521308.80317831}]
[]
[null,2007]
[]
[null,"Kleinverbruik"]
[null,"Vastrecht (TOVT)",null,null,{"$f":"'Wegingsfactor TD'!$D81*Volumes!E27","v":2343834.0000000005},{"$f":"'Wegingsfactor TD'!$D81*Volumes!F27","v":3251397.0000000005},{"$f":"'Wegingsfactor TD'!$D81*Volumes!G27","v":31799835.030891694},{"$f":"'Wegingsfactor TD'!$D81*Volumes!H27","v":1044722.3302372745},{"$f":"'Wegingsfactor TD'!$D81*Volumes!I27","v":2581380.0000000005},{"$f":"'Wegingsfactor TD'!$D81*Volumes!J27","v":3267061.2957102368},{"$f":"'Wegingsfactor TD'!$D81*Volumes!K27","v":37709409.198887154},{"$f":"'Wegingsfactor TD'!$D81*Volumes!L27","v":3507204.328138364},{"$f":"'Wegingsfactor TD'!$D81*Volumes!M27","v":1765579.7155244136},{"$f":"'Wegingsfactor TD'!$D81*Volumes!N27","v":854331.21877040085},{"$f":"'Wegingsfactor TD'!$D81*Volumes!O27","v":32931558.769924983},{"$f":"'Wegingsfactor TD'!$D81*Volumes!P27","v":0},{"$f":"SUM(E23:O23)","v":121056312.88808453}]
[null,"Capaciteitsafhankelijk tarief (TAVTc)",null,null,{"$f":"'Wegingsfactor TD'!$D82*Volumes!E28","v":10518378.668589074},{"$f":"'Wegingsfactor TD'!$D82*Volumes!F28","v":13397644.704507252},{"$f":"'Wegingsfactor TD'!$D82*Volumes!G28","v":128997227.08379063},{"$f":"'Wegingsfactor TD'!$D82*Volumes!H28","v":4348720.3298697555},{"$f":"'Wegingsfactor TD'!$D82*Volumes!I28","v":11378555.275156759},{"$f":"'Wegingsfactor TD'!$D82*Volumes!J28","v":14239185.39073104},{"$f":"'Wegingsfactor TD'!$D82*Volumes!K28","v":154843643.90594998},{"$f":"'Wegingsfactor TD'!$D82*Volumes!L28","v":15546578.827357383},{"$f":"'Wegingsfactor TD'!$D82*Volumes!M28","v":7707716.0771129942},{"$f":"'Wegingsfactor TD'!$D82*Volumes!N28","v":3555160.1471247328},{"$f":"'Wegingsfactor TD'!$D82*Volumes!O28","v":143489995.13998079},{"$f":"'Wegingsfactor TD'!$D82*Volumes!P28","v":0},{"$f":"SUM(E24:O24)","v":508022805.55017036}]
[]
[null,"Profielgrootverbruik"]
[null,"Vastrecht (TOVT)",null,null,{"$f":"'Wegingsfactor TD'!$D85*Volumes!E31","v":9612.0000000000018},{"$f":"'Wegingsfactor TD'!$D85*Volumes!F31","v":12067.500000000002},{"$f":"'Wegingsfactor TD'!$D85*Volumes!G31","v":144814.88616873472},{"$f":"'Wegingsfactor TD'!$D85*Volumes!H31","v":6965.0237975973387},{"$f":"'Wegingsfactor TD'!$D85*Volumes!I31","v":11484.000000000002},{"$f":"'Wegingsfactor TD'!$D85*Volumes!J31","v":15285.55891972338},{"$f":"'Wegingsfactor TD'!$D85*Volumes!K31","v":179019.26265131342},{"$f":"'Wegingsfactor TD'!$D85*Volumes!L31","v":18812.006401947099},{"$f":"'Wegingsfactor TD'!$D85*Volumes!M31","v":7122.4987179487207},{"$f":"'Wegingsfactor TD'!$D85*Volumes!N31","v":13714.565440125816},{"$f":"'Wegingsfactor TD'!$D85*Volumes!O31","v":139517.33585337902},{"$f":"'Wegingsfactor TD'!$D85*Volumes!P31","v":0},{"$f":"SUM(E27:O27)","v":558414.63795076951}]
[null,"Capaciteitsafhankelijk tarief (TAVTc)",null,null,{"$f":"'Wegingsfactor TD'!$D86*Volumes!E32","v":854115.34396211593},{"$f":"'Wegingsfactor TD'!$D86*Volumes!F32","v":1127288.0517576544},{"$f":"'Wegingsfactor TD'!$D86*Volumes!G32","v":15558154.31840284},{"$f":"'Wegingsfactor TD'!$D86*Volumes!H32","v":621940.52284767886},{"$f":"'Wegingsfactor TD'!$D86*Volumes!I32","v":1346743.5256427317},{"$f":"'Wegingsfactor TD'!$D86*Volumes!J32","v":1440034.5858075684},{"$f":"'Wegingsfactor TD'!$D86*Volumes!K32","v":17304341.585037932},{"$f":"'Wegingsfactor TD'!$D86*Volumes!L32","v":1558599.7910894477},{"$f":"'Wegingsfactor TD'!$D86*Volumes!M32","v":601549.76164981246},{"$f":"'Wegingsfactor TD'!$D86*Volumes!N32","v":2911406.8951559504},{"$f":"'Wegingsfactor TD'!$D86*Volumes!O32","v":12392657.125236357},{"$f":"'Wegingsfactor TD'!$D86*Volumes!P32","v":0},{"$f":"SUM(E28:O28)","v":55716831.506590083}]
[]
[null,"Telemetriegrootverbruik (< 16 bar)"]
[null,"Vastrecht (TOVT)",null,null,{"$f":"'Wegingsfactor TD'!$D89*Volumes!E35","v":69737.318160415394},{"$f":"'Wegingsfactor TD'!$D89*Volumes!F35","v":88998.101271387277},{"$f":"'Wegingsfactor TD'!$D89*Volumes!G35","v":1356761.1544992889},{"$f":"'Wegingsfactor TD'!$D89*Volumes!H35","v":68960.50994562672},{"$f":"'Wegingsfactor TD'!$D89*Volumes!I35","v":117557.19347041452},{"$f":"'Wegingsfactor TD'!$D89*Volumes!J35","v":117343.55857024966},{"$f":"'Wegingsfactor TD'!$D89*Volumes!K35","v":1630576.0046943719},{"$f":"'Wegingsfactor TD'!$D89*Volumes!L35","v":215847.47990783092},{"$f":"'Wegingsfactor TD'!$D89*Volumes!M35","v":53133.194788887922},{"$f":"'Wegingsfactor TD'!$D89*Volumes!N35","v":803088.33758224302},{"$f":"'Wegingsfactor TD'!$D89*Volumes!O35","v":2530943.833219992},{"$f":"'Wegingsfactor TD'!$D89*Volumes!P35","v":0},{"$f":"SUM(E31:O31)","v":7052946.6861107079}]
[null,"Capaciteitsafhankelijk tarief (TAVTc) gestandaardiseerd",null,null,{"$f":"'Wegingsfactor TD'!$D90*Volumes!E38","v":709337.13469087065},{"$f":"'Wegingsfactor TD'!$D90*Volumes!F38","v":924151.70480734215},{"$f":"'Wegingsfactor TD'!$D90*Volumes!G38","v":13366877.073480774},{"$f":"'Wegingsfactor TD'!$D90*Volumes!H38","v":565622.35203399195},{"$f":"'Wegingsfactor TD'!$D90*Volumes!I38","v":1116534.4957983794},{"$f":"'Wegingsfactor TD'!$D90*Volumes!J38","v":1175355.4191547537},{"$f":"'Wegingsfactor TD'!$D90*Volumes!K38","v":13945256.445913995},{"$f":"'Wegingsfactor TD'!$D90*Volumes!L38","v":1844870.5047310754},{"$f":"'Wegingsfactor TD'!$D90*Volumes!M38","v":585494.15051085688},{"$f":"'Wegingsfactor TD'!$D90*Volumes!N38","v":7096627.2570484206},{"$f":"'Wegingsfactor TD'!$D90*Volumes!O38","v":14296854.741814889},{"$f":"'Wegingsfactor TD'!$D90*Volumes!P38","v":0},{"$f":"SUM(E32:O32)","v":55626981.279985346}]
[]
[null,"Samengestelde Output 2007",null,null,{"$f":"SUM(E23:E32)","v":14505014.465402476},{"$f":"SUM(F23:F32)","v":18801547.062343635},191223669.54723397,6656931.0687319245,16552254.490068285,20254265.808893573,225612246.40313476,22691912.937626049,10720595.398304913,15234328.421121873,205781526.94603041,{"$f":"SUM(P23:P32)","v":0},{"$f":"SUM(E34:O34)","v":748034292.5488919}]
[]
[null,2008]
[]
[null,"Kleinverbruik"]
[null,"Vastrecht (TOVT)",null,null,{"$f":"'Wegingsfactor TD'!$D81*Volumes!E47","v":2396466.0000000005},{"$f":"'Wegingsfactor TD'!$D81*Volumes!F47","v":3276157.5000000005},{"$f":"'Wegingsfactor TD'!$D81*Volumes!G47","v":32872354.873757813},{"$f":"'Wegingsfactor TD'!$D81*Volumes!H47","v":1052794.724881555},{"$f":"'Wegingsfactor TD'!$D81*Volumes!I47","v":2605968.0000000005},{"$f":"'Wegingsfactor TD'!$D81*Volumes!J47","v":3303800.2676476236},{"$f":"'Wegingsfactor TD'!$D81*Volumes!K47","v":38019789.790390603},{"$f":"'Wegingsfactor TD'!$D81*Volumes!L47","v":3519531.5242050355},{"$f":"'Wegingsfactor TD'!$D81*Volumes!M47","v":1781963.6400000004},{"$f":"'Wegingsfactor TD'!$D81*Volumes!N47","v":872347.84375408047},{"$f":"'Wegingsfactor TD'!$D81*Volumes!O47","v":33096555.957817923},{"$f":"'Wegingsfactor TD'!$D81*Volumes!P47","v":0},{"$f":"SUM(E39:O39)","v":122797730.12245464}]
[null,"Capaciteitsafhankelijk tarief (TAVTc)",null,null,{"$f":"'Wegingsfactor TD'!$D82*Volumes!E48","v":10647080.484677793},{"$f":"'Wegingsfactor TD'!$D82*Volumes!F48","v":13514152.601866623},{"$f":"'Wegingsfactor TD'!$D82*Volumes!G48","v":132346537.91418368},{"$f":"'Wegingsfactor TD'!$D82*Volumes!H48","v":4425839.4737114254},{"$f":"'Wegingsfactor TD'!$D82*Volumes!I48","v":11429541.25889292},{"$f":"'Wegingsfactor TD'!$D82*Volumes!J48","v":14550252.151765795},{"$f":"'Wegingsfactor TD'!$D82*Volumes!K48","v":156118139.12629664},{"$f":"'Wegingsfactor TD'!$D82*Volumes!L48","v":15740654.746602615},{"$f":"'Wegingsfactor TD'!$D82*Volumes!M48","v":7745773.4706316581},{"$f":"'Wegingsfactor TD'!$D82*Volumes!N48","v":3660788.7837305563},{"$f":"'Wegingsfactor TD'!$D82*Volumes!O48","v":141383678.80929783},{"$f":"'Wegingsfactor TD'!$D82*Volumes!P48","v":0},{"$f":"SUM(E40:O40)","v":511562438.82165754}]
[]
[null,"Profielgrootverbruik"]
[null,"Vastrecht (TOVT)",null,null,{"$f":"'Wegingsfactor TD'!$D85*Volumes!E51","v":10332.000000000002},{"$f":"'Wegingsfactor TD'!$D85*Volumes!F51","v":12295.500000000004},{"$f":"'Wegingsfactor TD'!$D85*Volumes!G51","v":156778.43239710672},{"$f":"'Wegingsfactor TD'!$D85*Volumes!H51","v":6944.2460854134897},{"$f":"'Wegingsfactor TD'!$D85*Volumes!I51","v":11214.000000000002},{"$f":"'Wegingsfactor TD'!$D85*Volumes!J51","v":14007.992295662601},{"$f":"'Wegingsfactor TD'!$D85*Volumes!K51","v":180492.74382783278},{"$f":"'Wegingsfactor TD'!$D85*Volumes!L51","v":18611.935993377447},{"$f":"'Wegingsfactor TD'!$D85*Volumes!M51","v":7147.4400000000014},{"$f":"'Wegingsfactor TD'!$D85*Volumes!N51","v":13821.816245919621},{"$f":"'Wegingsfactor TD'!$D85*Volumes!O51","v":157926.94806286565},{"$f":"'Wegingsfactor TD'!$D85*Volumes!P51","v":0},{"$f":"SUM(E43:O43)","v":589573.05490817828}]
[null,"Capaciteitsafhankelijk tarief (TAVTc)",null,null,{"$f":"'Wegingsfactor TD'!$D86*Volumes!E52","v":963965.76608400035},{"$f":"'Wegingsfactor TD'!$D86*Volumes!F52","v":1165018.4630672154},{"$f":"'Wegingsfactor TD'!$D86*Volumes!G52","v":16326856.805132853},{"$f":"'Wegingsfactor TD'!$D86*Volumes!H52","v":640446.14771790162},{"$f":"'Wegingsfactor TD'!$D86*Volumes!I52","v":1298613.1860532463},{"$f":"'Wegingsfactor TD'!$D86*Volumes!J52","v":1247649.7523489816},{"$f":"'Wegingsfactor TD'!$D86*Volumes!K52","v":17446771.071228348},{"$f":"'Wegingsfactor TD'!$D86*Volumes!L52","v":1561758.9654150174},{"$f":"'Wegingsfactor TD'!$D86*Volumes!M52","v":597297.5143055144},{"$f":"'Wegingsfactor TD'!$D86*Volumes!N52","v":2419918.4744692468},{"$f":"'Wegingsfactor TD'!$D86*Volumes!O52","v":15472111.290306356},{"$f":"'Wegingsfactor TD'!$D86*Volumes!P52","v":0},{"$f":"SUM(E44:O44)","v":59140407.436128676}]
[]
[null,"Telemetriegrootverbruik (< 16 bar)"]
[null,"Vastrecht (TOVT)",null,null,{"$f":"'Wegingsfactor TD'!$D89*Volumes!E55","v":70401.48309527649},{"$f":"'Wegingsfactor TD'!$D89*Volumes!F55","v":78371.462313609693},{"$f":"'Wegingsfactor TD'!$D89*Volumes!G55","v":1290715.7698877479},{"$f":"'Wegingsfactor TD'!$D89*Volumes!H55","v":64004.904647511503},{"$f":"'Wegingsfactor TD'!$D89*Volumes!I55","v":117557.19347041452},{"$f":"'Wegingsfactor TD'!$D89*Volumes!J55","v":114223.82341882479},{"$f":"'Wegingsfactor TD'!$D89*Volumes!K55","v":1569975.4228327386},{"$f":"'Wegingsfactor TD'!$D89*Volumes!L55","v":197570.36246575459},{"$f":"'Wegingsfactor TD'!$D89*Volumes!M55","v":48311.357361796341},{"$f":"'Wegingsfactor TD'!$D89*Volumes!N55","v":732994.45024971513},{"$f":"'Wegingsfactor TD'!$D89*Volumes!O55","v":1316374.9008946982},{"$f":"'Wegingsfactor TD'!$D89*Volumes!P55","v":0},{"$f":"SUM(E47:O47)","v":5600501.1306380872}]
[null,"Capaciteitsafhankelijk tarief (TAVTc) gestandaardiseerd",null,null,{"$f":"'Wegingsfactor TD'!$D90*Volumes!E58","v":671825.51894666231},{"$f":"'Wegingsfactor TD'!$D90*Volumes!F58","v":894994.56918433832},{"$f":"'Wegingsfactor TD'!$D90*Volumes!G58","v":13086777.284010926},{"$f":"'Wegingsfactor TD'!$D90*Volumes!H58","v":543544.44653814647},{"$f":"'Wegingsfactor TD'!$D90*Volumes!I58","v":1179965.8861186248},{"$f":"'Wegingsfactor TD'!$D90*Volumes!J58","v":1161201.3823030917},{"$f":"'Wegingsfactor TD'!$D90*Volumes!K58","v":13694611.599177709},{"$f":"'Wegingsfactor TD'!$D90*Volumes!L58","v":1925579.4428629209},{"$f":"'Wegingsfactor TD'!$D90*Volumes!M58","v":588385.14873613208},{"$f":"'Wegingsfactor TD'!$D90*Volumes!N58","v":7431553.8823820874},{"$f":"'Wegingsfactor TD'!$D90*Volumes!O58","v":14064850.828849038},{"$f":"'Wegingsfactor TD'!$D90*Volumes!P58","v":0},{"$f":"SUM(E48:O48)","v":55243289.98910968}]
[]
[null,"Samengestelde Output 2008",null,null,{"$f":"SUM(E39:E48)","v":14760071.252803734},{"$f":"SUM(F39:F48)","v":18940990.096431788},196080021.07937011,6733573.9435819536,16642859.524535205,20391135.369779982,227029779.75375387,22963706.977544717,10768878.571035102,15131425.250831606,205491498.73522872,{"$f":"SUM(P39:P48)","v":0},{"$f":"SUM(E50:O50)","v":754933940.55489683}]
[]
[null,2009]
[]
[null,"Kleinverbruik"]
[null,"Vastrecht (TOVT)",null,null,{"$f":"'Wegingsfactor TD'!$D81*Volumes!E67","v":2430720.0000000005},{"$f":"'Wegingsfactor TD'!$D81*Volumes!F67","v":3314916.0000000005},{"$f":"'Wegingsfactor TD'!$D81*Volumes!G67","v":33456766.908575173},{"$f":"'Wegingsfactor TD'!$D81*Volumes!H67","v":1049893.2085411856},{"$f":"'Wegingsfactor TD'!$D81*Volumes!I67","v":2632318.5000000005},{"$f":"'Wegingsfactor TD'!$D81*Volumes!J67","v":3331839.3932805774},{"$f":"'Wegingsfactor TD'!$D81*Volumes!K67","v":38140330.500000007},{"$f":"'Wegingsfactor TD'!$D81*Volumes!L67","v":3551668.6825973252},{"$f":"'Wegingsfactor TD'!$D81*Volumes!M67","v":1799280.0000000005},{"$f":"'Wegingsfactor TD'!$D81*Volumes!N67","v":881041.86555106926},{"$f":"'Wegingsfactor TD'!$D81*Volumes!O67","v":33359572.500000004},{"$f":"'Wegingsfactor TD'!$D81*Volumes!P67","v":0},{"$f":"SUM(E55:O55)","v":123948347.55854535}]
[null,"Capaciteitsafhankelijk tarief (TAVTc)",null,null,{"$f":"'Wegingsfactor TD'!$D82*Volumes!E68","v":10712359.03528339},{"$f":"'Wegingsfactor TD'!$D82*Volumes!F68","v":13836158.140024228},{"$f":"'Wegingsfactor TD'!$D82*Volumes!G68","v":133393133.75510998},{"$f":"'Wegingsfactor TD'!$D82*Volumes!H68","v":4400747.2310269801},{"$f":"'Wegingsfactor TD'!$D82*Volumes!I68","v":11466419.822525982},{"$f":"'Wegingsfactor TD'!$D82*Volumes!J68","v":14405478.269377371},{"$f":"'Wegingsfactor TD'!$D82*Volumes!K68","v":156141485.56607965},{"$f":"'Wegingsfactor TD'!$D82*Volumes!L68","v":15768726.010661047},{"$f":"'Wegingsfactor TD'!$D82*Volumes!M68","v":7798645.2028139103},{"$f":"'Wegingsfactor TD'!$D82*Volumes!N68","v":3702802.0707269111},{"$f":"'Wegingsfactor TD'!$D82*Volumes!O68","v":142283381.20082852},{"$f":"'Wegingsfactor TD'!$D82*Volumes!P68","v":0},{"$f":"SUM(E56:O56)","v":513909336.30445802}]
[]
[null,"Profielgrootverbruik"]
[null,"Vastrecht (TOVT)",null,null,{"$f":"'Wegingsfactor TD'!$D85*Volumes!E71","v":9630.0000000000018},{"$f":"'Wegingsfactor TD'!$D85*Volumes!F71","v":10476.000000000002},{"$f":"'Wegingsfactor TD'!$D85*Volumes!G71","v":149552.76190874816},{"$f":"'Wegingsfactor TD'!$D85*Volumes!H71","v":6367.9231844815949},{"$f":"'Wegingsfactor TD'!$D85*Volumes!I71","v":10362.000000000004},{"$f":"'Wegingsfactor TD'!$D85*Volumes!J71","v":13310.903814621972},{"$f":"'Wegingsfactor TD'!$D85*Volumes!K71","v":174620.98413972673},{"$f":"'Wegingsfactor TD'!$D85*Volumes!L71","v":17731.723326117033},{"$f":"'Wegingsfactor TD'!$D85*Volumes!M71","v":6660.0000000000009},{"$f":"'Wegingsfactor TD'!$D85*Volumes!N71","v":14314.43879285499},{"$f":"'Wegingsfactor TD'!$D85*Volumes!O71","v":145405.89445969724},{"$f":"'Wegingsfactor TD'!$D85*Volumes!P71","v":0},{"$f":"SUM(E59:O59)","v":558432.6296262478}]
[null,"Capaciteitsafhankelijk tarief (TAVTc)",null,null,{"$f":"'Wegingsfactor TD'!$D86*Volumes!E72","v":845508.50676493731},{"$f":"'Wegingsfactor TD'!$D86*Volumes!F72","v":943467.90381177247},{"$f":"'Wegingsfactor TD'!$D86*Volumes!G72","v":17012736.57363236},{"$f":"'Wegingsfactor TD'!$D86*Volumes!H72","v":539280.78910945018},{"$f":"'Wegingsfactor TD'!$D86*Volumes!I72","v":1176749.0536769666},{"$f":"'Wegingsfactor TD'!$D86*Volumes!J72","v":1130069.0122712348},{"$f":"'Wegingsfactor TD'!$D86*Volumes!K72","v":16493867.497846197},{"$f":"'Wegingsfactor TD'!$D86*Volumes!L72","v":1464855.4470054985},{"$f":"'Wegingsfactor TD'!$D86*Volumes!M72","v":555140.99921801803},{"$f":"'Wegingsfactor TD'!$D86*Volumes!N72","v":2129139.0382046723},{"$f":"'Wegingsfactor TD'!$D86*Volumes!O72","v":14234078.769342335},{"$f":"'Wegingsfactor TD'!$D86*Volumes!P72","v":0},{"$f":"SUM(E60:O60)","v":56524893.590883434}]
[]
[null,"Telemetriegrootverbruik (< 16 bar)"]
[null,"Vastrecht (TOVT)",null,null,{"$f":"'Wegingsfactor TD'!$D89*Volumes!E75","v":66416.493486109903},{"$f":"'Wegingsfactor TD'!$D89*Volumes!F75","v":116228.86360069233},{"$f":"'Wegingsfactor TD'!$D89*Volumes!G75","v":1402535.2031815059},{"$f":"'Wegingsfactor TD'!$D89*Volumes!H75","v":65984.29869579467},{"$f":"'Wegingsfactor TD'!$D89*Volumes!I75","v":134714.78762099292},{"$f":"'Wegingsfactor TD'!$D89*Volumes!J75","v":134318.30879923611},{"$f":"'Wegingsfactor TD'!$D89*Volumes!K75","v":1592667.5137969155},{"$f":"'Wegingsfactor TD'!$D89*Volumes!L75","v":198920.1644941284},{"$f":"'Wegingsfactor TD'!$D89*Volumes!M75","v":60312.817734736404},{"$f":"'Wegingsfactor TD'!$D89*Volumes!N75","v":671121.44274746615},{"$f":"'Wegingsfactor TD'!$D89*Volumes!O75","v":1383200.5322800332},{"$f":"'Wegingsfactor TD'!$D89*Volumes!P75","v":0},{"$f":"SUM(E63:O63)","v":5826420.4264376117}]
[null,"Capaciteitsafhankelijk tarief (TAVTc) gestandaardiseerd",null,null,{"$f":"'Wegingsfactor TD'!$D90*Volumes!E78","v":651879.19765728642},{"$f":"'Wegingsfactor TD'!$D90*Volumes!F78","v":1027475.7377063391},{"$f":"'Wegingsfactor TD'!$D90*Volumes!G78","v":13846407.747842891},{"$f":"'Wegingsfactor TD'!$D90*Volumes!H78","v":552648.03936102137},{"$f":"'Wegingsfactor TD'!$D90*Volumes!I78","v":1224745.8995682811},{"$f":"'Wegingsfactor TD'!$D90*Volumes!J78","v":1263114.9582023651},{"$f":"'Wegingsfactor TD'!$D90*Volumes!K78","v":13357581.427988166},{"$f":"'Wegingsfactor TD'!$D90*Volumes!L78","v":2022916.2022750953},{"$f":"'Wegingsfactor TD'!$D90*Volumes!M78","v":625826.46144659654},{"$f":"'Wegingsfactor TD'!$D90*Volumes!N78","v":7076345.6919229776},{"$f":"'Wegingsfactor TD'!$D90*Volumes!O78","v":14283142.574204009},{"$f":"'Wegingsfactor TD'!$D90*Volumes!P78","v":0},{"$f":"SUM(E64:O64)","v":55932083.938175038}]
[]
[null,"Samengestelde Output 2009",null,null,{"$f":"SUM(E55:E64)","v":14716513.233191725},{"$f":"SUM(F55:F64)","v":19248722.645143036},199261132.95025063,6614921.4899189128,16645310.063392222,20278130.845745411,225900553.48985067,23024818.230359208,10845865.481213262,14474764.54794595,205688781.47111458,{"$f":"SUM(P55:P64)","v":0},756699514.44812572]
[]
[null,2010]
[]
[null,"Kleinverbruik"]
[null,"Vastrecht (TOVT)",null,null,{"$f":"'Wegingsfactor TD'!$D81*Rekenvolumes!E27","v":2430720.0000000005},{"$f":"'Wegingsfactor TD'!$D81*Rekenvolumes!F27","v":3314916.0000000005},{"$f":"'Wegingsfactor TD'!$D81*Rekenvolumes!G27","v":33456766.908575173},{"$f":"'Wegingsfactor TD'!$D81*Rekenvolumes!H27","v":1049893.2085411856},{"$f":"'Wegingsfactor TD'!$D81*Rekenvolumes!I27","v":2632318.5000000005},{"$f":"'Wegingsfactor TD'!$D81*Rekenvolumes!J27","v":3331839.3932805774},{"$f":"'Wegingsfactor TD'!$D81*Rekenvolumes!K27","v":38140330.500000007},{"$f":"'Wegingsfactor TD'!$D81*Rekenvolumes!L27","v":3551668.6825973252},{"$f":"'Wegingsfactor TD'!$D81*Rekenvolumes!M27","v":1799280.0000000005},{"$f":"'Wegingsfactor TD'!$D81*Rekenvolumes!N27","v":881041.86555106926},{"$f":"'Wegingsfactor TD'!$D81*Rekenvolumes!O27","v":33359572.500000004},{"$f":"'Wegingsfactor TD'!$D81*Rekenvolumes!P27","v":0},{"$f":"SUM(E71:O71)","v":123948347.55854535}]
[null,"Capaciteitsafhankelijk tarief (TAVTc)",null,null,{"$f":"'Wegingsfactor TD'!$D82*Rekenvolumes!E28","v":10712359.03528339},{"$f":"'Wegingsfactor TD'!$D82*Rekenvolumes!F28","v":13836158.140024228},{"$f":"'Wegingsfactor TD'!$D82*Rekenvolumes!G28","v":133393133.75510998},{"$f":"'Wegingsfactor TD'!$D82*Rekenvolumes!H28","v":4400747.2310269801},{"$f":"'Wegingsfactor TD'!$D82*Rekenvolumes!I28","v":11466419.822525982},{"$f":"'Wegingsfactor TD'!$D82*Rekenvolumes!J28","v":14405478.269377371},{"$f":"'Wegingsfactor TD'!$D82*Rekenvolumes!K28","v":156141485.56607965},{"$f":"'Wegingsfactor TD'!$D82*Rekenvolumes!L28","v":15768726.010661047},{"$f":"'Wegingsfactor TD'!$D82*Rekenvolumes!M28","v":7798645.2028139103},{"$f":"'Wegingsfactor TD'!$D82*Rekenvolumes!N28","v":3702802.0707269111},{"$f":"'Wegingsfactor TD'!$D82*Rekenvolumes!O28","v":142283381.20082852},{"$f":"'Wegingsfactor TD'!$D82*Rekenvolumes!P28","v":0},{"$f":"SUM(E72:O72)","v":513909336.30445802}]
[]
[null,"Profielgrootverbruik"]
[null,"Vastrecht (TOVT)",null,null,{"$f":"'Wegingsfactor TD'!$D85*Rekenvolumes!E31","v":9630.0000000000018},{"$f":"'Wegingsfactor TD'!$D85*Rekenvolumes!F31","v":10476.000000000002},{"$f":"'Wegingsfactor TD'!$D85*Rekenvolumes!G31","v":149552.76190874816},{"$f":"'Wegingsfactor TD'!$D85*Rekenvolumes!H31","v":6367.9231844815949},{"$f":"'Wegingsfactor TD'!$D85*Rekenvolumes!I31","v":10362.000000000004},{"$f":"'Wegingsfactor TD'!$D85*Rekenvolumes!J31","v":13310.903814621972},{"$f":"'Wegingsfactor TD'!$D85*Rekenvolumes!K31","v":174620.98413972673},{"$f":"'Wegingsfactor TD'!$D85*Rekenvolumes!L31","v":17731.723326117033},{"$f":"'Wegingsfactor TD'!$D85*Rekenvolumes!M31","v":6660.0000000000009},{"$f":"'Wegingsfactor TD'!$D85*Rekenvolumes!N31","v":14314.43879285499},{"$f":"'Wegingsfactor TD'!$D85*Rekenvolumes!O31","v":145405.89445969724},{"$f":"'Wegingsfactor TD'!$D85*Rekenvolumes!P31","v":0},{"$f":"SUM(E75:O75)","v":558432.6296262478}]
[null,"Capaciteitsafhankelijk tarief (TAVTc)",null,null,{"$f":"'Wegingsfactor TD'!$D86*Rekenvolumes!E32","v":845508.50676493731},{"$f":"'Wegingsfactor TD'!$D86*Rekenvolumes!F32","v":943467.90381177247},{"$f":"'Wegingsfactor TD'!$D86*Rekenvolumes!G32","v":17012736.57363236},{"$f":"'Wegingsfactor TD'!$D86*Rekenvolumes!H32","v":539280.78910945018},{"$f":"'Wegingsfactor TD'!$D86*Rekenvolumes!I32","v":1176749.0536769666},{"$f":"'Wegingsfactor TD'!$D86*Rekenvolumes!J32","v":1130069.0122712348},{"$f":"'Wegingsfactor TD'!$D86*Rekenvolumes!K32","v":16493867.497846197},{"$f":"'Wegingsfactor TD'!$D86*Rekenvolumes!L32","v":1464855.4470054985},{"$f":"'Wegingsfactor TD'!$D86*Rekenvolumes!M32","v":555140.99921801803},{"$f":"'Wegingsfactor TD'!$D86*Rekenvolumes!N32","v":2129139.0382046723},{"$f":"'Wegingsfactor TD'!$D86*Rekenvolumes!O32","v":14234078.769342335},{"$f":"'Wegingsfactor TD'!$D86*Rekenvolumes!P32","v":0},{"$f":"SUM(E76:O76)","v":56524893.590883434}]
[]
[null,"Telemetriegrootverbruik (< 16 bar)"]
[null,"Vastrecht (TOVT)",null,null,{"$f":"'Wegingsfactor TD'!$D89*Rekenvolumes!E35","v":66416.493486109903},{"$f":"'Wegingsfactor TD'!$D89*Rekenvolumes!F35","v":116228.86360069233},{"$f":"'Wegingsfactor TD'!$D89*Rekenvolumes!G35","v":1402535.2031815059},{"$f":"'Wegingsfactor TD'!$D89*Rekenvolumes!H35","v":65984.29869579467},{"$f":"'Wegingsfactor TD'!$D89*Rekenvolumes!I35","v":134714.78762099292},{"$f":"'Wegingsfactor TD'!$D89*Rekenvolumes!J35","v":134318.30879923611},{"$f":"'Wegingsfactor TD'!$D89*Rekenvolumes!K35","v":1592667.5137969155},{"$f":"'Wegingsfactor TD'!$D89*Rekenvolumes!L35","v":198920.1644941284},{"$f":"'Wegingsfactor TD'!$D89*Rekenvolumes!M35","v":60312.817734736404},{"$f":"'Wegingsfactor TD'!$D89*Rekenvolumes!N35","v":671121.44274746615},{"$f":"'Wegingsfactor TD'!$D89*Rekenvolumes!O35","v":1383200.5322800332},{"$f":"'Wegingsfactor TD'!$D89*Rekenvolumes!P35","v":0},{"$f":"SUM(E79:O79)","v":5826420.4264376117}]
[null,"Capaciteitsafhankelijk tarief (TAVTc) gestandaardiseerd",null,null,{"$f":"'Wegingsfactor TD'!$D90*Rekenvolumes!E38","v":651879.19765728642},{"$f":"'Wegingsfactor TD'!$D90*Rekenvolumes!F38","v":1027475.7377063391},{"$f":"'Wegingsfactor TD'!$D90*Rekenvolumes!G38","v":13846407.747842891},{"$f":"'Wegingsfactor TD'!$D90*Rekenvolumes!H38","v":552648.03936102137},{"$f":"'Wegingsfactor TD'!$D90*Rekenvolumes!I38","v":1224745.8995682811},{"$f":"'Wegingsfactor TD'!$D90*Rekenvolumes!J38","v":1263114.9582023651},{"$f":"'Wegingsfactor TD'!$D90*Rekenvolumes!K38","v":13357581.427988166},{"$f":"'Wegingsfactor TD'!$D90*Rekenvolumes!L38","v":2022916.2022750953},{"$f":"'Wegingsfactor TD'!$D90*Rekenvolumes!M38","v":625826.46144659654},{"$f":"'Wegingsfactor TD'!$D90*Rekenvolumes!N38","v":7076345.6919229776},{"$f":"'Wegingsfactor TD'!$D90*Rekenvolumes!O38","v":14283142.574204009},{"$f":"'Wegingsfactor TD'!$D90*Rekenvolumes!P38","v":0},{"$f":"SUM(E80:O80)","v":55932083.938175038}]
[]
[null,"Extra hoge druk (>= 16 bar)"]
[null,"Vastrecht (TOVT)",null,null,{"$f":"'Wegingsfactor TD'!$D89*Rekenvolumes!E41","v":0},{"$f":"'Wegingsfactor TD'!$D89*Rekenvolumes!F41","v":8634.1441531942874},{"$f":"'Wegingsfactor TD'!$D89*Rekenvolumes!G41","v":0},{"$f":"'Wegingsfactor TD'!$D89*Rekenvolumes!H41","v":0},{"$f":"'Wegingsfactor TD'!$D89*Rekenvolumes!I41","v":0},{"$f":"'Wegingsfactor TD'!$D89*Rekenvolumes!J41","v":0},{"$f":"'Wegingsfactor TD'!$D89*Rekenvolumes!K41","v":0},{"$f":"'Wegingsfactor TD'!$D89*Rekenvolumes!L41","v":0},{"$f":"'Wegingsfactor TD'!$D89*Rekenvolumes!M41","v":0},{"$f":"'Wegingsfactor TD'!$D89*Rekenvolumes!N41","v":0},{"$f":"'Wegingsfactor TD'!D93*Rekenvolumes!O41","v":439.81111504223247},{"$f":"'Wegingsfactor TD'!D97*Rekenvolumes!$P$41","v":882.27190997652167},{"$f":"SUM(E83:P83)","v":9956.227178213041}]
[null,"Capaciteitsafhankelijk tarief (TAVTc)",null,null,{"$f":"'Wegingsfactor TD'!$D90*Rekenvolumes!E42","v":0},{"$f":"'Wegingsfactor TD'!$D90*Rekenvolumes!F42","v":1483462.168824015},{"$f":"'Wegingsfactor TD'!$D90*Rekenvolumes!G42","v":0},{"$f":"'Wegingsfactor TD'!$D90*Rekenvolumes!H42","v":0},{"$f":"'Wegingsfactor TD'!$D90*Rekenvolumes!I42","v":0},{"$f":"'Wegingsfactor TD'!$D90*Rekenvolumes!J42","v":0},{"$f":"'Wegingsfactor TD'!$D90*Rekenvolumes!K42","v":0},{"$f":"'Wegingsfactor TD'!$D90*Rekenvolumes!L42","v":0},{"$f":"'Wegingsfactor TD'!$D90*Rekenvolumes!M42","v":0},{"$f":"'Wegingsfactor TD'!$D90*Rekenvolumes!N42","v":0},{"$f":"'Wegingsfactor TD'!D94*Rekenvolumes!O42","v":309496.71058527468},{"$f":"'Wegingsfactor TD'!D98*Rekenvolumes!P42","v":4365723.7176485714},{"$f":"SUM(E84:P84)","v":6158682.5970578613}]
[]
[null,"Subtotaal SO 2010 Transportdienst",null,null,{"$f":"SUM(E71:E84)","v":14716513.233191725},{"$f":"SUM(F71:F84)","v":20740818.958120242},199261132.95025063,6614921.4899189128,16645310.063392222,20278130.845745411,225900553.48985067,23024818.230359208,{"$f":"SUM(M71:M84)","v":10845865.481213262},{"$f":"SUM(N71:N84)","v":14474764.54794595},{"$f":"SUM(O71:O84)","v":205998717.9928149},{"$f":"SUM(P71:P84)","v":4366605.9895585477},{"$f":"SUM(Q71:Q84)","v":762868153.27236176}]
[]
[null,"EAV"]
[null,"LD 0-10 m3/h",null,null,{"$f":"'Wegingsfactor AD'!$D98*Rekenvolumes!E45","v":906872.30188166082},{"$f":"'Wegingsfactor AD'!$D98*Rekenvolumes!F45","v":827338.61271819391},{"$f":"'Wegingsfactor AD'!$D98*Rekenvolumes!G45","v":11563990.648924842},{"$f":"'Wegingsfactor AD'!$D98*Rekenvolumes!H45","v":152008.17514674438},{"$f":"'Wegingsfactor AD'!$D98*Rekenvolumes!I45","v":665918.16666453041},{"$f":"'Wegingsfactor AD'!$D98*Rekenvolumes!J45","v":1077705.0188422434},{"$f":"'Wegingsfactor AD'!$D98*Rekenvolumes!K45","v":10101719.750850985},{"$f":"'Wegingsfactor AD'!$D98*Rekenvolumes!L45","v":824514.93144611816},{"$f":"'Wegingsfactor AD'!$D98*Rekenvolumes!M45","v":531322.69269558636},{"$f":"'Wegingsfactor AD'!$D98*Rekenvolumes!N45","v":408492.55736029142},{"$f":"'Wegingsfactor AD'!$D98*Rekenvolumes!O45","v":8799356.2569091674},{"$f":"'Wegingsfactor AD'!$D98*Rekenvolumes!P45","v":0},{"$f":"SUM(E89:P89)","v":35859239.113440357}]
[null,"LD 10-16 m3/h",null,null,{"$f":"'Wegingsfactor AD'!$D99*Rekenvolumes!E46","v":0},{"$f":"'Wegingsfactor AD'!$D99*Rekenvolumes!F46","v":0},{"$f":"'Wegingsfactor AD'!$D99*Rekenvolumes!G46","v":249865.37169075507},{"$f":"'Wegingsfactor AD'!$D99*Rekenvolumes!H46","v":15317.891178504158},{"$f":"'Wegingsfactor AD'!$D99*Rekenvolumes!I46","v":0},{"$f":"'Wegingsfactor AD'!$D99*Rekenvolumes!J46","v":0},{"$f":"'Wegingsfactor AD'!$D99*Rekenvolumes!K46","v":301251.85984391515},{"$f":"'Wegingsfactor AD'!$D99*Rekenvolumes!L46","v":86801.383344856906},{"$f":"'Wegingsfactor AD'!$D99*Rekenvolumes!M46","v":12254.312942803328},{"$f":"'Wegingsfactor AD'!$D99*Rekenvolumes!N46","v":7148.3492166352744},{"$f":"'Wegingsfactor AD'!$D99*Rekenvolumes!O46","v":207759.95084791034},{"$f":"'Wegingsfactor AD'!$D99*Rekenvolumes!P46","v":0},{"$f":"SUM(E90:P90)","v":880399.11906538031}]
[null,"LD 16-25 m3/h",null,null,{"$f":"'Wegingsfactor AD'!$D100*Rekenvolumes!E47","v":23076.101891388913},{"$f":"'Wegingsfactor AD'!$D100*Rekenvolumes!F47","v":41152.314107215003},{"$f":"'Wegingsfactor AD'!$D100*Rekenvolumes!G47","v":229079.35427445761},{"$f":"'Wegingsfactor AD'!$D100*Rekenvolumes!H47","v":12044.579738697073},{"$f":"'Wegingsfactor AD'!$D100*Rekenvolumes!I47","v":22081.729520944635},{"$f":"'Wegingsfactor AD'!$D100*Rekenvolumes!J47","v":35130.024237866462},{"$f":"'Wegingsfactor AD'!$D100*Rekenvolumes!K47","v":153568.39166838769},{"$f":"'Wegingsfactor AD'!$D100*Rekenvolumes!L47","v":23085.444499169389},{"$f":"'Wegingsfactor AD'!$D100*Rekenvolumes!M47","v":12044.579738697073},{"$f":"'Wegingsfactor AD'!$D100*Rekenvolumes!N47","v":2007.4299564495122},{"$f":"'Wegingsfactor AD'!$D100*Rekenvolumes!O47","v":232416.49769029251},{"$f":"'Wegingsfactor AD'!$D100*Rekenvolumes!P47","v":0},785686.44732356595]
[null,"LD 25-40 m3/h ",null,null,{"$f":"'Wegingsfactor AD'!$D101*Rekenvolumes!E48","v":12075.786484579645},{"$f":"'Wegingsfactor AD'!$D101*Rekenvolumes!F48","v":16101.048646106194},{"$f":"'Wegingsfactor AD'!$D101*Rekenvolumes!G48","v":195557.768757282},{"$f":"'Wegingsfactor AD'!$D101*Rekenvolumes!H48","v":20126.310807632741},{"$f":"'Wegingsfactor AD'!$D101*Rekenvolumes!I48","v":16101.048646106194},{"$f":"'Wegingsfactor AD'!$D101*Rekenvolumes!J48","v":18113.679726869468},{"$f":"'Wegingsfactor AD'!$D101*Rekenvolumes!K48","v":374349.38102196902},{"$f":"'Wegingsfactor AD'!$D101*Rekenvolumes!L48","v":54341.039180608401},{"$f":"'Wegingsfactor AD'!$D101*Rekenvolumes!M48","v":6037.8932422898224},{"$f":"'Wegingsfactor AD'!$D101*Rekenvolumes!N48","v":12075.786484579645},{"$f":"'Wegingsfactor AD'!$D101*Rekenvolumes!O48","v":298975.63370950596},{"$f":"'Wegingsfactor AD'!$D101*Rekenvolumes!P48","v":0},1023855.376707529]
[null,"LD 40-65 m3/h ",null,null,{"$f":"'Wegingsfactor AD'!$D102*Rekenvolumes!E49","v":8643.3817315794677},{"$f":"'Wegingsfactor AD'!$D102*Rekenvolumes!F49","v":1233.6770062517087},{"$f":"'Wegingsfactor AD'!$D102*Rekenvolumes!G49","v":57469.306143519891},{"$f":"'Wegingsfactor AD'!$D102*Rekenvolumes!H49","v":7402.0620375102517},{"$f":"'Wegingsfactor AD'!$D102*Rekenvolumes!I49","v":2467.3540125034174},{"$f":"'Wegingsfactor AD'!$D102*Rekenvolumes!J49","v":3701.0310187551258},{"$f":"'Wegingsfactor AD'!$D102*Rekenvolumes!K49","v":0},{"$f":"'Wegingsfactor AD'!$D102*Rekenvolumes!L49","v":17271.478087523923},{"$f":"'Wegingsfactor AD'!$D102*Rekenvolumes!M49","v":1233.6770062517087},{"$f":"'Wegingsfactor AD'!$D102*Rekenvolumes!N49","v":2467.3540125034174},{"$f":"'Wegingsfactor AD'!$D102*Rekenvolumes!O49","v":80004.457782717145},{"$f":"'Wegingsfactor AD'!$D102*Rekenvolumes!P49","v":0},181893.77883911604]
[null,"LD 65-100 m3/h ",null,null,{"$f":"'Wegingsfactor AD'!$D103*Rekenvolumes!E50","v":4055.8960144510793},{"$f":"'Wegingsfactor AD'!$D103*Rekenvolumes!F50","v":1351.9653381503597},{"$f":"'Wegingsfactor AD'!$D103*Rekenvolumes!G50","v":38925.414346157952},{"$f":"'Wegingsfactor AD'!$D103*Rekenvolumes!H50","v":4055.8960144510793},{"$f":"'Wegingsfactor AD'!$D103*Rekenvolumes!I50","v":6759.8266907517982},{"$f":"'Wegingsfactor AD'!$D103*Rekenvolumes!J50","v":9463.757367052518},{"$f":"'Wegingsfactor AD'!$D103*Rekenvolumes!K50","v":136548.49915318633},{"$f":"'Wegingsfactor AD'!$D103*Rekenvolumes!L50","v":5407.8613526014387},{"$f":"'Wegingsfactor AD'!$D103*Rekenvolumes!M50","v":1351.9653381503597},{"$f":"'Wegingsfactor AD'!$D103*Rekenvolumes!N50","v":0},{"$f":"'Wegingsfactor AD'!$D103*Rekenvolumes!O50","v":60450.002414387163},{"$f":"'Wegingsfactor AD'!$D103*Rekenvolumes!P50","v":0},268371.08402934007]
[null,"LD 100-160 m3/h",null,null,{"$f":"'Wegingsfactor AD'!$D104*Rekenvolumes!E51","v":0},{"$f":"'Wegingsfactor AD'!$D104*Rekenvolumes!F51","v":2145.076138987491},{"$f":"'Wegingsfactor AD'!$D104*Rekenvolumes!G51","v":54235.377252698672},{"$f":"'Wegingsfactor AD'!$D104*Rekenvolumes!H51","v":0},{"$f":"'Wegingsfactor AD'!$D104*Rekenvolumes!I51","v":6435.2284169624727},{"$f":"'Wegingsfactor AD'!$D104*Rekenvolumes!J51","v":4290.1522779749821},{"$f":"'Wegingsfactor AD'!$D104*Rekenvolumes!K51","v":49336.751196712292},{"$f":"'Wegingsfactor AD'!$D104*Rekenvolumes!L51","v":4290.1522779749821},{"$f":"'Wegingsfactor AD'!$D104*Rekenvolumes!M51","v":0},{"$f":"'Wegingsfactor AD'!$D104*Rekenvolumes!N51","v":6435.2284169624727},{"$f":"'Wegingsfactor AD'!$D104*Rekenvolumes!O51","v":46221.932401636652},{"$f":"'Wegingsfactor AD'!$D104*Rekenvolumes!P51","v":0},173389.89837991001]
[null,"LD 160-250 m3/h ",null,null,{"$f":"'Wegingsfactor AD'!$D105*Rekenvolumes!E52","v":0},{"$f":"'Wegingsfactor AD'!$D105*Rekenvolumes!F52","v":0},{"$f":"'Wegingsfactor AD'!$D105*Rekenvolumes!G52","v":0},{"$f":"'Wegingsfactor AD'!$D105*Rekenvolumes!H52","v":10849.952620794043},{"$f":"'Wegingsfactor AD'!$D105*Rekenvolumes!I52","v":0},{"$f":"'Wegingsfactor AD'!$D105*Rekenvolumes!J52","v":0},{"$f":"'Wegingsfactor AD'!$D105*Rekenvolumes!K52","v":28933.206988784113},{"$f":"'Wegingsfactor AD'!$D105*Rekenvolumes!L52","v":0},{"$f":"'Wegingsfactor AD'!$D105*Rekenvolumes!M52","v":0},{"$f":"'Wegingsfactor AD'!$D105*Rekenvolumes!N52","v":0},{"$f":"'Wegingsfactor AD'!$D105*Rekenvolumes!O52","v":38889.783393784121},{"$f":"'Wegingsfactor AD'!$D105*Rekenvolumes!P52","v":0},78672.943003362278]
[null,"LD 250-400 m3/h ",null,null,{"$f":"'Wegingsfactor AD'!$D106*Rekenvolumes!E53","v":0},{"$f":"'Wegingsfactor AD'!$D106*Rekenvolumes!F53","v":0},{"$f":"'Wegingsfactor AD'!$D106*Rekenvolumes!G53","v":0},{"$f":"'Wegingsfactor AD'!$D106*Rekenvolumes!H53","v":0},{"$f":"'Wegingsfactor AD'!$D106*Rekenvolumes!I53","v":0},{"$f":"'Wegingsfactor AD'!$D106*Rekenvolumes!J53","v":9625.5828658628252},{"$f":"'Wegingsfactor AD'!$D106*Rekenvolumes!K53","v":52940.70576224554},{"$f":"'Wegingsfactor AD'!$D106*Rekenvolumes!L53","v":9625.5828658628252},{"$f":"'Wegingsfactor AD'!$D106*Rekenvolumes!M53","v":0},{"$f":"'Wegingsfactor AD'!$D106*Rekenvolumes!N53","v":4812.7914329314126},{"$f":"'Wegingsfactor AD'!$D106*Rekenvolumes!O53","v":38502.331463451301},{"$f":"'Wegingsfactor AD'!$D106*Rekenvolumes!P53","v":0},115506.99439035391]
[null,"LD 400-650 m3/h ",null,null,{"$f":"'Wegingsfactor AD'!$D107*Rekenvolumes!E54","v":0},{"$f":"'Wegingsfactor AD'!$D107*Rekenvolumes!F54","v":0},{"$f":"'Wegingsfactor AD'!$D107*Rekenvolumes!G54","v":0},{"$f":"'Wegingsfactor AD'!$D107*Rekenvolumes!H54","v":0},{"$f":"'Wegingsfactor AD'!$D107*Rekenvolumes!I54","v":0},{"$f":"'Wegingsfactor AD'!$D107*Rekenvolumes!J54","v":0},{"$f":"'Wegingsfactor AD'!$D107*Rekenvolumes!K54","v":35979.539015210757},{"$f":"'Wegingsfactor AD'!$D107*Rekenvolumes!L54","v":0},{"$f":"'Wegingsfactor AD'!$D107*Rekenvolumes!M54","v":0},{"$f":"'Wegingsfactor AD'!$D107*Rekenvolumes!N54","v":0},{"$f":"'Wegingsfactor AD'!$D107*Rekenvolumes!O54","v":0},{"$f":"'Wegingsfactor AD'!$D107*Rekenvolumes!P54","v":0},35979.539015210757]
[null,"LD 650-1000 m3/h ",null,null,{"$f":"'Wegingsfactor AD'!$D108*Rekenvolumes!E55","v":0},{"$f":"'Wegingsfactor AD'!$D108*Rekenvolumes!F55","v":0},{"$f":"'Wegingsfactor AD'!$D108*Rekenvolumes!G55","v":0},{"$f":"'Wegingsfactor AD'!$D108*Rekenvolumes!H55","v":0},{"$f":"'Wegingsfactor AD'!$D108*Rekenvolumes!I55","v":0},{"$f":"'Wegingsfactor AD'!$D108*Rekenvolumes!J55","v":0},{"$f":"'Wegingsfactor AD'!$D108*Rekenvolumes!K55","v":0},{"$f":"'Wegingsfactor AD'!$D108*Rekenvolumes!L55","v":0},{"$f":"'Wegingsfactor AD'!$D108*Rekenvolumes!M55","v":0},{"$f":"'Wegingsfactor AD'!$D108*Rekenvolumes!N55","v":0},{"$f":"'Wegingsfactor AD'!$D108*Rekenvolumes!O55","v":0},{"$f":"'Wegingsfactor AD'!$D108*Rekenvolumes!P55","v":0},0]
[null,"LD 1000-1600 m3/h ",null,null,{"$f":"'Wegingsfactor AD'!$D109*Rekenvolumes!E56","v":0},{"$f":"'Wegingsfactor AD'!$D109*Rekenvolumes!F56","v":0},{"$f":"'Wegingsfactor AD'!$D109*Rekenvolumes!G56","v":0},{"$f":"'Wegingsfactor AD'!$D109*Rekenvolumes!H56","v":0},{"$f":"'Wegingsfactor AD'!$D109*Rekenvolumes!I56","v":0},{"$f":"'Wegingsfactor AD'!$D109*Rekenvolumes!J56","v":0},{"$f":"'Wegingsfactor AD'!$D109*Rekenvolumes!K56","v":0},{"$f":"'Wegingsfactor AD'!$D109*Rekenvolumes!L56","v":0},{"$f":"'Wegingsfactor AD'!$D109*Rekenvolumes!M56","v":0},{"$f":"'Wegingsfactor AD'!$D109*Rekenvolumes!N56","v":0},{"$f":"'Wegingsfactor AD'!$D109*Rekenvolumes!O56","v":0},{"$f":"'Wegingsfactor AD'!$D109*Rekenvolumes!P56","v":0},0]
[null,"LD 1600-2500 m3/h ",null,null,{"$f":"'Wegingsfactor AD'!$D110*Rekenvolumes!E57","v":0},{"$f":"'Wegingsfactor AD'!$D110*Rekenvolumes!F57","v":0},{"$f":"'Wegingsfactor AD'!$D110*Rekenvolumes!G57","v":0},{"$f":"'Wegingsfactor AD'!$D110*Rekenvolumes!H57","v":0},{"$f":"'Wegingsfactor AD'!$D110*Rekenvolumes!I57","v":0},{"$f":"'Wegingsfactor AD'!$D110*Rekenvolumes!J57","v":0},{"$f":"'Wegingsfactor AD'!$D110*Rekenvolumes!K57","v":0},{"$f":"'Wegingsfactor AD'!$D110*Rekenvolumes!L57","v":0},{"$f":"'Wegingsfactor AD'!$D110*Rekenvolumes!M57","v":0},{"$f":"'Wegingsfactor AD'!$D110*Rekenvolumes!N57","v":0},{"$f":"'Wegingsfactor AD'!$D110*Rekenvolumes!O57","v":0},{"$f":"'Wegingsfactor AD'!$D110*Rekenvolumes!P57","v":0},0]
[null,"LD >2500 m3/h",null,null,{"$f":"'Wegingsfactor AD'!$D111*Rekenvolumes!E58","v":0},{"$f":"'Wegingsfactor AD'!$D111*Rekenvolumes!F58","v":0},{"$f":"'Wegingsfactor AD'!$D111*Rekenvolumes!G58","v":0},{"$f":"'Wegingsfactor AD'!$D111*Rekenvolumes!H58","v":0},{"$f":"'Wegingsfactor AD'!$D111*Rekenvolumes!I58","v":0},{"$f":"'Wegingsfactor AD'!$D111*Rekenvolumes!J58","v":0},{"$f":"'Wegingsfactor AD'!$D111*Rekenvolumes!K58","v":0},{"$f":"'Wegingsfactor AD'!$D111*Rekenvolumes!L58","v":0},{"$f":"'Wegingsfactor AD'!$D111*Rekenvolumes!M58","v":0},{"$f":"'Wegingsfactor AD'!$D111*Rekenvolumes!N58","v":0},{"$f":"'Wegingsfactor AD'!$D111*Rekenvolumes!O58","v":0},{"$f":"'Wegingsfactor AD'!$D111*Rekenvolumes!P58","v":0},0]
[]
[null,"HD 0-10 m3/h",null,null,{"$f":"'Wegingsfactor AD'!$D113*Rekenvolumes!E60","v":0},{"$f":"'Wegingsfactor AD'!$D113*Rekenvolumes!F60","v":0},{"$f":"'Wegingsfactor AD'!$D113*Rekenvolumes!G60","v":0},{"$f":"'Wegingsfactor AD'!$D113*Rekenvolumes!H60","v":0},{"$f":"'Wegingsfactor AD'!$D113*Rekenvolumes!I60","v":0},{"$f":"'Wegingsfactor AD'!$D113*Rekenvolumes!J60","v":0},{"$f":"'Wegingsfactor AD'!$D113*Rekenvolumes!K60","v":0},{"$f":"'Wegingsfactor AD'!$D113*Rekenvolumes!L60","v":0},{"$f":"'Wegingsfactor AD'!$D113*Rekenvolumes!M60","v":0},{"$f":"'Wegingsfactor AD'!$D113*Rekenvolumes!N60","v":0},{"$f":"'Wegingsfactor AD'!$D113*Rekenvolumes!O60","v":0},{"$f":"'Wegingsfactor AD'!$D113*Rekenvolumes!P60","v":0},{"$f":"SUM(E104:P104)","v":0}]
[null,"HD 10-16 m3/h",null,null,{"$f":"'Wegingsfactor AD'!$D114*Rekenvolumes!E61","v":0},{"$f":"'Wegingsfactor AD'!$D114*Rekenvolumes!F61","v":0},{"$f":"'Wegingsfactor AD'!$D114*Rekenvolumes!G61","v":0},{"$f":"'Wegingsfactor AD'!$D114*Rekenvolumes!H61","v":0},{"$f":"'Wegingsfactor AD'!$D114*Rekenvolumes!I61","v":0},{"$f":"'Wegingsfactor AD'!$D114*Rekenvolumes!J61","v":0},{"$f":"'Wegingsfactor AD'!$D114*Rekenvolumes!K61","v":0},{"$f":"'Wegingsfactor AD'!$D114*Rekenvolumes!L61","v":0},{"$f":"'Wegingsfactor AD'!$D114*Rekenvolumes!M61","v":0},{"$f":"'Wegingsfactor AD'!$D114*Rekenvolumes!N61","v":0},{"$f":"'Wegingsfactor AD'!$D114*Rekenvolumes!O61","v":0},{"$f":"'Wegingsfactor AD'!$D114*Rekenvolumes!P61","v":0},{"$f":"SUM(E105:P105)","v":0}]
[null,"HD 16-25 m3/h",null,null,{"$f":"'Wegingsfactor AD'!$D115*Rekenvolumes!E62","v":0},{"$f":"'Wegingsfactor AD'!$D115*Rekenvolumes!F62","v":0},{"$f":"'Wegingsfactor AD'!$D115*Rekenvolumes!G62","v":0},{"$f":"'Wegingsfactor AD'!$D115*Rekenvolumes!H62","v":0},{"$f":"'Wegingsfactor AD'!$D115*Rekenvolumes!I62","v":0},{"$f":"'Wegingsfactor AD'!$D115*Rekenvolumes!J62","v":0},{"$f":"'Wegingsfactor AD'!$D115*Rekenvolumes!K62","v":0},{"$f":"'Wegingsfactor AD'!$D115*Rekenvolumes!L62","v":0},{"$f":"'Wegingsfactor AD'!$D115*Rekenvolumes!M62","v":0},{"$f":"'Wegingsfactor AD'!$D115*Rekenvolumes!N62","v":0},{"$f":"'Wegingsfactor AD'!$D115*Rekenvolumes!O62","v":0},{"$f":"'Wegingsfactor AD'!$D115*Rekenvolumes!P62","v":0},0]
[null,"HD 25-40 m3/h",null,null,{"$f":"'Wegingsfactor AD'!$D116*Rekenvolumes!E63","v":0},{"$f":"'Wegingsfactor AD'!$D116*Rekenvolumes!F63","v":0},{"$f":"'Wegingsfactor AD'!$D116*Rekenvolumes!G63","v":0},{"$f":"'Wegingsfactor AD'!$D116*Rekenvolumes!H63","v":0},{"$f":"'Wegingsfactor AD'!$D116*Rekenvolumes!I63","v":0},{"$f":"'Wegingsfactor AD'!$D116*Rekenvolumes!J63","v":0},{"$f":"'Wegingsfactor AD'!$D116*Rekenvolumes!K63","v":0},{"$f":"'Wegingsfactor AD'!$D116*Rekenvolumes!L63","v":0},{"$f":"'Wegingsfactor AD'!$D116*Rekenvolumes!M63","v":0},{"$f":"'Wegingsfactor AD'!$D116*Rekenvolumes!N63","v":0},{"$f":"'Wegingsfactor AD'!$D116*Rekenvolumes!O63","v":0},{"$f":"'Wegingsfactor AD'!$D116*Rekenvolumes!P63","v":0},0]
[null,"HD 40-65 m3/h",null,null,{"$f":"'Wegingsfactor AD'!$D117*Rekenvolumes!E64","v":0},{"$f":"'Wegingsfactor AD'!$D117*Rekenvolumes!F64","v":0},{"$f":"'Wegingsfactor AD'!$D117*Rekenvolumes!G64","v":18906.940525840557},{"$f":"'Wegingsfactor AD'!$D117*Rekenvolumes!H64","v":0},{"$f":"'Wegingsfactor AD'!$D117*Rekenvolumes!I64","v":0},{"$f":"'Wegingsfactor AD'!$D117*Rekenvolumes!J64","v":0},{"$f":"'Wegingsfactor AD'!$D117*Rekenvolumes!K64","v":0},{"$f":"'Wegingsfactor AD'!$D117*Rekenvolumes!L64","v":0},{"$f":"'Wegingsfactor AD'!$D117*Rekenvolumes!M64","v":0},{"$f":"'Wegingsfactor AD'!$D117*Rekenvolumes!N64","v":0},{"$f":"'Wegingsfactor AD'!$D117*Rekenvolumes!O64","v":41914.221023111233},{"$f":"'Wegingsfactor AD'!$D117*Rekenvolumes!P64","v":0},60821.161548951786]
[null,"HD 65-100 m3/h",null,null,{"$f":"'Wegingsfactor AD'!$D118*Rekenvolumes!E65","v":0},{"$f":"'Wegingsfactor AD'!$D118*Rekenvolumes!F65","v":0},{"$f":"'Wegingsfactor AD'!$D118*Rekenvolumes!G65","v":14344.520488697495},{"$f":"'Wegingsfactor AD'!$D118*Rekenvolumes!H65","v":0},{"$f":"'Wegingsfactor AD'!$D118*Rekenvolumes!I65","v":0},{"$f":"'Wegingsfactor AD'!$D118*Rekenvolumes!J65","v":0},{"$f":"'Wegingsfactor AD'!$D118*Rekenvolumes!K65","v":3352.9664618671818},{"$f":"'Wegingsfactor AD'!$D118*Rekenvolumes!L65","v":0},{"$f":"'Wegingsfactor AD'!$D118*Rekenvolumes!M65","v":0},{"$f":"'Wegingsfactor AD'!$D118*Rekenvolumes!N65","v":0},{"$f":"'Wegingsfactor AD'!$D118*Rekenvolumes!O65","v":63706.362775476453},{"$f":"'Wegingsfactor AD'!$D118*Rekenvolumes!P65","v":0},81403.849726041139]
[null,"HD 100-160 m3/h",null,null,{"$f":"'Wegingsfactor AD'!$D119*Rekenvolumes!E66","v":0},{"$f":"'Wegingsfactor AD'!$D119*Rekenvolumes!F66","v":0},{"$f":"'Wegingsfactor AD'!$D119*Rekenvolumes!G66","v":13465.272017403624},{"$f":"'Wegingsfactor AD'!$D119*Rekenvolumes!H66","v":0},{"$f":"'Wegingsfactor AD'!$D119*Rekenvolumes!I66","v":0},{"$f":"'Wegingsfactor AD'!$D119*Rekenvolumes!J66","v":0},{"$f":"'Wegingsfactor AD'!$D119*Rekenvolumes!K66","v":0},{"$f":"'Wegingsfactor AD'!$D119*Rekenvolumes!L66","v":0},{"$f":"'Wegingsfactor AD'!$D119*Rekenvolumes!M66","v":0},{"$f":"'Wegingsfactor AD'!$D119*Rekenvolumes!N66","v":0},{"$f":"'Wegingsfactor AD'!$D119*Rekenvolumes!O66","v":131001.81182596616},{"$f":"'Wegingsfactor AD'!$D119*Rekenvolumes!P66","v":0},144467.08384336979]
[null,"HD 160-250 m3/h",null,null,{"$f":"'Wegingsfactor AD'!$D120*Rekenvolumes!E67","v":0},{"$f":"'Wegingsfactor AD'!$D120*Rekenvolumes!F67","v":8437.4317173505806},{"$f":"'Wegingsfactor AD'!$D120*Rekenvolumes!G67","v":33749.726869402322},{"$f":"'Wegingsfactor AD'!$D120*Rekenvolumes!H67","v":0},{"$f":"'Wegingsfactor AD'!$D120*Rekenvolumes!I67","v":0},{"$f":"'Wegingsfactor AD'!$D120*Rekenvolumes!J67","v":0},{"$f":"'Wegingsfactor AD'!$D120*Rekenvolumes!K67","v":8437.4317173505806},{"$f":"'Wegingsfactor AD'!$D120*Rekenvolumes!L67","v":25312.295152051742},{"$f":"'Wegingsfactor AD'!$D120*Rekenvolumes!M67","v":0},{"$f":"'Wegingsfactor AD'!$D120*Rekenvolumes!N67","v":0},{"$f":"'Wegingsfactor AD'!$D120*Rekenvolumes!O67","v":160311.20262966104},{"$f":"'Wegingsfactor AD'!$D120*Rekenvolumes!P67","v":0},236248.08808581627]
[null,"HD 250-400 m3/h ",null,null,{"$f":"'Wegingsfactor AD'!$D121*Rekenvolumes!E68","v":0},{"$f":"'Wegingsfactor AD'!$D121*Rekenvolumes!F68","v":7793.8290912390321},{"$f":"'Wegingsfactor AD'!$D121*Rekenvolumes!G68","v":38969.145456195161},{"$f":"'Wegingsfactor AD'!$D121*Rekenvolumes!H68","v":0},{"$f":"'Wegingsfactor AD'!$D121*Rekenvolumes!I68","v":0},{"$f":"'Wegingsfactor AD'!$D121*Rekenvolumes!J68","v":0},{"$f":"'Wegingsfactor AD'!$D121*Rekenvolumes!K68","v":7793.8290912390321},{"$f":"'Wegingsfactor AD'!$D121*Rekenvolumes!L68","v":0},{"$f":"'Wegingsfactor AD'!$D121*Rekenvolumes!M68","v":0},{"$f":"'Wegingsfactor AD'!$D121*Rekenvolumes!N68","v":0},{"$f":"'Wegingsfactor AD'!$D121*Rekenvolumes!O68","v":62350.632729912257},{"$f":"'Wegingsfactor AD'!$D121*Rekenvolumes!P68","v":0},116907.43636858548]
[null,"HD 400-650 m3/h ",null,null,{"$f":"'Wegingsfactor AD'!$D122*Rekenvolumes!E69","v":0},{"$f":"'Wegingsfactor AD'!$D122*Rekenvolumes!F69","v":0},{"$f":"'Wegingsfactor AD'!$D122*Rekenvolumes!G69","v":6103.3919247627136},{"$f":"'Wegingsfactor AD'!$D122*Rekenvolumes!H69","v":0},{"$f":"'Wegingsfactor AD'!$D122*Rekenvolumes!I69","v":0},{"$f":"'Wegingsfactor AD'!$D122*Rekenvolumes!J69","v":0},{"$f":"'Wegingsfactor AD'!$D122*Rekenvolumes!K69","v":48827.135398101709},{"$f":"'Wegingsfactor AD'!$D122*Rekenvolumes!L69","v":6103.3919247627136},{"$f":"'Wegingsfactor AD'!$D122*Rekenvolumes!M69","v":0},{"$f":"'Wegingsfactor AD'!$D122*Rekenvolumes!N69","v":6103.3919247627136},{"$f":"'Wegingsfactor AD'!$D122*Rekenvolumes!O69","v":24413.567699050855},{"$f":"'Wegingsfactor AD'!$D122*Rekenvolumes!P69","v":0},91550.878871440698]
[null,"HD 650-1000 m3/h ",null,null,{"$f":"'Wegingsfactor AD'!$D123*Rekenvolumes!E70","v":0},{"$f":"'Wegingsfactor AD'!$D123*Rekenvolumes!F70","v":6884.7808670864688},{"$f":"'Wegingsfactor AD'!$D123*Rekenvolumes!G70","v":20654.342601259406},{"$f":"'Wegingsfactor AD'!$D123*Rekenvolumes!H70","v":0},{"$f":"'Wegingsfactor AD'!$D123*Rekenvolumes!I70","v":0},{"$f":"'Wegingsfactor AD'!$D123*Rekenvolumes!J70","v":0},{"$f":"'Wegingsfactor AD'!$D123*Rekenvolumes!K70","v":0},{"$f":"'Wegingsfactor AD'!$D123*Rekenvolumes!L70","v":0},{"$f":"'Wegingsfactor AD'!$D123*Rekenvolumes!M70","v":0},{"$f":"'Wegingsfactor AD'!$D123*Rekenvolumes!N70","v":34423.904335432344},{"$f":"'Wegingsfactor AD'!$D123*Rekenvolumes!O70","v":55078.24693669175},{"$f":"'Wegingsfactor AD'!$D123*Rekenvolumes!P70","v":0},117041.27474046996]
[null,"HD 1000-1600 m3/h ",null,null,{"$f":"'Wegingsfactor AD'!$D124*Rekenvolumes!E71","v":0},{"$f":"'Wegingsfactor AD'!$D124*Rekenvolumes!F71","v":0},{"$f":"'Wegingsfactor AD'!$D124*Rekenvolumes!G71","v":18841.056473617347},{"$f":"'Wegingsfactor AD'!$D124*Rekenvolumes!H71","v":0},{"$f":"'Wegingsfactor AD'!$D124*Rekenvolumes!I71","v":0},{"$f":"'Wegingsfactor AD'!$D124*Rekenvolumes!J71","v":0},{"$f":"'Wegingsfactor AD'!$D124*Rekenvolumes!K71","v":0},{"$f":"'Wegingsfactor AD'!$D124*Rekenvolumes!L71","v":0},{"$f":"'Wegingsfactor AD'!$D124*Rekenvolumes!M71","v":0},{"$f":"'Wegingsfactor AD'!$D124*Rekenvolumes!N71","v":3768.2112947234691},{"$f":"'Wegingsfactor AD'!$D124*Rekenvolumes!O71","v":0},{"$f":"'Wegingsfactor AD'!$D124*Rekenvolumes!P71","v":0},22609.267768340818]
[null,"HD 1600-2500 m3/h ",null,null,{"$f":"'Wegingsfactor AD'!$D125*Rekenvolumes!E72","v":0},{"$f":"'Wegingsfactor AD'!$D125*Rekenvolumes!F72","v":0},{"$f":"'Wegingsfactor AD'!$D125*Rekenvolumes!G72","v":0},{"$f":"'Wegingsfactor AD'!$D125*Rekenvolumes!H72","v":0},{"$f":"'Wegingsfactor AD'!$D125*Rekenvolumes!I72","v":0},{"$f":"'Wegingsfactor AD'!$D125*Rekenvolumes!J72","v":0},{"$f":"'Wegingsfactor AD'!$D125*Rekenvolumes!K72","v":0},{"$f":"'Wegingsfactor AD'!$D125*Rekenvolumes!L72","v":9975.7795524471967},{"$f":"'Wegingsfactor AD'!$D125*Rekenvolumes!M72","v":0},{"$f":"'Wegingsfactor AD'!$D125*Rekenvolumes!N72","v":19951.559104894393},{"$f":"'Wegingsfactor AD'!$D125*Rekenvolumes!O72","v":0},{"$f":"'Wegingsfactor AD'!$D125*Rekenvolumes!P72","v":0},29927.338657341592]
[null,"HD >2500 m3/h",null,null,{"$f":"'Wegingsfactor AD'!$D126*Rekenvolumes!E73","v":0},{"$f":"'Wegingsfactor AD'!$D126*Rekenvolumes!F73","v":0},{"$f":"'Wegingsfactor AD'!$D126*Rekenvolumes!G73","v":7173.4967369406077},{"$f":"'Wegingsfactor AD'!$D126*Rekenvolumes!H73","v":0},{"$f":"'Wegingsfactor AD'!$D126*Rekenvolumes!I73","v":0},{"$f":"'Wegingsfactor AD'!$D126*Rekenvolumes!J73","v":0},{"$f":"'Wegingsfactor AD'!$D126*Rekenvolumes!K73","v":0},{"$f":"'Wegingsfactor AD'!$D126*Rekenvolumes!L73","v":0},{"$f":"'Wegingsfactor AD'!$D126*Rekenvolumes!M73","v":0},{"$f":"'Wegingsfactor AD'!$D126*Rekenvolumes!N73","v":0},{"$f":"'Wegingsfactor AD'!$D126*Rekenvolumes!O73","v":150643.43147575276},{"$f":"'Wegingsfactor AD'!$D126*Rekenvolumes!P73","v":0},157816.92821269337]
[]
[null,"EHD 0-40 m3/h",null,null,{"$f":"'Wegingsfactor AD'!$D128*Rekenvolumes!E75","v":0},{"$f":"'Wegingsfactor AD'!$D128*Rekenvolumes!F75","v":0},{"$f":"'Wegingsfactor AD'!$D128*Rekenvolumes!G75","v":0},{"$f":"'Wegingsfactor AD'!$D128*Rekenvolumes!H75","v":0},{"$f":"'Wegingsfactor AD'!$D128*Rekenvolumes!I75","v":0},{"$f":"'Wegingsfactor AD'!$D128*Rekenvolumes!J75","v":0},{"$f":"'Wegingsfactor AD'!$D128*Rekenvolumes!K75","v":0},{"$f":"'Wegingsfactor AD'!$D128*Rekenvolumes!L75","v":0},{"$f":"'Wegingsfactor AD'!$D128*Rekenvolumes!M75","v":0},{"$f":"'Wegingsfactor AD'!$D128*Rekenvolumes!N75","v":0},{"$f":"'Wegingsfactor AD'!$D128*Rekenvolumes!O75","v":0},{"$f":"'Wegingsfactor AD'!$D128*Rekenvolumes!P75","v":0},0]
[null,"EHD >40 m3/h",null,null,{"$f":"'Wegingsfactor AD'!$D129*Rekenvolumes!E76","v":0},{"$f":"'Wegingsfactor AD'!$D129*Rekenvolumes!F76","v":0},{"$f":"'Wegingsfactor AD'!$D129*Rekenvolumes!G76","v":0},{"$f":"'Wegingsfactor AD'!$D129*Rekenvolumes!H76","v":0},{"$f":"'Wegingsfactor AD'!$D129*Rekenvolumes!I76","v":0},{"$f":"'Wegingsfactor AD'!$D129*Rekenvolumes!J76","v":0},{"$f":"'Wegingsfactor AD'!$D129*Rekenvolumes!K76","v":0},{"$f":"'Wegingsfactor AD'!$D129*Rekenvolumes!L76","v":0},{"$f":"'Wegingsfactor AD'!$D129*Rekenvolumes!M76","v":0},{"$f":"'Wegingsfactor AD'!$D129*Rekenvolumes!N76","v":0},{"$f":"'Wegingsfactor AD'!$D129*Rekenvolumes!O76","v":0},{"$f":"'Wegingsfactor AD'!$D129*Rekenvolumes!P76","v":0},0]
[]
[null,"Meerlengtevergoeding "]
[null,"LD 0-10 m3/h",null,null,{"$f":"'Wegingsfactor AD'!$D132*Rekenvolumes!E79","v":9707.2182281662263},{"$f":"'Wegingsfactor AD'!$D132*Rekenvolumes!F79","v":17802.942103155499},{"$f":"'Wegingsfactor AD'!$D132*Rekenvolumes!G79","v":251850.45955660436},{"$f":"'Wegingsfactor AD'!$D132*Rekenvolumes!H79","v":12754.612829415011},{"$f":"'Wegingsfactor AD'!$D132*Rekenvolumes!I79","v":0},{"$f":"'Wegingsfactor AD'!$D132*Rekenvolumes!J79","v":4031.5279712556539},{"$f":"'Wegingsfactor AD'!$D132*Rekenvolumes!K79","v":293409.61093457078},{"$f":"'Wegingsfactor AD'!$D132*Rekenvolumes!L79","v":13753.575512558005},{"$f":"'Wegingsfactor AD'!$D132*Rekenvolumes!M79","v":44739.257309332657},{"$f":"'Wegingsfactor AD'!$D132*Rekenvolumes!N79","v":30468.361835861313},{"$f":"'Wegingsfactor AD'!$D132*Rekenvolumes!O79","v":556106.82772068388},{"$f":"'Wegingsfactor AD'!$D132*Rekenvolumes!P79","v":0},{"$f":"SUM(E123:P123)","v":1234624.3940016034}]
[null,"LD 10-16 m3/h",null,null,{"$f":"'Wegingsfactor AD'!$D133*Rekenvolumes!E80","v":22674.017823347498},{"$f":"'Wegingsfactor AD'!$D133*Rekenvolumes!F80","v":0},{"$f":"'Wegingsfactor AD'!$D133*Rekenvolumes!G80","v":42789.431401186608},{"$f":"'Wegingsfactor AD'!$D133*Rekenvolumes!H80","v":1960.6115319933097},{"$f":"'Wegingsfactor AD'!$D133*Rekenvolumes!I80","v":0},{"$f":"'Wegingsfactor AD'!$D133*Rekenvolumes!J80","v":0},{"$f":"'Wegingsfactor AD'!$D133*Rekenvolumes!K80","v":64926.404963316905},{"$f":"'Wegingsfactor AD'!$D133*Rekenvolumes!L80","v":5504.7939167504464},{"$f":"'Wegingsfactor AD'!$D133*Rekenvolumes!M80","v":0},{"$f":"'Wegingsfactor AD'!$D133*Rekenvolumes!N80","v":2884.3611961055421},{"$f":"'Wegingsfactor AD'!$D133*Rekenvolumes!O80","v":49555.667404699198},{"$f":"'Wegingsfactor AD'!$D133*Rekenvolumes!P80","v":0},190295.28823739951]
[null,"LD 16-25 m3/h",null,null,{"$f":"'Wegingsfactor AD'!$D134*Rekenvolumes!E81","v":36650.900201164768},{"$f":"'Wegingsfactor AD'!$D134*Rekenvolumes!F81","v":9946.9465549060351},{"$f":"'Wegingsfactor AD'!$D134*Rekenvolumes!G81","v":91517.612796852263},{"$f":"'Wegingsfactor AD'!$D134*Rekenvolumes!H81","v":1648.0148138305858},{"$f":"'Wegingsfactor AD'!$D134*Rekenvolumes!I81","v":0},{"$f":"'Wegingsfactor AD'!$D134*Rekenvolumes!J81","v":588.57671922520922},{"$f":"'Wegingsfactor AD'!$D134*Rekenvolumes!K81","v":37001.856415291484},{"$f":"'Wegingsfactor AD'!$D134*Rekenvolumes!L81","v":1549.9186939597175},{"$f":"'Wegingsfactor AD'!$D134*Rekenvolumes!M81","v":784.76895896694555},{"$f":"'Wegingsfactor AD'!$D134*Rekenvolumes!N81","v":0},{"$f":"'Wegingsfactor AD'!$D134*Rekenvolumes!O81","v":89775.564021616883},{"$f":"'Wegingsfactor AD'!$D134*Rekenvolumes!P81","v":0},269464.1591758139]
[null,"LD 25-40 m3/h ",null,null,{"$f":"'Wegingsfactor AD'!$D135*Rekenvolumes!E82","v":5047.5598407023472},{"$f":"'Wegingsfactor AD'!$D135*Rekenvolumes!F82","v":0},{"$f":"'Wegingsfactor AD'!$D135*Rekenvolumes!G82","v":37519.810282787053},{"$f":"'Wegingsfactor AD'!$D135*Rekenvolumes!H82","v":11193.936563600346},{"$f":"'Wegingsfactor AD'!$D135*Rekenvolumes!I82","v":0},{"$f":"'Wegingsfactor AD'!$D135*Rekenvolumes!J82","v":0},{"$f":"'Wegingsfactor AD'!$D135*Rekenvolumes!K82","v":29328.113796632904},{"$f":"'Wegingsfactor AD'!$D135*Rekenvolumes!L82","v":2320.1977604553445},{"$f":"'Wegingsfactor AD'!$D135*Rekenvolumes!M82","v":0},{"$f":"'Wegingsfactor AD'!$D135*Rekenvolumes!N82","v":2747.6026110655393},{"$f":"'Wegingsfactor AD'!$D135*Rekenvolumes!O82","v":79687.903681460521},{"$f":"'Wegingsfactor AD'!$D135*Rekenvolumes!P82","v":0},167845.12453670404]
[null,"HD 0-10 m3/h",null,null,{"$f":"'Wegingsfactor AD'!$D136*Rekenvolumes!E83","v":0},{"$f":"'Wegingsfactor AD'!$D136*Rekenvolumes!F83","v":0},{"$f":"'Wegingsfactor AD'!$D136*Rekenvolumes!G83","v":0},{"$f":"'Wegingsfactor AD'!$D136*Rekenvolumes!H83","v":0},{"$f":"'Wegingsfactor AD'!$D136*Rekenvolumes!I83","v":0},{"$f":"'Wegingsfactor AD'!$D136*Rekenvolumes!J83","v":0},{"$f":"'Wegingsfactor AD'!$D136*Rekenvolumes!K83","v":0},{"$f":"'Wegingsfactor AD'!$D136*Rekenvolumes!L83","v":0},{"$f":"'Wegingsfactor AD'!$D136*Rekenvolumes!M83","v":0},{"$f":"'Wegingsfactor AD'!$D136*Rekenvolumes!N83","v":0},{"$f":"'Wegingsfactor AD'!$D136*Rekenvolumes!O83","v":0},{"$f":"'Wegingsfactor AD'!$D136*Rekenvolumes!P83","v":0},0]
[null,"HD 10-16 m3/h",null,null,{"$f":"'Wegingsfactor AD'!$D137*Rekenvolumes!E84","v":0},{"$f":"'Wegingsfactor AD'!$D137*Rekenvolumes!F84","v":0},{"$f":"'Wegingsfactor AD'!$D137*Rekenvolumes!G84","v":0},{"$f":"'Wegingsfactor AD'!$D137*Rekenvolumes!H84","v":0},{"$f":"'Wegingsfactor AD'!$D137*Rekenvolumes!I84","v":0},{"$f":"'Wegingsfactor AD'!$D137*Rekenvolumes!J84","v":0},{"$f":"'Wegingsfactor AD'!$D137*Rekenvolumes!K84","v":0},{"$f":"'Wegingsfactor AD'!$D137*Rekenvolumes!L84","v":0},{"$f":"'Wegingsfactor AD'!$D137*Rekenvolumes!M84","v":0},{"$f":"'Wegingsfactor AD'!$D137*Rekenvolumes!N84","v":0},{"$f":"'Wegingsfactor AD'!$D137*Rekenvolumes!O84","v":0},{"$f":"'Wegingsfactor AD'!$D137*Rekenvolumes!P84","v":0},0]
[null,"HD 16-25 m3/h",null,null,{"$f":"'Wegingsfactor AD'!$D138*Rekenvolumes!E85","v":0},{"$f":"'Wegingsfactor AD'!$D138*Rekenvolumes!F85","v":0},{"$f":"'Wegingsfactor AD'!$D138*Rekenvolumes!G85","v":0},{"$f":"'Wegingsfactor AD'!$D138*Rekenvolumes!H85","v":0},{"$f":"'Wegingsfactor AD'!$D138*Rekenvolumes!I85","v":0},{"$f":"'Wegingsfactor AD'!$D138*Rekenvolumes!J85","v":0},{"$f":"'Wegingsfactor AD'!$D138*Rekenvolumes!K85","v":0},{"$f":"'Wegingsfactor AD'!$D138*Rekenvolumes!L85","v":0},{"$f":"'Wegingsfactor AD'!$D138*Rekenvolumes!M85","v":0},{"$f":"'Wegingsfactor AD'!$D138*Rekenvolumes!N85","v":0},{"$f":"'Wegingsfactor AD'!$D138*Rekenvolumes!O85","v":0},{"$f":"'Wegingsfactor AD'!$D138*Rekenvolumes!P85","v":0},0]
[null,"HD 25-40 m3/h",null,null,{"$f":"'Wegingsfactor AD'!$D139*Rekenvolumes!E86","v":0},{"$f":"'Wegingsfactor AD'!$D139*Rekenvolumes!F86","v":0},{"$f":"'Wegingsfactor AD'!$D139*Rekenvolumes!G86","v":0},{"$f":"'Wegingsfactor AD'!$D139*Rekenvolumes!H86","v":0},{"$f":"'Wegingsfactor AD'!$D139*Rekenvolumes!I86","v":0},{"$f":"'Wegingsfactor AD'!$D139*Rekenvolumes!J86","v":0},{"$f":"'Wegingsfactor AD'!$D139*Rekenvolumes!K86","v":23130.359992173413},{"$f":"'Wegingsfactor AD'!$D139*Rekenvolumes!L86","v":0},{"$f":"'Wegingsfactor AD'!$D139*Rekenvolumes!M86","v":0},{"$f":"'Wegingsfactor AD'!$D139*Rekenvolumes!N86","v":0},{"$f":"'Wegingsfactor AD'!$D139*Rekenvolumes!O86","v":0},{"$f":"'Wegingsfactor AD'!$D139*Rekenvolumes!P86","v":0},23130.359992173413]
[null,"EHD 0-40 m3/h",null,null,{"$f":"'Wegingsfactor AD'!$D140*Rekenvolumes!E87","v":0},{"$f":"'Wegingsfactor AD'!$D140*Rekenvolumes!F87","v":0},{"$f":"'Wegingsfactor AD'!$D140*Rekenvolumes!G87","v":0},{"$f":"'Wegingsfactor AD'!$D140*Rekenvolumes!H87","v":0},{"$f":"'Wegingsfactor AD'!$D140*Rekenvolumes!I87","v":0},{"$f":"'Wegingsfactor AD'!$D140*Rekenvolumes!J87","v":0},{"$f":"'Wegingsfactor AD'!$D140*Rekenvolumes!K87","v":0},{"$f":"'Wegingsfactor AD'!$D140*Rekenvolumes!L87","v":0},{"$f":"'Wegingsfactor AD'!$D140*Rekenvolumes!M87","v":0},{"$f":"'Wegingsfactor AD'!$D140*Rekenvolumes!N87","v":0},{"$f":"'Wegingsfactor AD'!$D140*Rekenvolumes!O87","v":0},{"$f":"'Wegingsfactor AD'!$D140*Rekenvolumes!P87","v":0},{"$f":"SUM(E131:P131)","v":0}]
[]
[null,"PAV"]
[null,"LD 0-10 m3/h",null,null,{"$f":"'Wegingsfactor AD'!$D143*Rekenvolumes!E90","v":2124845.652502961},{"$f":"'Wegingsfactor AD'!$D143*Rekenvolumes!F90","v":2908423.2254777653},{"$f":"'Wegingsfactor AD'!$D143*Rekenvolumes!G90","v":29425930.378659543},{"$f":"'Wegingsfactor AD'!$D143*Rekenvolumes!H90","v":918118.55648573232},{"$f":"'Wegingsfactor AD'!$D143*Rekenvolumes!I90","v":2314677.5363982264},{"$f":"'Wegingsfactor AD'!$D143*Rekenvolumes!J90","v":2900281.0289648613},{"$f":"'Wegingsfactor AD'!$D143*Rekenvolumes!K90","v":33566943.332062937},{"$f":"'Wegingsfactor AD'!$D143*Rekenvolumes!L90","v":3080894.8246056475},{"$f":"'Wegingsfactor AD'!$D143*Rekenvolumes!M90","v":1572796.1866707015},{"$f":"'Wegingsfactor AD'!$D143*Rekenvolumes!N90","v":770063.93677293009},{"$f":"'Wegingsfactor AD'!$D143*Rekenvolumes!O90","v":29209355.757069152},{"$f":"'Wegingsfactor AD'!$D143*Rekenvolumes!P90","v":0},{"$f":"SUM(E134:P134)","v":108792330.41567047}]
[null,"LD 10-16 m3/h",null,null,{"$f":"'Wegingsfactor AD'!$D144*Rekenvolumes!E91","v":64.238114014654414},{"$f":"'Wegingsfactor AD'!$D144*Rekenvolumes!F91","v":0},{"$f":"'Wegingsfactor AD'!$D144*Rekenvolumes!G91","v":232749.29123134105},{"$f":"'Wegingsfactor AD'!$D144*Rekenvolumes!H91","v":8925.7477649914254},{"$f":"'Wegingsfactor AD'!$D144*Rekenvolumes!I91","v":321.19057007327206},{"$f":"'Wegingsfactor AD'!$D144*Rekenvolumes!J91","v":127.96696097859795},{"$f":"'Wegingsfactor AD'!$D144*Rekenvolumes!K91","v":257538.73383195218},{"$f":"'Wegingsfactor AD'!$D144*Rekenvolumes!L91","v":75285.140762712006},{"$f":"'Wegingsfactor AD'!$D144*Rekenvolumes!M91","v":22001.554050019138},{"$f":"'Wegingsfactor AD'!$D144*Rekenvolumes!N91","v":13410.036804048079},{"$f":"'Wegingsfactor AD'!$D144*Rekenvolumes!O91","v":146387.31239126332},{"$f":"'Wegingsfactor AD'!$D144*Rekenvolumes!P91","v":0},{"$f":"SUM(E135:P135)","v":756811.21248139371}]
[null,"LD 16-25 m3/h",null,null,{"$f":"'Wegingsfactor AD'!$D145*Rekenvolumes!E92","v":79934.986914898051},{"$f":"'Wegingsfactor AD'!$D145*Rekenvolumes!F92","v":97389.255480047606},{"$f":"'Wegingsfactor AD'!$D145*Rekenvolumes!G92","v":565888.75925853068},{"$f":"'Wegingsfactor AD'!$D145*Rekenvolumes!H92","v":19532.357351835006},{"$f":"'Wegingsfactor AD'!$D145*Rekenvolumes!I92","v":79378.675566208025},{"$f":"'Wegingsfactor AD'!$D145*Rekenvolumes!J92","v":114734.61204962984},{"$f":"'Wegingsfactor AD'!$D145*Rekenvolumes!K92","v":703542.85135865083},{"$f":"'Wegingsfactor AD'!$D145*Rekenvolumes!L92","v":88199.280941106481},{"$f":"'Wegingsfactor AD'!$D145*Rekenvolumes!M92","v":39428.566838405568},{"$f":"'Wegingsfactor AD'!$D145*Rekenvolumes!N92","v":13886.00649722354},{"$f":"'Wegingsfactor AD'!$D145*Rekenvolumes!O92","v":897248.88793807419},{"$f":"'Wegingsfactor AD'!$D145*Rekenvolumes!P92","v":0},2699164.2401946099]
[null,"LD 25-40 m3/h ",null,null,{"$f":"'Wegingsfactor AD'!$D146*Rekenvolumes!E93","v":37328.328099015482},{"$f":"'Wegingsfactor AD'!$D146*Rekenvolumes!F93","v":33660.301414285837},{"$f":"'Wegingsfactor AD'!$D146*Rekenvolumes!G93","v":353412.54070121475},{"$f":"'Wegingsfactor AD'!$D146*Rekenvolumes!H93","v":17454.216673256931},{"$f":"'Wegingsfactor AD'!$D146*Rekenvolumes!I93","v":30381.111480587602},{"$f":"'Wegingsfactor AD'!$D146*Rekenvolumes!J93","v":47581.578532844404},{"$f":"'Wegingsfactor AD'!$D146*Rekenvolumes!K93","v":260084.26194822142},{"$f":"'Wegingsfactor AD'!$D146*Rekenvolumes!L93","v":55453.134243008179},{"$f":"'Wegingsfactor AD'!$D146*Rekenvolumes!M93","v":21567.478457208948},{"$f":"'Wegingsfactor AD'!$D146*Rekenvolumes!N93","v":14661.302569819303},{"$f":"'Wegingsfactor AD'!$D146*Rekenvolumes!O93","v":421061.54471491929},{"$f":"'Wegingsfactor AD'!$D146*Rekenvolumes!P93","v":0},1292645.7988343821]
[null,"LD 40-65 m3/h ",null,null,{"$f":"'Wegingsfactor AD'!$D147*Rekenvolumes!E94","v":12445.660003749903},{"$f":"'Wegingsfactor AD'!$D147*Rekenvolumes!F94","v":10267.66950309367},{"$f":"'Wegingsfactor AD'!$D147*Rekenvolumes!G94","v":102377.55440319963},{"$f":"'Wegingsfactor AD'!$D147*Rekenvolumes!H94","v":7799.8438312894232},{"$f":"'Wegingsfactor AD'!$D147*Rekenvolumes!I94","v":103.71383336458253},{"$f":"'Wegingsfactor AD'!$D147*Rekenvolumes!J94","v":16690.883669733634},{"$f":"'Wegingsfactor AD'!$D147*Rekenvolumes!K94","v":150601.84127462248},{"$f":"'Wegingsfactor AD'!$D147*Rekenvolumes!L94","v":24549.416160269739},{"$f":"'Wegingsfactor AD'!$D147*Rekenvolumes!M94","v":7925.8111457213972},{"$f":"'Wegingsfactor AD'!$D147*Rekenvolumes!N94","v":4330.0525429713207},{"$f":"'Wegingsfactor AD'!$D147*Rekenvolumes!O94","v":135818.12985512169},{"$f":"'Wegingsfactor AD'!$D147*Rekenvolumes!P94","v":0},472910.57622313744]
[null,"LD 65-100 m3/h ",null,null,{"$f":"'Wegingsfactor AD'!$D148*Rekenvolumes!E95","v":12914.300714425928},{"$f":"'Wegingsfactor AD'!$D148*Rekenvolumes!F95","v":18399.406931843394},{"$f":"'Wegingsfactor AD'!$D148*Rekenvolumes!G95","v":216046.37339877652},{"$f":"'Wegingsfactor AD'!$D148*Rekenvolumes!H95","v":9197.8308822878171},{"$f":"'Wegingsfactor AD'!$D148*Rekenvolumes!I95","v":26800.645568647356},{"$f":"'Wegingsfactor AD'!$D148*Rekenvolumes!J95","v":17017.084504643055},{"$f":"'Wegingsfactor AD'!$D148*Rekenvolumes!K95","v":299188.86259608512},{"$f":"'Wegingsfactor AD'!$D148*Rekenvolumes!L95","v":21564.926970283414},{"$f":"'Wegingsfactor AD'!$D148*Rekenvolumes!M95","v":10182.509522979219},{"$f":"'Wegingsfactor AD'!$D148*Rekenvolumes!N95","v":12358.846920257072},{"$f":"'Wegingsfactor AD'!$D148*Rekenvolumes!O95","v":203745.05735827141},{"$f":"'Wegingsfactor AD'!$D148*Rekenvolumes!P95","v":0},847415.84536850033]
[null,"LD 100-160 m3/h",null,null,{"$f":"'Wegingsfactor AD'!$D149*Rekenvolumes!E96","v":7000.5963864176592},{"$f":"'Wegingsfactor AD'!$D149*Rekenvolumes!F96","v":10556.454868407582},{"$f":"'Wegingsfactor AD'!$D149*Rekenvolumes!G96","v":207796.95932435844},{"$f":"'Wegingsfactor AD'!$D149*Rekenvolumes!H96","v":6753.0267790367307},{"$f":"'Wegingsfactor AD'!$D149*Rekenvolumes!I96","v":13890.072195273133},{"$f":"'Wegingsfactor AD'!$D149*Rekenvolumes!J96","v":22580.061725304437},{"$f":"'Wegingsfactor AD'!$D149*Rekenvolumes!K96","v":219649.46846599306},{"$f":"'Wegingsfactor AD'!$D149*Rekenvolumes!L96","v":20645.758224574787},{"$f":"'Wegingsfactor AD'!$D149*Rekenvolumes!M96","v":4588.7242504304322},{"$f":"'Wegingsfactor AD'!$D149*Rekenvolumes!N96","v":15204.999029758987},{"$f":"'Wegingsfactor AD'!$D149*Rekenvolumes!O96","v":160265.15548284948},{"$f":"'Wegingsfactor AD'!$D149*Rekenvolumes!P96","v":0},688931.27673240472]
[null,"LD 160-250 m3/h ",null,null,{"$f":"'Wegingsfactor AD'!$D150*Rekenvolumes!E97","v":10112.897479903231},{"$f":"'Wegingsfactor AD'!$D150*Rekenvolumes!F97","v":10276.008729579091},{"$f":"'Wegingsfactor AD'!$D150*Rekenvolumes!G97","v":89842.668556838486},{"$f":"'Wegingsfactor AD'!$D150*Rekenvolumes!H97","v":4869.3490967914631},{"$f":"'Wegingsfactor AD'!$D150*Rekenvolumes!I97","v":13375.122473420402},{"$f":"'Wegingsfactor AD'!$D150*Rekenvolumes!J97","v":9262.1900972961957},{"$f":"'Wegingsfactor AD'!$D150*Rekenvolumes!K97","v":214578.44592006941},{"$f":"'Wegingsfactor AD'!$D150*Rekenvolumes!L97","v":10259.936978371847},{"$f":"'Wegingsfactor AD'!$D150*Rekenvolumes!M97","v":2931.1091566751788},{"$f":"'Wegingsfactor AD'!$D150*Rekenvolumes!N97","v":61003.607378771107},{"$f":"'Wegingsfactor AD'!$D150*Rekenvolumes!O97","v":100084.11256949948},{"$f":"'Wegingsfactor AD'!$D150*Rekenvolumes!P97","v":0},526595.44843721599]
[null,"LD 250-400 m3/h ",null,null,{"$f":"'Wegingsfactor AD'!$D151*Rekenvolumes!E98","v":4442.0013207065113},{"$f":"'Wegingsfactor AD'!$D151*Rekenvolumes!F98","v":2665.2007924239065},{"$f":"'Wegingsfactor AD'!$D151*Rekenvolumes!G98","v":110277.12218002748},{"$f":"'Wegingsfactor AD'!$D151*Rekenvolumes!H98","v":2432.6797502945101},{"$f":"'Wegingsfactor AD'!$D151*Rekenvolumes!I98","v":11549.203433836929},{"$f":"'Wegingsfactor AD'!$D151*Rekenvolumes!J98","v":15041.935828864753},{"$f":"'Wegingsfactor AD'!$D151*Rekenvolumes!K98","v":170841.80578998223},{"$f":"'Wegingsfactor AD'!$D151*Rekenvolumes!L98","v":4433.9345679162388},{"$f":"'Wegingsfactor AD'!$D151*Rekenvolumes!M98","v":1938.933576488392},{"$f":"'Wegingsfactor AD'!$D151*Rekenvolumes!N98","v":116306.40124716549},{"$f":"'Wegingsfactor AD'!$D151*Rekenvolumes!O98","v":88676.466861526293},{"$f":"'Wegingsfactor AD'!$D151*Rekenvolumes!P98","v":0},528605.68534923275]
[null,"LD 400-650 m3/h ",null,null,{"$f":"'Wegingsfactor AD'!$D152*Rekenvolumes!E99","v":3501.151978682954},{"$f":"'Wegingsfactor AD'!$D152*Rekenvolumes!F99","v":0},{"$f":"'Wegingsfactor AD'!$D152*Rekenvolumes!G99","v":58859.242102319484},{"$f":"'Wegingsfactor AD'!$D152*Rekenvolumes!H99","v":0},{"$f":"'Wegingsfactor AD'!$D152*Rekenvolumes!I99","v":8752.8799467073841},{"$f":"'Wegingsfactor AD'!$D152*Rekenvolumes!J99","v":7408.2969759054495},{"$f":"'Wegingsfactor AD'!$D152*Rekenvolumes!K99","v":138141.5789525212},{"$f":"'Wegingsfactor AD'!$D152*Rekenvolumes!L99","v":0},{"$f":"'Wegingsfactor AD'!$D152*Rekenvolumes!M99","v":437.64399733536925},{"$f":"'Wegingsfactor AD'!$D152*Rekenvolumes!N99","v":145.88133244512306},{"$f":"'Wegingsfactor AD'!$D152*Rekenvolumes!O99","v":22489.873007000733},{"$f":"'Wegingsfactor AD'!$D152*Rekenvolumes!P99","v":0},239736.54829291772]
[null,"LD 650-1000 m3/h ",null,null,{"$f":"'Wegingsfactor AD'!$D153*Rekenvolumes!E100","v":0},{"$f":"'Wegingsfactor AD'!$D153*Rekenvolumes!F100","v":0},{"$f":"'Wegingsfactor AD'!$D153*Rekenvolumes!G100","v":28606.390121916364},{"$f":"'Wegingsfactor AD'!$D153*Rekenvolumes!H100","v":0},{"$f":"'Wegingsfactor AD'!$D153*Rekenvolumes!I100","v":2858.5988467192483},{"$f":"'Wegingsfactor AD'!$D153*Rekenvolumes!J100","v":5695.4358451796688},{"$f":"'Wegingsfactor AD'!$D153*Rekenvolumes!K100","v":132723.29377531304},{"$f":"'Wegingsfactor AD'!$D153*Rekenvolumes!L100","v":0},{"$f":"'Wegingsfactor AD'!$D153*Rekenvolumes!M100","v":0},{"$f":"'Wegingsfactor AD'!$D153*Rekenvolumes!N100","v":1786.6242791995301},{"$f":"'Wegingsfactor AD'!$D153*Rekenvolumes!O100","v":12419.552947011434},{"$f":"'Wegingsfactor AD'!$D153*Rekenvolumes!P100","v":0},184089.89581533926]
[null,"LD 1000-1600 m3/h ",null,null,{"$f":"'Wegingsfactor AD'!$D154*Rekenvolumes!E101","v":0},{"$f":"'Wegingsfactor AD'!$D154*Rekenvolumes!F101","v":384.19968267435195},{"$f":"'Wegingsfactor AD'!$D154*Rekenvolumes!G101","v":5731.3534465678949},{"$f":"'Wegingsfactor AD'!$D154*Rekenvolumes!H101","v":0},{"$f":"'Wegingsfactor AD'!$D154*Rekenvolumes!I101","v":0},{"$f":"'Wegingsfactor AD'!$D154*Rekenvolumes!J101","v":1529.5874092527179},{"$f":"'Wegingsfactor AD'!$D154*Rekenvolumes!K101","v":31053.792562686263},{"$f":"'Wegingsfactor AD'!$D154*Rekenvolumes!L101","v":0},{"$f":"'Wegingsfactor AD'!$D154*Rekenvolumes!M101","v":0},{"$f":"'Wegingsfactor AD'!$D154*Rekenvolumes!N101","v":93232.456328976055},{"$f":"'Wegingsfactor AD'!$D154*Rekenvolumes!O101","v":0},{"$f":"'Wegingsfactor AD'!$D154*Rekenvolumes!P101","v":0},131931.38943015729]
[null,"LD 1600-2500 m3/h ",null,null,{"$f":"'Wegingsfactor AD'!$D155*Rekenvolumes!E102","v":0},{"$f":"'Wegingsfactor AD'!$D155*Rekenvolumes!F102","v":0},{"$f":"'Wegingsfactor AD'!$D155*Rekenvolumes!G102","v":6377.4763470454754},{"$f":"'Wegingsfactor AD'!$D155*Rekenvolumes!H102","v":0},{"$f":"'Wegingsfactor AD'!$D155*Rekenvolumes!I102","v":0},{"$f":"'Wegingsfactor AD'!$D155*Rekenvolumes!J102","v":2633.4905461273052},{"$f":"'Wegingsfactor AD'!$D155*Rekenvolumes!K102","v":44977.696183557178},{"$f":"'Wegingsfactor AD'!$D155*Rekenvolumes!L102","v":0},{"$f":"'Wegingsfactor AD'!$D155*Rekenvolumes!M102","v":0},{"$f":"'Wegingsfactor AD'!$D155*Rekenvolumes!N102","v":0},{"$f":"'Wegingsfactor AD'!$D155*Rekenvolumes!O102","v":0},{"$f":"'Wegingsfactor AD'!$D155*Rekenvolumes!P102","v":0},53988.663076729958]
[null,"LD >2500 m3/h",null,null,{"$f":"'Wegingsfactor AD'!$D156*Rekenvolumes!E103","v":0},{"$f":"'Wegingsfactor AD'!$D156*Rekenvolumes!F103","v":0},{"$f":"'Wegingsfactor AD'!$D156*Rekenvolumes!G103","v":2345.1620690665764},{"$f":"'Wegingsfactor AD'!$D156*Rekenvolumes!H103","v":0},{"$f":"'Wegingsfactor AD'!$D156*Rekenvolumes!I103","v":0},{"$f":"'Wegingsfactor AD'!$D156*Rekenvolumes!J103","v":0},{"$f":"'Wegingsfactor AD'!$D156*Rekenvolumes!K103","v":22084.821863781519},{"$f":"'Wegingsfactor AD'!$D156*Rekenvolumes!L103","v":0},{"$f":"'Wegingsfactor AD'!$D156*Rekenvolumes!M103","v":0},{"$f":"'Wegingsfactor AD'!$D156*Rekenvolumes!N103","v":15239.090863650528},{"$f":"'Wegingsfactor AD'!$D156*Rekenvolumes!O103","v":0},{"$f":"'Wegingsfactor AD'!$D156*Rekenvolumes!P103","v":0},39669.074796498622]
[]
[null,"HD 0-10 m3/h",null,null,{"$f":"'Wegingsfactor AD'!$D158*Rekenvolumes!E105","v":0},{"$f":"'Wegingsfactor AD'!$D158*Rekenvolumes!F105","v":0},{"$f":"'Wegingsfactor AD'!$D158*Rekenvolumes!G105","v":0},{"$f":"'Wegingsfactor AD'!$D158*Rekenvolumes!H105","v":0},{"$f":"'Wegingsfactor AD'!$D158*Rekenvolumes!I105","v":0},{"$f":"'Wegingsfactor AD'!$D158*Rekenvolumes!J105","v":0},{"$f":"'Wegingsfactor AD'!$D158*Rekenvolumes!K105","v":0},{"$f":"'Wegingsfactor AD'!$D158*Rekenvolumes!L105","v":0},{"$f":"'Wegingsfactor AD'!$D158*Rekenvolumes!M105","v":0},{"$f":"'Wegingsfactor AD'!$D158*Rekenvolumes!N105","v":0},{"$f":"'Wegingsfactor AD'!$D158*Rekenvolumes!O105","v":0},{"$f":"'Wegingsfactor AD'!$D158*Rekenvolumes!P105","v":0},{"$f":"SUM(E149:P149)","v":0}]
[null,"HD 10-16 m3/h",null,null,{"$f":"'Wegingsfactor AD'!$D159*Rekenvolumes!E106","v":0},{"$f":"'Wegingsfactor AD'!$D159*Rekenvolumes!F106","v":0},{"$f":"'Wegingsfactor AD'!$D159*Rekenvolumes!G106","v":0},{"$f":"'Wegingsfactor AD'!$D159*Rekenvolumes!H106","v":0},{"$f":"'Wegingsfactor AD'!$D159*Rekenvolumes!I106","v":0},{"$f":"'Wegingsfactor AD'!$D159*Rekenvolumes!J106","v":0},{"$f":"'Wegingsfactor AD'!$D159*Rekenvolumes!K106","v":0},{"$f":"'Wegingsfactor AD'!$D159*Rekenvolumes!L106","v":0},{"$f":"'Wegingsfactor AD'!$D159*Rekenvolumes!M106","v":0},{"$f":"'Wegingsfactor AD'!$D159*Rekenvolumes!N106","v":0},{"$f":"'Wegingsfactor AD'!$D159*Rekenvolumes!O106","v":0},{"$f":"'Wegingsfactor AD'!$D159*Rekenvolumes!P106","v":0},{"$f":"SUM(E150:P150)","v":0}]
[null,"HD 16-25 m3/h",null,null,{"$f":"'Wegingsfactor AD'!$D160*Rekenvolumes!E107","v":0},{"$f":"'Wegingsfactor AD'!$D160*Rekenvolumes!F107","v":0},{"$f":"'Wegingsfactor AD'!$D160*Rekenvolumes!G107","v":40.125308610563835},{"$f":"'Wegingsfactor AD'!$D160*Rekenvolumes!H107","v":0},{"$f":"'Wegingsfactor AD'!$D160*Rekenvolumes!I107","v":0},{"$f":"'Wegingsfactor AD'!$D160*Rekenvolumes!J107","v":0},{"$f":"'Wegingsfactor AD'!$D160*Rekenvolumes!K107","v":0},{"$f":"'Wegingsfactor AD'!$D160*Rekenvolumes!L107","v":0},{"$f":"'Wegingsfactor AD'!$D160*Rekenvolumes!M107","v":10.031327152640959},{"$f":"'Wegingsfactor AD'!$D160*Rekenvolumes!N107","v":0},{"$f":"'Wegingsfactor AD'!$D160*Rekenvolumes!O107","v":0},{"$f":"'Wegingsfactor AD'!$D160*Rekenvolumes!P107","v":0},50.15663576320479]
[null,"HD 25-40 m3/h",null,null,{"$f":"'Wegingsfactor AD'!$D161*Rekenvolumes!E108","v":0},{"$f":"'Wegingsfactor AD'!$D161*Rekenvolumes!F108","v":0},{"$f":"'Wegingsfactor AD'!$D161*Rekenvolumes!G108","v":40.755973158300165},{"$f":"'Wegingsfactor AD'!$D161*Rekenvolumes!H108","v":0},{"$f":"'Wegingsfactor AD'!$D161*Rekenvolumes!I108","v":0},{"$f":"'Wegingsfactor AD'!$D161*Rekenvolumes!J108","v":0},{"$f":"'Wegingsfactor AD'!$D161*Rekenvolumes!K108","v":0},{"$f":"'Wegingsfactor AD'!$D161*Rekenvolumes!L108","v":10.188993289575041},{"$f":"'Wegingsfactor AD'!$D161*Rekenvolumes!M108","v":0},{"$f":"'Wegingsfactor AD'!$D161*Rekenvolumes!N108","v":0},{"$f":"'Wegingsfactor AD'!$D161*Rekenvolumes!O108","v":0},{"$f":"'Wegingsfactor AD'!$D161*Rekenvolumes!P108","v":0},50.944966447875203]
[null,"HD 40-65 m3/h",null,null,{"$f":"'Wegingsfactor AD'!$D162*Rekenvolumes!E109","v":0},{"$f":"'Wegingsfactor AD'!$D162*Rekenvolumes!F109","v":0},{"$f":"'Wegingsfactor AD'!$D162*Rekenvolumes!G109","v":8866.5586862872824},{"$f":"'Wegingsfactor AD'!$D162*Rekenvolumes!H109","v":0},{"$f":"'Wegingsfactor AD'!$D162*Rekenvolumes!I109","v":0},{"$f":"'Wegingsfactor AD'!$D162*Rekenvolumes!J109","v":0},{"$f":"'Wegingsfactor AD'!$D162*Rekenvolumes!K109","v":1083.007427576136},{"$f":"'Wegingsfactor AD'!$D162*Rekenvolumes!L109","v":0},{"$f":"'Wegingsfactor AD'!$D162*Rekenvolumes!M109","v":135.375928447017},{"$f":"'Wegingsfactor AD'!$D162*Rekenvolumes!N109","v":0},{"$f":"'Wegingsfactor AD'!$D162*Rekenvolumes!O109","v":11559.156649383296},{"$f":"'Wegingsfactor AD'!$D162*Rekenvolumes!P109","v":0},21644.098691693733]
[null,"HD 65-100 m3/h",null,null,{"$f":"'Wegingsfactor AD'!$D163*Rekenvolumes!E110","v":523.2097233521996},{"$f":"'Wegingsfactor AD'!$D163*Rekenvolumes!F110","v":4011.2745457001965},{"$f":"'Wegingsfactor AD'!$D163*Rekenvolumes!G110","v":29172.659484223605},{"$f":"'Wegingsfactor AD'!$D163*Rekenvolumes!H110","v":0},{"$f":"'Wegingsfactor AD'!$D163*Rekenvolumes!I110","v":348.80648223479972},{"$f":"'Wegingsfactor AD'!$D163*Rekenvolumes!J110","v":0},{"$f":"'Wegingsfactor AD'!$D163*Rekenvolumes!K110","v":1744.0324111739985},{"$f":"'Wegingsfactor AD'!$D163*Rekenvolumes!L110","v":174.40324111739986},{"$f":"'Wegingsfactor AD'!$D163*Rekenvolumes!M110","v":1597.5336886353828},{"$f":"'Wegingsfactor AD'!$D163*Rekenvolumes!N110","v":0},{"$f":"'Wegingsfactor AD'!$D163*Rekenvolumes!O110","v":49695.367780518965},{"$f":"'Wegingsfactor AD'!$D163*Rekenvolumes!P110","v":0},87267.287356956542]
[null,"HD 100-160 m3/h",null,null,{"$f":"'Wegingsfactor AD'!$D164*Rekenvolumes!E111","v":327.98585801499314},{"$f":"'Wegingsfactor AD'!$D164*Rekenvolumes!F111","v":1639.9292900749656},{"$f":"'Wegingsfactor AD'!$D164*Rekenvolumes!G111","v":35458.05802541865},{"$f":"'Wegingsfactor AD'!$D164*Rekenvolumes!H111","v":0},{"$f":"'Wegingsfactor AD'!$D164*Rekenvolumes!I111","v":327.98585801499314},{"$f":"'Wegingsfactor AD'!$D164*Rekenvolumes!J111","v":491.97878702248971},{"$f":"'Wegingsfactor AD'!$D164*Rekenvolumes!K111","v":1147.9505030524761},{"$f":"'Wegingsfactor AD'!$D164*Rekenvolumes!L111","v":491.97878702248971},{"$f":"'Wegingsfactor AD'!$D164*Rekenvolumes!M111","v":2295.9010061049521},{"$f":"'Wegingsfactor AD'!$D164*Rekenvolumes!N111","v":81.996464503748285},{"$f":"'Wegingsfactor AD'!$D164*Rekenvolumes!O111","v":57299.20954978434},{"$f":"'Wegingsfactor AD'!$D164*Rekenvolumes!P111","v":0},99562.974129014096]
[null,"HD 160-250 m3/h",null,null,{"$f":"'Wegingsfactor AD'!$D165*Rekenvolumes!E112","v":5180.0922549266752},{"$f":"'Wegingsfactor AD'!$D165*Rekenvolumes!F112","v":8558.41329074842},{"$f":"'Wegingsfactor AD'!$D165*Rekenvolumes!G112","v":35853.560259565573},{"$f":"'Wegingsfactor AD'!$D165*Rekenvolumes!H112","v":450.44280477623261},{"$f":"'Wegingsfactor AD'!$D165*Rekenvolumes!I112","v":1576.5498167168141},{"$f":"'Wegingsfactor AD'!$D165*Rekenvolumes!J112","v":0},{"$f":"'Wegingsfactor AD'!$D165*Rekenvolumes!K112","v":4504.4280477623261},{"$f":"'Wegingsfactor AD'!$D165*Rekenvolumes!L112","v":2923.7174259461722},{"$f":"'Wegingsfactor AD'!$D165*Rekenvolumes!M112","v":4729.6494501504421},{"$f":"'Wegingsfactor AD'!$D165*Rekenvolumes!N112","v":563.05350597029076},{"$f":"'Wegingsfactor AD'!$D165*Rekenvolumes!O112","v":109084.73893089668},{"$f":"'Wegingsfactor AD'!$D165*Rekenvolumes!P112","v":0},173424.64578745962]
[null,"HD 250-400 m3/h ",null,null,{"$f":"'Wegingsfactor AD'!$D166*Rekenvolumes!E113","v":2629.2072099496008},{"$f":"'Wegingsfactor AD'!$D166*Rekenvolumes!F113","v":5959.5363425524283},{"$f":"'Wegingsfactor AD'!$D166*Rekenvolumes!G113","v":94058.834445103756},{"$f":"'Wegingsfactor AD'!$D166*Rekenvolumes!H113","v":0},{"$f":"'Wegingsfactor AD'!$D166*Rekenvolumes!I113","v":2278.6462486229875},{"$f":"'Wegingsfactor AD'!$D166*Rekenvolumes!J113","v":175.28048066330672},{"$f":"'Wegingsfactor AD'!$D166*Rekenvolumes!K113","v":4031.4510552560546},{"$f":"'Wegingsfactor AD'!$D166*Rekenvolumes!L113","v":5774.3449714755543},{"$f":"'Wegingsfactor AD'!$D166*Rekenvolumes!M113","v":3377.6548623819203},{"$f":"'Wegingsfactor AD'!$D166*Rekenvolumes!N113","v":2278.6462486229875},{"$f":"'Wegingsfactor AD'!$D166*Rekenvolumes!O113","v":77996.606703370082},{"$f":"'Wegingsfactor AD'!$D166*Rekenvolumes!P113","v":0},198560.20856799866]
[null,"HD 400-650 m3/h ",null,null,{"$f":"'Wegingsfactor AD'!$D167*Rekenvolumes!E114","v":2405.8606477560161},{"$f":"'Wegingsfactor AD'!$D167*Rekenvolumes!F114","v":4009.7677462600273},{"$f":"'Wegingsfactor AD'!$D167*Rekenvolumes!G114","v":64488.691151373721},{"$f":"'Wegingsfactor AD'!$D167*Rekenvolumes!H114","v":11182.14883294175},{"$f":"'Wegingsfactor AD'!$D167*Rekenvolumes!I114","v":4277.0855960106956},{"$f":"'Wegingsfactor AD'!$D167*Rekenvolumes!J114","v":2138.5427980053478},{"$f":"'Wegingsfactor AD'!$D167*Rekenvolumes!K114","v":10692.713990026739},{"$f":"'Wegingsfactor AD'!$D167*Rekenvolumes!L114","v":18407.321237774562},{"$f":"'Wegingsfactor AD'!$D167*Rekenvolumes!M114","v":2361.3076727975713},{"$f":"'Wegingsfactor AD'!$D167*Rekenvolumes!N114","v":13098.574637782755},{"$f":"'Wegingsfactor AD'!$D167*Rekenvolumes!O114","v":76334.461682254288},{"$f":"'Wegingsfactor AD'!$D167*Rekenvolumes!P114","v":0},209396.4759929835]
[null,"HD 650-1000 m3/h ",null,null,{"$f":"'Wegingsfactor AD'!$D168*Rekenvolumes!E115","v":1007.6673153058316},{"$f":"'Wegingsfactor AD'!$D168*Rekenvolumes!F115","v":503.8336576529158},{"$f":"'Wegingsfactor AD'!$D168*Rekenvolumes!G115","v":60906.543491286036},{"$f":"'Wegingsfactor AD'!$D168*Rekenvolumes!H115","v":501.88821206441014},{"$f":"'Wegingsfactor AD'!$D168*Rekenvolumes!I115","v":1259.5841441322896},{"$f":"'Wegingsfactor AD'!$D168*Rekenvolumes!J115","v":503.8336576529158},{"$f":"'Wegingsfactor AD'!$D168*Rekenvolumes!K115","v":8565.1721800995692},{"$f":"'Wegingsfactor AD'!$D168*Rekenvolumes!L115","v":14092.258641992801},{"$f":"'Wegingsfactor AD'!$D168*Rekenvolumes!M115","v":1274.699153861877},{"$f":"'Wegingsfactor AD'!$D168*Rekenvolumes!N115","v":8691.130594512797},{"$f":"'Wegingsfactor AD'!$D168*Rekenvolumes!O115","v":42190.327141697286},{"$f":"'Wegingsfactor AD'!$D168*Rekenvolumes!P115","v":0},139496.93819025875]
[null,"HD 1000-1600 m3/h ",null,null,{"$f":"'Wegingsfactor AD'!$D169*Rekenvolumes!E116","v":0},{"$f":"'Wegingsfactor AD'!$D169*Rekenvolumes!F116","v":791.80932942052902},{"$f":"'Wegingsfactor AD'!$D169*Rekenvolumes!G116","v":54841.095975448276},{"$f":"'Wegingsfactor AD'!$D169*Rekenvolumes!H116","v":10229.915867537416},{"$f":"'Wegingsfactor AD'!$D169*Rekenvolumes!I116","v":1979.5233235513226},{"$f":"'Wegingsfactor AD'!$D169*Rekenvolumes!J116","v":0},{"$f":"'Wegingsfactor AD'!$D169*Rekenvolumes!K116","v":8313.9979589155555},{"$f":"'Wegingsfactor AD'!$D169*Rekenvolumes!L116","v":24122.205299766119},{"$f":"'Wegingsfactor AD'!$D169*Rekenvolumes!M116","v":2375.427988261587},{"$f":"'Wegingsfactor AD'!$D169*Rekenvolumes!N116","v":14120.599707999436},{"$f":"'Wegingsfactor AD'!$D169*Rekenvolumes!O116","v":22099.507122581614},{"$f":"'Wegingsfactor AD'!$D169*Rekenvolumes!P116","v":0},138874.08257348186]
[null,"HD 1600-2500 m3/h ",null,null,{"$f":"'Wegingsfactor AD'!$D170*Rekenvolumes!E117","v":0},{"$f":"'Wegingsfactor AD'!$D170*Rekenvolumes!F117","v":0},{"$f":"'Wegingsfactor AD'!$D170*Rekenvolumes!G117","v":15563.786817549822},{"$f":"'Wegingsfactor AD'!$D170*Rekenvolumes!H117","v":0},{"$f":"'Wegingsfactor AD'!$D170*Rekenvolumes!I117","v":0},{"$f":"'Wegingsfactor AD'!$D170*Rekenvolumes!J117","v":1295.1642341789034},{"$f":"'Wegingsfactor AD'!$D170*Rekenvolumes!K117","v":3561.7016439919844},{"$f":"'Wegingsfactor AD'!$D170*Rekenvolumes!L117","v":1667.7192041798173},{"$f":"'Wegingsfactor AD'!$D170*Rekenvolumes!M117","v":1618.9552927236291},{"$f":"'Wegingsfactor AD'!$D170*Rekenvolumes!N117","v":2266.537409813081},{"$f":"'Wegingsfactor AD'!$D170*Rekenvolumes!O117","v":5474.2394373225852},{"$f":"'Wegingsfactor AD'!$D170*Rekenvolumes!P117","v":0},31448.104039759826]
[null,"HD >2500 m3/h",null,null,{"$f":"'Wegingsfactor AD'!$D171*Rekenvolumes!E118","v":0},{"$f":"'Wegingsfactor AD'!$D171*Rekenvolumes!F118","v":0},{"$f":"'Wegingsfactor AD'!$D171*Rekenvolumes!G118","v":6731.0542720486774},{"$f":"'Wegingsfactor AD'!$D171*Rekenvolumes!H118","v":390.28821531429151},{"$f":"'Wegingsfactor AD'!$D171*Rekenvolumes!I118","v":0},{"$f":"'Wegingsfactor AD'!$D171*Rekenvolumes!J118","v":391.83914278103686},{"$f":"'Wegingsfactor AD'!$D171*Rekenvolumes!K118","v":1567.3565711241474},{"$f":"'Wegingsfactor AD'!$D171*Rekenvolumes!L118","v":0},{"$f":"'Wegingsfactor AD'!$D171*Rekenvolumes!M118","v":587.75871417155531},{"$f":"'Wegingsfactor AD'!$D171*Rekenvolumes!N118","v":13877.636306828388},{"$f":"'Wegingsfactor AD'!$D171*Rekenvolumes!O118","v":617.90724882237282},{"$f":"'Wegingsfactor AD'!$D171*Rekenvolumes!P118","v":0},24163.840471090469]
[]
[null,"EHD 0-40 m3/h",null,null,{"$f":"'Wegingsfactor AD'!$D173*Rekenvolumes!E120","v":0},{"$f":"'Wegingsfactor AD'!$D173*Rekenvolumes!F120","v":0},{"$f":"'Wegingsfactor AD'!$D173*Rekenvolumes!G120","v":0},{"$f":"'Wegingsfactor AD'!$D173*Rekenvolumes!H120","v":0},{"$f":"'Wegingsfactor AD'!$D173*Rekenvolumes!I120","v":0},{"$f":"'Wegingsfactor AD'!$D173*Rekenvolumes!J120","v":0},{"$f":"'Wegingsfactor AD'!$D173*Rekenvolumes!K120","v":0},{"$f":"'Wegingsfactor AD'!$D173*Rekenvolumes!L120","v":0},{"$f":"'Wegingsfactor AD'!$D173*Rekenvolumes!M120","v":0},{"$f":"'Wegingsfactor AD'!$D173*Rekenvolumes!N120","v":0},{"$f":"'Wegingsfactor AD'!$D173*Rekenvolumes!O120","v":0},{"$f":"'Wegingsfactor AD'!$D173*Rekenvolumes!P120","v":0},0]
[null,"EHD >40 m3/h",null,null,{"$f":"'Wegingsfactor AD'!$D174*Rekenvolumes!E121","v":0},{"$f":"'Wegingsfactor AD'!$D174*Rekenvolumes!F121","v":261364.52987890228},{"$f":"'Wegingsfactor AD'!$D174*Rekenvolumes!G121","v":0},{"$f":"'Wegingsfactor AD'!$D174*Rekenvolumes!H121","v":0},{"$f":"'Wegingsfactor AD'!$D174*Rekenvolumes!I121","v":0},{"$f":"'Wegingsfactor AD'!$D174*Rekenvolumes!J121","v":0},{"$f":"'Wegingsfactor AD'!$D174*Rekenvolumes!K121","v":0},{"$f":"'Wegingsfactor AD'!$D174*Rekenvolumes!L121","v":0},{"$f":"'Wegingsfactor AD'!$D174*Rekenvolumes!M121","v":0},{"$f":"'Wegingsfactor AD'!$D174*Rekenvolumes!N121","v":0},{"$f":"'Wegingsfactor AD'!$D174*Rekenvolumes!O121","v":60314.89151051591},{"$f":"'Wegingsfactor AD'!$D174*Rekenvolumes!P121","v":0},321679.42138941819]
[]
[null,"Subtotaal SO 2010 Aansluitdienst",null,null,{"$f":"SUM(E89:E165)","v":3333467.0006211209},{"$f":"SUM(F89:F165)","v":4319049.4412500747},44797271.444212086,1267200.3358313222,3233900.2857341468,4328230.1432380313,48007998.392647274,4538808.316824154,2313931.9599827318,1730394.3066264482,43177340.55048877,0,{"$f":"SUM(Q89:Q165)","v":161047592.17745617}]
[]
[null,"Samengestelde Output 2010",null,null,{"$f":"E86+E167","v":18049980.233812846},25059868.399370316,244058404.3944627,7882121.8257502355,19879210.349126369,24606360.988983441,273908551.88249797,27563626.547183361,13159797.441195995,16205158.854572399,249176058.54330367,4366605.9895585477,923915745.4498179]

{"sheet":"Wegingsfactor TD","index":11,"n_rows":98,"n_cols":16,"rows_kept":98,"cut":false,"hidden":false,"merged":[]}
[]
[null,"Wegingsfactor Transportdienst",null,null,"Cogas Infra & Beheer B.V.","DELTA Netwerkbedrijf B.V.","Stedin B.V.","Endinet Haarlemmermeer B.V.","Intergas Energie B.V.","Endinet Regio Eindhoven B.V.","Liander N.V.","Endinet Oost-Brabant N.V.","N.V. RENDO","Westland Energie Infrastructuur B.V.","Enexis B.V.","Zebra Gasnetwerk B.V."]
[]
[null,"Tarieven 2010"]
[]
[null,"Kleinverbruik"]
[null,"Vastrecht (TOVT)","€",null,18,18,18,18,18,18,18,18,18,18,18]
[null,"Capaciteitsafhankelijk tarief (TAVTc)","€",null,25.169799999999999,25.2,23.2,20.735800000000001,23.78,22.209099999999999,23.1,22.209099999999999,28.11,16.940000000000001,21.9908]
[]
[null,"Profielgrootverbruik"]
[null,"Vastrecht (TOVT)","€",null,18,18,18,18,18,18,18,18,18,18,18]
[null,"Capaciteitsafhankelijk tarief (TAVTc)","€",null,25.169799999999999,25.2,23.2,20.161100000000001,23.78,20.442499999999999,23.1,21.850300000000001,28.11,16.940000000000001,21.9908]
[]
[null,"Telemetriegrootverbruik (< 16 bar)"]
[null,"Vastrecht (TOVT)","€",null,237.48,492.36,719.04,1085.8800000000001,1082.47,590.28,540,1020.26,687,60,972]
[null,"Capaciteitsafhankelijk tarief (TAVTc) lage druk","€",null,27.48,21.06,null,null,null,null,25.405200000000001,null,31.099]
[null,"Capaciteitsafhankelijk tarief (TAVTc) hoge druk","€",null,18.36,21.06,null,null,null,null,12.9252,null,23.6]
[null,"Capaciteitsafhankelijk tarief (TAVTc) standaard","€",null,null,null,23.2,25.491199999999999,23.78,19.243500000000001,null,19.169899999999998,null,25.55,21]
[null,"Capaciteitsafhankelijk tarief (TAVTc) gestandaardiseerd","€",null,{"$f":"IF(E18<>\"\",E18,SUMPRODUCT(E16:E17,Rekenvolumes!E36:E37)/SUM(Rekenvolumes!E36:E37))","v":21.197891768927622},{"$f":"IF(F18<>\"\",F18,SUMPRODUCT(F16:F17,Rekenvolumes!F36:F37)/SUM(Rekenvolumes!F36:F37))","v":21.06},{"$f":"IF(G18<>\"\",G18,SUMPRODUCT(G16:G17,Rekenvolumes!G36:G37)/SUM(Rekenvolumes!G36:G37))","v":23.2},{"$f":"IF(H18<>\"\",H18,SUMPRODUCT(H16:H17,Rekenvolumes!H36:H37)/SUM(Rekenvolumes!H36:H37))","v":25.491199999999999},{"$f":"IF(I18<>\"\",I18,SUMPRODUCT(I16:I17,Rekenvolumes!I36:I37)/SUM(Rekenvolumes!I36:I37))","v":23.78},{"$f":"IF(J18<>\"\",J18,SUMPRODUCT(J16:J17,Rekenvolumes!J36:J37)/SUM(Rekenvolumes!J36:J37))","v":19.243500000000001},{"$f":"IF(K18<>\"\",K18,SUMPRODUCT(K16:K17,Rekenvolumes!K36:K37)/SUM(Rekenvolumes!K36:K37))","v":15.535992052425099},{"$f":"IF(L18<>\"\",L18,SUMPRODUCT(L16:L17,Rekenvolumes!L36:L37)/SUM(Rekenvolumes!L36:L37))","v":19.169899999999998},{"$f":"IF(M18<>\"\",M18,SUMPRODUCT(M16:M17,Rekenvolumes!M36:M37)/SUM(Rekenvolumes!M36:M37))","v":24.564791019418397},{"$f":"IF(N18<>\"\",N18,SUMPRODUCT(N16:N17,Rekenvolumes!N36:N37)/SUM(Rekenvolumes!N36:N37))","v":25.55},{"$f":"IF(O18<>\"\",O18,SUMPRODUCT(O16:O17,Rekenvolumes!O36:O37)/SUM(Rekenvolumes!O36:O37))","v":21}]
[]
[null,"Extra Hoge Druk (>= 16 bar)"]
[null,"Vastrecht (TOVT)","€",null,null,492.36,null,null,null,null,null,null,null,null,972,972]
[null,"Capaciteitsafhankelijk tarief (TAVTc)","€",null,null,21.06,null,null,null,null,null,null,null,null,11.4,18.175000000000001]
[]
[null,"Totale Inkomsten 2010 (op basis van rekenvolumes 2008-2010)","€",null,{"$f":"SUMPRODUCT(E7:E18,Rekenvolumes!E7:E18)+SUMPRODUCT(E22:E23,Rekenvolumes!E21:E22)","v":15525816.527999999},{"$f":"SUMPRODUCT(F7:F18,Rekenvolumes!F7:F18)+SUMPRODUCT(F22:F23,Rekenvolumes!F21:F22)","v":20626947},{"$f":"SUMPRODUCT(G7:G18,Rekenvolumes!G7:G18)+SUMPRODUCT(G22:G23,Rekenvolumes!G21:G22)","v":195160361.12},{"$f":"SUMPRODUCT(H7:H18,Rekenvolumes!H7:H18)+SUMPRODUCT(H22:H23,Rekenvolumes!H21:H22)","v":6299381.7170000002},{"$f":"SUMPRODUCT(I7:I18,Rekenvolumes!I7:I18)+SUMPRODUCT(I22:I23,Rekenvolumes!I21:I22)","v":16944003.690000001},{"$f":"SUMPRODUCT(J7:J18,Rekenvolumes!J7:J18)+SUMPRODUCT(J22:J23,Rekenvolumes!J21:J22)","v":19527074.378400002},{"$f":"SUMPRODUCT(K7:K18,Rekenvolumes!K7:K18)+SUMPRODUCT(K22:K23,Rekenvolumes!K21:K22)","v":222791582.02080002},{"$f":"SUMPRODUCT(L7:L18,Rekenvolumes!L7:L18)+SUMPRODUCT(L22:L23,Rekenvolumes!L21:L22)","v":21795836.552999999},{"$f":"SUMPRODUCT(M7:M18,Rekenvolumes!M7:M18)+SUMPRODUCT(M22:M23,Rekenvolumes!M21:M22)","v":12692977.323999999},{"$f":"SUMPRODUCT(N7:N18,Rekenvolumes!N7:N18)+SUMPRODUCT(N22:N23,Rekenvolumes!N21:N22)","v":14846180.350000001},{"$f":"SUMPRODUCT(O7:O18,Rekenvolumes!O7:O18)+SUMPRODUCT(O22:O23,Rekenvolumes!O21:O22)","v":197119094.11720002},{"$f":"SUMPRODUCT(P7:P18,Rekenvolumes!P7:P18)+SUMPRODUCT(P22:P23,Rekenvolumes!P21:P22)","v":8137473.8500000006}]
[]
[null,"Correctiebedragen voor nacalculaties 2010 (te verwijderen uit TI 2010)"]
[]
[null,"Nacalculatie tweede reguleringsperiode (Naci,2RP)","€",null,-425462.32970531494,-531697.11032755242,-5881711.6287014037,-183537.68200923191,-467206.857679935,-581622.1734642206,-6681866.4576048376,-680950.61475811596,-343117.19612885843,-406719.277026041,-6624078.9223011211,0]
[null,"Nacalculatie januari 2007 (Naci,jan2007)","€",null,16412.645257187207,-83671.615882577622,77837.709076901127,-1432.0533807408187,5909.1242338834927,34255.594383577845,-14671.825603570827,-30041.529303292988,-23722.779815301426,90750.798675164304,119051.53932328163,0]
[null,"Nacalculatie eerste helft 2008 (Naci,S1_2008)","€",null,-130890.7378081247,-414627.16539065464,-1804009.9095961149,-88687.617723614327,-159720.72093197197,-311365.38800965034,-2855458.7127217422,-254970.87875305294,-40081.142948722212,-280637.68088652455,-2975457.8895500787,-48897.954899541808]
[null,"Nacalculatie TI2008 (Naci,TI2008)","€",null,89927.385335277679,162580.23075513548,1368783.6179158122,47764.937496979546,98490.987865970106,150422.16762029257,1653355.8947389426,169971.5615378746,67739.465405981275,101179.54189674724,1564235.3010851764,62959.355315417044]
[null,"Nacalculatie TI2009 (Naci,TI2009)","€",null,168265.48427436635,295670.81702202669,2552013.3038059203,86775.493203602644,184100.48734323902,271837.80928637809,3022603.5552472668,305868.13953652623,130241.46125236312,190574.81811145321,2799943.1776146479,113777.30722319828]
[null,"Aanpassing van de nacalculatie tweede reguleringsperiode (Naci,2RPWZ)","€",null,241692.54591468349,305841.25923682778,3294035.0430194051,108128.03181450749,276699.55162425974,340256.12324386026,3823317.57621744,392731.05479646637,197899.84400571286,240622.26767403746,3692035.1482693139,0]
[null,"Aanpassing van de nacalculatie eerste helft 2008 (Naci,S1_2008WZ)","€",null,53658.17993058086,377244.69259956339,599396.43178454856,23705.176525715739,48970.589156893941,74827.906890074883,822469.93604064791,84093.285970845114,33724.741046915886,16523.008365884583,656326.31520142767,-172170.63993890796]
[null,"Nacalculatie lokale heffingen (Naci,LH)","€",null,-35971.100200727531,0,-448372.57753927342,0,-19698.164961884951,0,551118.74943817663,0,-40643.925818261472,0,260705.82167919757,0]
[null,"Nacalculatie faillisement Go-Energy (Naci,2010, GoEn)","€",null,0,0,0,0,0,0,0,0,0,0,107652.277503559,0]
[null,"Totaalbedrag nacalculatie in tarieven 2010","€",null,{"$f":"SUM(E29:E37)","v":-22367.927002071679},{"$f":"SUM(F29:F37)","v":111341.10801276873},-242028.0102342047,-7283.7140727816004,-32455.003349545648,-21387.960049687201,320868.71575232351,-13298.980972749501,-17959.533000170406,-47706.523189278829,-399587.23117459624,-44331.932299834443]
[]
[null,"Totale Inkomsten 2010 uit vastrecht kleinverbruik en profielgrootverbruik 2010","€",null,{"$f":"E7*Rekenvolumes!E7+'Wegingsfactor TD'!E11*Rekenvolumes!E11","v":2343798},{"$f":"F7*Rekenvolumes!F7+'Wegingsfactor TD'!F11*Rekenvolumes!F11","v":3243348},{"$f":"G7*Rekenvolumes!G7+'Wegingsfactor TD'!G11*Rekenvolumes!G11","v":31585824},{"$f":"H7*Rekenvolumes!H7+'Wegingsfactor TD'!H11*Rekenvolumes!H11","v":1017396},{"$f":"I7*Rekenvolumes!I7+'Wegingsfactor TD'!I11*Rekenvolumes!I11","v":2561526},{"$f":"J7*Rekenvolumes!J7+'Wegingsfactor TD'!J11*Rekenvolumes!J11","v":3275622},{"$f":"K7*Rekenvolumes!K7+'Wegingsfactor TD'!K11*Rekenvolumes!K11","v":37600650},{"$f":"L7*Rekenvolumes!L7+'Wegingsfactor TD'!L11*Rekenvolumes!L11","v":3464172},{"$f":"M7*Rekenvolumes!M7+'Wegingsfactor TD'!M11*Rekenvolumes!M11","v":1756440},{"$f":"N7*Rekenvolumes!N7+'Wegingsfactor TD'!N11*Rekenvolumes!N11","v":857214},{"$f":"O7*Rekenvolumes!O7+'Wegingsfactor TD'!O11*Rekenvolumes!O11","v":32562504},{"$f":"P7*Rekenvolumes!P7+'Wegingsfactor TD'!P11*Rekenvolumes!P11","v":0}]
[null,"Totale Inkomsten 2010 uit niet-vastrecht kleinverbruik en profielgrootverbruik 2010","€",null,{"$f":"E25-E40","v":13182018.527999999},17383599,163574537.12,5281985.7170000002,14382477.690000001,16251452.378400002,185190932.02080002,18331664.552999999,10936537.323999999,13988966.350000001,164556590.11720002,8137473.8500000006]
[null,"TI2010 uit niet-vastrecht kleinverbruik en profielgrootverbruik zonder nacalculatie-inkomsten","€",null,{"$f":"E41-E38","v":13204386.455002071},{"$f":"F41-F38","v":17272257.891987231},{"$f":"G41-G38","v":163816565.13023421},{"$f":"H41-H38","v":5289269.4310727818},{"$f":"I41-I38","v":14414932.693349548},16272840.338449689,184870063.30504769,18344963.533972748,10954496.85700017,14036672.87318928,164956177.34837461,8181805.7822998352]
[]
[null,"Tarieven 2010 gecorrigeerd voor nacalculaties"]
[]
[null,"Kleinverbruik"]
[null,"Vastrecht (TOVT)","€",null,{"$f":"E7","v":18},{"$f":"F7","v":18},18,18,18,18,18,18,18,18,18,0]
[null,"Capaciteitsafhankelijk tarief (TAVTc)","€",null,{"$f":"E8*(E$42/E$41)","v":25.212509411146772},{"$f":"F8*(F$42/F$41)","v":25.038595222892464},23.234327163238827,20.764394101984088,23.83366112823445,22.23832860877166,23.059976078455904,22.225211924668269,28.1561610889881,16.997770422960979,22.044199519746101,0]
[]
[null,"Profielgrootverbruik"]
[null,"Vastrecht (TOVT)","€",null,{"$f":"E11","v":18},{"$f":"F11","v":18},18,18,18,18,18,18,18,18,18,0]
[null,"Capaciteitsafhankelijk tarief (TAVTc)","€",null,{"$f":"E12*(E$42/E$41)","v":25.212509411146772},{"$f":"F12*(F$42/F$41)","v":25.038595222892464},23.234327163238827,20.188901606376959,23.83366112823445,20.469403649171493,23.059976078455904,21.866151627827289,28.1561610889881,16.997770422960979,22.044199519746101,0]
[]
[null,"Telemetriegrootverbruik (< 16 bar)"]
[null,"Vastrecht (TOVT)","€",null,{"$f":"E15*(E$42/E$41)","v":237.88296827782244},{"$f":"F15*(F$42/F$41)","v":489.20645809298941},720.10390532134682,1087.3773988687431,1084.9126644861205,591.05684657125835,539.06437586000811,1021.0001629179952,688.12816322073377,60.204617790888946,974.36027489646619,0]
[null,"Capaciteitsafhankelijk tarief (TAVTc) lage druk","€",null,{"$f":"E16*(E$42/E$41)","v":27.526629477322558},{"$f":"F16*(F$42/F$41)","v":20.925111721988699},0,0,0,0,25.361182002960515,0,31.150069502185733,0,0,0]
[null,"Capaciteitsafhankelijk tarief (TAVTc) hoge druk","€",null,{"$f":"E17*(E$42/E$41)","v":18.391154192272275},20.925111721988699,0,0,0,0,12.902805316418105,0,23.638754951978626,0,0,0]
[null,"Capaciteitsafhankelijk tarief (TAVTc) standaard","€",null,0,0,23.234327163238827,25.526351668732179,23.83366112823445,19.26882568779903,0,19.183807091448919,0,25.637133075953543,21.050993593442172,0]
[]
[null,"Extra Hoge Druk (>= 16 bar)"]
[null,"Vastrecht (TOVT)","€",null,{"$f":"E22*(E$42/E$41)","v":0},{"$f":"F22*(F$42/F$41)","v":489.20645809298941},{"$f":"G22*(G$42/G$41)","v":0},0,0,0,0,0,0,0,{"$f":"O22*(O$42/O$41)","v":974.36027489646619},{"$f":"P22*(P$42/P$41)","v":977.29533353836086}]
[null,"Capaciteitsafhankelijk tarief (TAVTc)","€",null,{"$f":"E23*(E$42/E$41)","v":0},{"$f":"F23*(F$42/F$41)","v":20.925111721988699},{"$f":"G23*(G$42/G$41)","v":0},0,0,0,0,0,0,0,{"$f":"O23*(O$42/O$41)","v":11.427682236440036},{"$f":"P23*(P$42/P$41)","v":18.274015110143736}]
[]
[null,"Telemetriegrootverbruik (tbv sectortarieven)"]
[null,"Capaciteitsafhankelijk tarief (TAVTc) gestandaardiseerd","€",null,{"$f":"E19*(E$42/E$41)","v":21.233861441908889},{"$f":"F19*(F$42/F$41)","v":20.925111721988699},23.234327163238827,25.526351668732179,23.83366112823445,19.26882568779903,15.509073813160338,19.183807091448919,24.605130311635453,25.637133075953543,21.050993593442172,0]
[]
[null,"Aanpassing wegingsfactor 2010 Enexis en Zebra"]
[]
[null,"'Prestatie' EHD Enexis + EHD Zebra (PEHD)",null,{"$f":"SUMPRODUCT(O61:P62,Rekenvolumes!O41:P42)","v":10360441.314443931}]
[]
[null,"Kosten EHD (OPEX + CAPEX) 2009 Enexis","€",{"$f":"1000*('Kosten TD'!O201+'Kosten TD'!O206)","v":110901.6347306789}]
[null,"Kosten EHD (OPEX + CAPEX) 2009 Zebra","€",{"$f":"1000*('Kosten TD'!P201+'Kosten TD'!P206)","v":5114228.6693357732}]
[null,"Kosten Transportdienst 2009 excl. ORV, minus EHD Enexis en Zebra","€",{"$f":"Eindinkomsten!Q12-'Wegingsfactor TD'!D71-'Wegingsfactor TD'!D72","v":847132246.12821281}]
[null,"SO Transportdienst 2010 excl. EHD Enexis en Zebra",null,{"$f":"SUM(SO!E71:N84)+SUM(SO!O71:P80)","v":758191610.76110291}]
[]
[null,"'Gecorrigeerde prestatie' EHD Enexis + EHD Zebra (GPEHD)",null,{"$f":"((D71+D72)*D74)/D73","v":4676542.5112588648}]
[]
[null,"Wegingsfactor 2010 Transportdienst"]
[]
[null,"Kleinverbruik"]
[null,"Vastrecht (TOVT)",null,{"$f":"SUMPRODUCT(E47:P47,Rekenvolumes!E27:P27)/SUM(Rekenvolumes!E27:P27)","v":18.000000000000004}]
[null,"Capaciteitsafhankelijk tarief (TAVTc)",null,{"$f":"SUMPRODUCT(E48:P48,Rekenvolumes!E28:P28)/SUM(Rekenvolumes!E28:P28)","v":22.90475459845516}]
[]
[null,"Profielgrootverbruik"]
[null,"Vastrecht (TOVT)",null,{"$f":"SUMPRODUCT(E51:P51,Rekenvolumes!E31:P31)/SUM(Rekenvolumes!E31:P31)","v":18.000000000000004}]
[null,"Capaciteitsafhankelijk tarief (TAVTc)",null,{"$f":"SUMPRODUCT(E52:P52,Rekenvolumes!E32:P32)/SUM(Rekenvolumes!E32:P32)","v":22.649571571522564}]
[]
[null,"Telemetriegrootverbruik (< 16 bar)"]
[null,"Vastrecht (TOVT)",null,{"$f":"(SUMPRODUCT(E55:P55,Rekenvolumes!E35:P35)+F61*Rekenvolumes!F41)/(SUM(Rekenvolumes!E35:P35)+Rekenvolumes!F41)","v":664.16493486109903}]
[null,"Capaciteitsafhankelijk tarief (TAVTc) gestandaardiseerd",null,{"$f":"(SUMPRODUCT(E65:P65,Rekenvolumes!E38:P38)+F62*Rekenvolumes!F42)/(SUM(Rekenvolumes!E38:P38)+Rekenvolumes!F42)","v":20.886200303011325}]
[]
[null,"Extra hoge druk (>= 16 bar) Enexis"]
[null,"Vastrecht (TOVT)",null,{"$f":"O61*($D$76/$D$69)","v":439.81111504223247}]
[null,"Capaciteitsafhankelijk tarief (TAVTc)",null,{"$f":"O62*($D$76/$D$69)","v":5.1582785097545782}]
[]
[null,"Extra hoge druk (>= 16 bar) Zebra"]
[null,"Vastrecht (TOVT)",null,{"$f":"P61*($D$76/$D$69)","v":441.13595498826083}]
[null,"Capaciteitsafhankelijk tarief (TAVTc)",null,{"$f":"P62*($D$76/$D$69)","v":8.2486069772753527}]

{"sheet":"Wegingsfactor AD","index":12,"n_rows":174,"n_cols":16,"rows_kept":174,"cut":false,"hidden":false,"merged":[]}
[]
[null,"Wegingsfactor Aansluitdienst",null,null,"Cogas Infra & Beheer B.V.","DELTA Netwerkbedrijf B.V.","Stedin B.V.","Endinet Haarlemmermeer B.V.","Intergas Energie B.V.","Endinet Regio Eindhoven B.V.","Liander N.V.","Endinet Oost-Brabant N.V.","N.V. RENDO","Westland Energie Infrastructuur B.V.","Enexis B.V.","Zebra Gasnetwerk B.V."]
[]
[null,"Tarieven 2010 volgens nieuwe tariefstructuur"]
[]
[null,"Eenmalige aansluitvergoeding"]
[null,"LD 0-10 m3/h","€",null,{"$f":"IF(Rekenvolumes!E45>0,(1000*'Vergoedingen AD'!E93/Rekenvolumes!E45)*(1+CPIv2009n2010),0)","v":752.76110319148938},{"$f":"IF(Rekenvolumes!F45>0,(1000*'Vergoedingen AD'!F93/Rekenvolumes!F45)*(1+CPIv2009n2010),0)","v":692.68182999999999},{"$f":"IF(Rekenvolumes!G45>0,(1000*'Vergoedingen AD'!G93/Rekenvolumes!G45)*(1+CPIv2009n2010),0)","v":625.80178999999987},{"$f":"IF(Rekenvolumes!H45>0,(1000*'Vergoedingen AD'!H93/Rekenvolumes!H45)*(1+CPIv2009n2010),0)","v":630.88699999999994},{"$f":"IF(Rekenvolumes!I45>0,(1000*'Vergoedingen AD'!I93/Rekenvolumes!I45)*(1+CPIv2009n2010),0)","v":674.01599999999996},{"$f":"IF(Rekenvolumes!J45>0,(1000*'Vergoedingen AD'!J93/Rekenvolumes!J45)*(1+CPIv2009n2010),0)","v":743.55268785961425},{"$f":"IF(Rekenvolumes!K45>0,(1000*'Vergoedingen AD'!K93/Rekenvolumes!K45)*(1+CPIv2009n2010),0)","v":669.00754181225238},{"$f":"IF(Rekenvolumes!L45>0,(1000*'Vergoedingen AD'!L93/Rekenvolumes!L45)*(1+CPIv2009n2010),0)","v":630.88699999999994},{"$f":"IF(Rekenvolumes!M45>0,(1000*'Vergoedingen AD'!M93/Rekenvolumes!M45)*(1+CPIv2009n2010),0)","v":714.13599999999997},{"$f":"IF(Rekenvolumes!N45>0,(1000*'Vergoedingen AD'!N93/Rekenvolumes!N45)*(1+CPIv2009n2010),0)","v":814.14532644009216},{"$f":"IF(Rekenvolumes!O45>0,(1000*'Vergoedingen AD'!O93/Rekenvolumes!O45)*(1+CPIv2009n2010),0)","v":633.54752507423098},{"$f":"IF(Rekenvolumes!P45>0,(1000*'Vergoedingen AD'!P93/Rekenvolumes!P45)*(1+CPIv2009n2010),0)","v":0}]
[null,"LD 10-16 m3/h","€",null,{"$f":"IF(Rekenvolumes!E46>0,(1000*'Vergoedingen AD'!E94/Rekenvolumes!E46)*(1+CPIv2009n2010),0)","v":0},{"$f":"IF(Rekenvolumes!F46>0,(1000*'Vergoedingen AD'!F94/Rekenvolumes!F46)*(1+CPIv2009n2010),0)","v":0},{"$f":"IF(Rekenvolumes!G46>0,(1000*'Vergoedingen AD'!G94/Rekenvolumes!G46)*(1+CPIv2009n2010),0)","v":1361.4721999999999},{"$f":"IF(Rekenvolumes!H46>0,(1000*'Vergoedingen AD'!H94/Rekenvolumes!H46)*(1+CPIv2009n2010),0)","v":2089.0450272419148},{"$f":"IF(Rekenvolumes!I46>0,(1000*'Vergoedingen AD'!I94/Rekenvolumes!I46)*(1+CPIv2009n2010),0)","v":0},{"$f":"IF(Rekenvolumes!J46>0,(1000*'Vergoedingen AD'!J94/Rekenvolumes!J46)*(1+CPIv2009n2010),0)","v":0},{"$f":"IF(Rekenvolumes!K46>0,(1000*'Vergoedingen AD'!K94/Rekenvolumes!K46)*(1+CPIv2009n2010),0)","v":1538.9283999999998},{"$f":"IF(Rekenvolumes!L46>0,(1000*'Vergoedingen AD'!L94/Rekenvolumes!L46)*(1+CPIv2009n2010),0)","v":1408.2119999999998},{"$f":"IF(Rekenvolumes!M46>0,(1000*'Vergoedingen AD'!M94/Rekenvolumes!M46)*(1+CPIv2009n2010),0)","v":1858.0574999999999},{"$f":"IF(Rekenvolumes!N46>0,(1000*'Vergoedingen AD'!N94/Rekenvolumes!N46)*(1+CPIv2009n2010),0)","v":2098.2172528571427},{"$f":"IF(Rekenvolumes!O46>0,(1000*'Vergoedingen AD'!O94/Rekenvolumes!O46)*(1+CPIv2009n2010),0)","v":1208.2936401627569},{"$f":"IF(Rekenvolumes!P46>0,(1000*'Vergoedingen AD'!P94/Rekenvolumes!P46)*(1+CPIv2009n2010),0)","v":0}]
[null,"LD 16-25 m3/h","€",null,{"$f":"IF(Rekenvolumes!E47>0,(1000*'Vergoedingen AD'!E95/Rekenvolumes!E47)*(1+CPIv2009n2010),0)","v":1342.2446899999998},{"$f":"IF(Rekenvolumes!F47>0,(1000*'Vergoedingen AD'!F95/Rekenvolumes!F47)*(1+CPIv2009n2010),0)","v":1219.6179099999999},{"$f":"IF(Rekenvolumes!G47>0,(1000*'Vergoedingen AD'!G95/Rekenvolumes!G47)*(1+CPIv2009n2010),0)","v":1361.4721999999999},{"$f":"IF(Rekenvolumes!H47>0,(1000*'Vergoedingen AD'!H95/Rekenvolumes!H47)*(1+CPIv2009n2010),0)","v":1813.3184554656605},{"$f":"IF(Rekenvolumes!I47>0,(1000*'Vergoedingen AD'!I95/Rekenvolumes!I47)*(1+CPIv2009n2010),0)","v":1178.5249999999999},{"$f":"IF(Rekenvolumes!J47>0,(1000*'Vergoedingen AD'!J95/Rekenvolumes!J47)*(1+CPIv2009n2010),0)","v":2089.6705704378587},{"$f":"IF(Rekenvolumes!K47>0,(1000*'Vergoedingen AD'!K95/Rekenvolumes!K47)*(1+CPIv2009n2010),0)","v":1473.8855555555554},{"$f":"IF(Rekenvolumes!L47>0,(1000*'Vergoedingen AD'!L95/Rekenvolumes!L47)*(1+CPIv2009n2010),0)","v":1581.127782325909},{"$f":"IF(Rekenvolumes!M47>0,(1000*'Vergoedingen AD'!M95/Rekenvolumes!M47)*(1+CPIv2009n2010),0)","v":1858.0574999999999},{"$f":"IF(Rekenvolumes!N47>0,(1000*'Vergoedingen AD'!N95/Rekenvolumes!N47)*(1+CPIv2009n2010),0)","v":2921.4280699999999},{"$f":"IF(Rekenvolumes!O47>0,(1000*'Vergoedingen AD'!O95/Rekenvolumes!O47)*(1+CPIv2009n2010),0)","v":1240.1859264214791},{"$f":"IF(Rekenvolumes!P47>0,(1000*'Vergoedingen AD'!P95/Rekenvolumes!P47)*(1+CPIv2009n2010),0)","v":0}]
[null,"LD 25-40 m3/h ","€",null,{"$f":"IF(Rekenvolumes!E48>0,(1000*'Vergoedingen AD'!E96/Rekenvolumes!E48)*(1+CPIv2009n2010),0)","v":1779.2217000000001},{"$f":"IF(Rekenvolumes!F48>0,(1000*'Vergoedingen AD'!F96/Rekenvolumes!F48)*(1+CPIv2009n2010),0)","v":1251.8041799999999},{"$f":"IF(Rekenvolumes!G48>0,(1000*'Vergoedingen AD'!G96/Rekenvolumes!G48)*(1+CPIv2009n2010),0)","v":2301.2129899999995},{"$f":"IF(Rekenvolumes!H48>0,(1000*'Vergoedingen AD'!H96/Rekenvolumes!H48)*(1+CPIv2009n2010),0)","v":3073.7174608642908},{"$f":"IF(Rekenvolumes!I48>0,(1000*'Vergoedingen AD'!I96/Rekenvolumes!I48)*(1+CPIv2009n2010),0)","v":1604.7999999999997},{"$f":"IF(Rekenvolumes!J48>0,(1000*'Vergoedingen AD'!J96/Rekenvolumes!J48)*(1+CPIv2009n2010),0)","v":3064.5853888734837},{"$f":"IF(Rekenvolumes!K48>0,(1000*'Vergoedingen AD'!K96/Rekenvolumes!K48)*(1+CPIv2009n2010),0)","v":4157.3055806451603},{"$f":"IF(Rekenvolumes!L48>0,(1000*'Vergoedingen AD'!L96/Rekenvolumes!L48)*(1+CPIv2009n2010),0)","v":1707.1059999999998},{"$f":"IF(Rekenvolumes!M48>0,(1000*'Vergoedingen AD'!M96/Rekenvolumes!M48)*(1+CPIv2009n2010),0)","v":4242.6899999999996},{"$f":"IF(Rekenvolumes!N48>0,(1000*'Vergoedingen AD'!N96/Rekenvolumes!N48)*(1+CPIv2009n2010),0)","v":3022.0172683333326},{"$f":"IF(Rekenvolumes!O48>0,(1000*'Vergoedingen AD'!O96/Rekenvolumes!O48)*(1+CPIv2009n2010),0)","v":1711.5096446398625},{"$f":"IF(Rekenvolumes!P48>0,(1000*'Vergoedingen AD'!P96/Rekenvolumes!P48)*(1+CPIv2009n2010),0)","v":0}]
[null,"LD 40-65 m3/h ","€",null,{"$f":"IF(Rekenvolumes!E49>0,(1000*'Vergoedingen AD'!E97/Rekenvolumes!E49)*(1+CPIv2009n2010),0)","v":1682.9870596000001},{"$f":"IF(Rekenvolumes!F49>0,(1000*'Vergoedingen AD'!F97/Rekenvolumes!F49)*(1+CPIv2009n2010),0)","v":6334.8727750000007},{"$f":"IF(Rekenvolumes!G49>0,(1000*'Vergoedingen AD'!G97/Rekenvolumes!G49)*(1+CPIv2009n2010),0)","v":1681.3814157190172},{"$f":"IF(Rekenvolumes!H49>0,(1000*'Vergoedingen AD'!H97/Rekenvolumes!H49)*(1+CPIv2009n2010),0)","v":2280.710968923559},{"$f":"IF(Rekenvolumes!I49>0,(1000*'Vergoedingen AD'!I97/Rekenvolumes!I49)*(1+CPIv2009n2010),0)","v":1428.7734999999998},{"$f":"IF(Rekenvolumes!J49>0,(1000*'Vergoedingen AD'!J97/Rekenvolumes!J49)*(1+CPIv2009n2010),0)","v":5693.7026923772655},{"$f":"IF(Rekenvolumes!K49>0,(1000*'Vergoedingen AD'!K97/Rekenvolumes!K49)*(1+CPIv2009n2010),0)","v":0},{"$f":"IF(Rekenvolumes!L49>0,(1000*'Vergoedingen AD'!L97/Rekenvolumes!L49)*(1+CPIv2009n2010),0)","v":1402.1288049999998},{"$f":"IF(Rekenvolumes!M49>0,(1000*'Vergoedingen AD'!M97/Rekenvolumes!M49)*(1+CPIv2009n2010),0)","v":1544.62},{"$f":"IF(Rekenvolumes!N49>0,(1000*'Vergoedingen AD'!N97/Rekenvolumes!N49)*(1+CPIv2009n2010),0)","v":1456.9782611999999},{"$f":"IF(Rekenvolumes!O49>0,(1000*'Vergoedingen AD'!O97/Rekenvolumes!O49)*(1+CPIv2009n2010),0)","v":1512.569135},{"$f":"IF(Rekenvolumes!P49>0,(1000*'Vergoedingen AD'!P97/Rekenvolumes!P49)*(1+CPIv2009n2010),0)","v":0}]
[null,"LD 65-100 m3/h ","€",null,{"$f":"IF(Rekenvolumes!E50>0,(1000*'Vergoedingen AD'!E98/Rekenvolumes!E50)*(1+CPIv2009n2010),0)","v":1744.4552125},{"$f":"IF(Rekenvolumes!F50>0,(1000*'Vergoedingen AD'!F98/Rekenvolumes!F50)*(1+CPIv2009n2010),0)","v":3008.1474499999999},{"$f":"IF(Rekenvolumes!G50>0,(1000*'Vergoedingen AD'!G98/Rekenvolumes!G50)*(1+CPIv2009n2010),0)","v":2079.9287198530801},{"$f":"IF(Rekenvolumes!H50>0,(1000*'Vergoedingen AD'!H98/Rekenvolumes!H50)*(1+CPIv2009n2010),0)","v":2335.8653199522314},{"$f":"IF(Rekenvolumes!I50>0,(1000*'Vergoedingen AD'!I98/Rekenvolumes!I50)*(1+CPIv2009n2010),0)","v":1390.1579999999999},{"$f":"IF(Rekenvolumes!J50>0,(1000*'Vergoedingen AD'!J98/Rekenvolumes!J50)*(1+CPIv2009n2010),0)","v":1715.5476492},{"$f":"IF(Rekenvolumes!K50>0,(1000*'Vergoedingen AD'!K98/Rekenvolumes!K50)*(1+CPIv2009n2010),0)","v":1864.4175130693068},{"$f":"IF(Rekenvolumes!L50>0,(1000*'Vergoedingen AD'!L98/Rekenvolumes!L50)*(1+CPIv2009n2010),0)","v":3527.9120799999992},{"$f":"IF(Rekenvolumes!M50>0,(1000*'Vergoedingen AD'!M98/Rekenvolumes!M50)*(1+CPIv2009n2010),0)","v":1633.4356499999999},{"$f":"IF(Rekenvolumes!N50>0,(1000*'Vergoedingen AD'!N98/Rekenvolumes!N50)*(1+CPIv2009n2010),0)","v":0},{"$f":"IF(Rekenvolumes!O50>0,(1000*'Vergoedingen AD'!O98/Rekenvolumes!O50)*(1+CPIv2009n2010),0)","v":1655.8326399999999},{"$f":"IF(Rekenvolumes!P50>0,(1000*'Vergoedingen AD'!P98/Rekenvolumes!P50)*(1+CPIv2009n2010),0)","v":0}]
[null,"LD 100-160 m3/h","€",null,{"$f":"IF(Rekenvolumes!E51>0,(1000*'Vergoedingen AD'!E99/Rekenvolumes!E51)*(1+CPIv2009n2010),0)","v":0},{"$f":"IF(Rekenvolumes!F51>0,(1000*'Vergoedingen AD'!F99/Rekenvolumes!F51)*(1+CPIv2009n2010),0)","v":4608.7599250000003},{"$f":"IF(Rekenvolumes!G51>0,(1000*'Vergoedingen AD'!G99/Rekenvolumes!G51)*(1+CPIv2009n2010),0)","v":2298.0323106568021},{"$f":"IF(Rekenvolumes!H51>0,(1000*'Vergoedingen AD'!H99/Rekenvolumes!H51)*(1+CPIv2009n2010),0)","v":0},{"$f":"IF(Rekenvolumes!I51>0,(1000*'Vergoedingen AD'!I99/Rekenvolumes!I51)*(1+CPIv2009n2010),0)","v":1776.3130000000001},{"$f":"IF(Rekenvolumes!J51>0,(1000*'Vergoedingen AD'!J99/Rekenvolumes!J51)*(1+CPIv2009n2010),0)","v":2320.6679803999996},{"$f":"IF(Rekenvolumes!K51>0,(1000*'Vergoedingen AD'!K99/Rekenvolumes!K51)*(1+CPIv2009n2010),0)","v":4204.4220613043472},{"$f":"IF(Rekenvolumes!L51>0,(1000*'Vergoedingen AD'!L99/Rekenvolumes!L51)*(1+CPIv2009n2010),0)","v":2635.0899737472328},{"$f":"IF(Rekenvolumes!M51>0,(1000*'Vergoedingen AD'!M99/Rekenvolumes!M51)*(1+CPIv2009n2010),0)","v":0},{"$f":"IF(Rekenvolumes!N51>0,(1000*'Vergoedingen AD'!N99/Rekenvolumes!N51)*(1+CPIv2009n2010),0)","v":4253.6801050333333},{"$f":"IF(Rekenvolumes!O51>0,(1000*'Vergoedingen AD'!O99/Rekenvolumes!O51)*(1+CPIv2009n2010),0)","v":2461.7381249999999},{"$f":"IF(Rekenvolumes!P51>0,(1000*'Vergoedingen AD'!P99/Rekenvolumes!P51)*(1+CPIv2009n2010),0)","v":0}]
[null,"LD 160-250 m3/h ","€",null,{"$f":"IF(Rekenvolumes!E52>0,(1000*'Vergoedingen AD'!E100/Rekenvolumes!E52)*(1+CPIv2009n2010),0)","v":0},{"$f":"IF(Rekenvolumes!F52>0,(1000*'Vergoedingen AD'!F100/Rekenvolumes!F52)*(1+CPIv2009n2010),0)","v":0},{"$f":"IF(Rekenvolumes!G52>0,(1000*'Vergoedingen AD'!G100/Rekenvolumes!G52)*(1+CPIv2009n2010),0)","v":0},{"$f":"IF(Rekenvolumes!H52>0,(1000*'Vergoedingen AD'!H100/Rekenvolumes!H52)*(1+CPIv2009n2010),0)","v":3521.7100516980067},{"$f":"IF(Rekenvolumes!I52>0,(1000*'Vergoedingen AD'!I100/Rekenvolumes!I52)*(1+CPIv2009n2010),0)","v":0},{"$f":"IF(Rekenvolumes!J52>0,(1000*'Vergoedingen AD'!J100/Rekenvolumes!J52)*(1+CPIv2009n2010),0)","v":0},{"$f":"IF(Rekenvolumes!K52>0,(1000*'Vergoedingen AD'!K100/Rekenvolumes!K52)*(1+CPIv2009n2010),0)","v":7992.2500349999991},{"$f":"IF(Rekenvolumes!L52>0,(1000*'Vergoedingen AD'!L100/Rekenvolumes!L52)*(1+CPIv2009n2010),0)","v":0},{"$f":"IF(Rekenvolumes!M52>0,(1000*'Vergoedingen AD'!M100/Rekenvolumes!M52)*(1+CPIv2009n2010),0)","v":0},{"$f":"IF(Rekenvolumes!N52>0,(1000*'Vergoedingen AD'!N100/Rekenvolumes!N52)*(1+CPIv2009n2010),0)","v":0},{"$f":"IF(Rekenvolumes!O52>0,(1000*'Vergoedingen AD'!O100/Rekenvolumes!O52)*(1+CPIv2009n2010),0)","v":3217.8797902010042},{"$f":"IF(Rekenvolumes!P52>0,(1000*'Vergoedingen AD'!P100/Rekenvolumes!P52)*(1+CPIv2009n2010),0)","v":0}]
[null,"LD 250-400 m3/h ","€",null,{"$f":"IF(Rekenvolumes!E53>0,(1000*'Vergoedingen AD'!E101/Rekenvolumes!E53)*(1+CPIv2009n2010),0)","v":0},{"$f":"IF(Rekenvolumes!F53>0,(1000*'Vergoedingen AD'!F101/Rekenvolumes!F53)*(1+CPIv2009n2010),0)","v":0},{"$f":"IF(Rekenvolumes!G53>0,(1000*'Vergoedingen AD'!G101/Rekenvolumes!G53)*(1+CPIv2009n2010),0)","v":0},{"$f":"IF(Rekenvolumes!H53>0,(1000*'Vergoedingen AD'!H101/Rekenvolumes!H53)*(1+CPIv2009n2010),0)","v":0},{"$f":"IF(Rekenvolumes!I53>0,(1000*'Vergoedingen AD'!I101/Rekenvolumes!I53)*(1+CPIv2009n2010),0)","v":0},{"$f":"IF(Rekenvolumes!J53>0,(1000*'Vergoedingen AD'!J101/Rekenvolumes!J53)*(1+CPIv2009n2010),0)","v":12921.207160446202},{"$f":"IF(Rekenvolumes!K53>0,(1000*'Vergoedingen AD'!K101/Rekenvolumes!K53)*(1+CPIv2009n2010),0)","v":9475.4713900000006},{"$f":"IF(Rekenvolumes!L53>0,(1000*'Vergoedingen AD'!L101/Rekenvolumes!L53)*(1+CPIv2009n2010),0)","v":10111.864552076917},{"$f":"IF(Rekenvolumes!M53>0,(1000*'Vergoedingen AD'!M101/Rekenvolumes!M53)*(1+CPIv2009n2010),0)","v":0},{"$f":"IF(Rekenvolumes!N53>0,(1000*'Vergoedingen AD'!N101/Rekenvolumes!N53)*(1+CPIv2009n2010),0)","v":6641.1825056499993},{"$f":"IF(Rekenvolumes!O53>0,(1000*'Vergoedingen AD'!O101/Rekenvolumes!O53)*(1+CPIv2009n2010),0)","v":406.1867906249999},{"$f":"IF(Rekenvolumes!P53>0,(1000*'Vergoedingen AD'!P101/Rekenvolumes!P53)*(1+CPIv2009n2010),0)","v":0}]
[null,"LD 400-650 m3/h ","€",null,{"$f":"IF(Rekenvolumes!E54>0,(1000*'Vergoedingen AD'!E102/Rekenvolumes!E54)*(1+CPIv2009n2010),0)","v":0},{"$f":"IF(Rekenvolumes!F54>0,(1000*'Vergoedingen AD'!F102/Rekenvolumes!F54)*(1+CPIv2009n2010),0)","v":0},{"$f":"IF(Rekenvolumes!G54>0,(1000*'Vergoedingen AD'!G102/Rekenvolumes!G54)*(1+CPIv2009n2010),0)","v":0},{"$f":"IF(Rekenvolumes!H54>0,(1000*'Vergoedingen AD'!H102/Rekenvolumes!H54)*(1+CPIv2009n2010),0)","v":0},{"$f":"IF(Rekenvolumes!I54>0,(1000*'Vergoedingen AD'!I102/Rekenvolumes!I54)*(1+CPIv2009n2010),0)","v":0},{"$f":"IF(Rekenvolumes!J54>0,(1000*'Vergoedingen AD'!J102/Rekenvolumes!J54)*(1+CPIv2009n2010),0)","v":0},{"$f":"IF(Rekenvolumes!K54>0,(1000*'Vergoedingen AD'!K102/Rekenvolumes!K54)*(1+CPIv2009n2010),0)","v":9979.4036649999998},{"$f":"IF(Rekenvolumes!L54>0,(1000*'Vergoedingen AD'!L102/Rekenvolumes!L54)*(1+CPIv2009n2010),0)","v":0},{"$f":"IF(Rekenvolumes!M54>0,(1000*'Vergoedingen AD'!M102/Rekenvolumes!M54)*(1+CPIv2009n2010),0)","v":0},{"$f":"IF(Rekenvolumes!N54>0,(1000*'Vergoedingen AD'!N102/Rekenvolumes!N54)*(1+CPIv2009n2010),0)","v":0},{"$f":"IF(Rekenvolumes!O54>0,(1000*'Vergoedingen AD'!O102/Rekenvolumes!O54)*(1+CPIv2009n2010),0)","v":0},{"$f":"IF(Rekenvolumes!P54>0,(1000*'Vergoedingen AD'!P102/Rekenvolumes!P54)*(1+CPIv2009n2010),0)","v":0}]
[null,"LD 650-1000 m3/h ","€",null,{"$f":"IF(Rekenvolumes!E55>0,(1000*'Vergoedingen AD'!E103/Rekenvolumes!E55)*(1+CPIv2009n2010),0)","v":0},{"$f":"IF(Rekenvolumes!F55>0,(1000*'Vergoedingen AD'!F103/Rekenvolumes!F55)*(1+CPIv2009n2010),0)","v":0},{"$f":"IF(Rekenvolumes!G55>0,(1000*'Vergoedingen AD'!G103/Rekenvolumes!G55)*(1+CPIv2009n2010),0)","v":0},{"$f":"IF(Rekenvolumes!H55>0,(1000*'Vergoedingen AD'!H103/Rekenvolumes!H55)*(1+CPIv2009n2010),0)","v":0},{"$f":"IF(Rekenvolumes!I55>0,(1000*'Vergoedingen AD'!I103/Rekenvolumes!I55)*(1+CPIv2009n2010),0)","v":0},{"$f":"IF(Rekenvolumes!J55>0,(1000*'Vergoedingen AD'!J103/Rekenvolumes!J55)*(1+CPIv2009n2010),0)","v":0},{"$f":"IF(Rekenvolumes!K55>0,(1000*'Vergoedingen AD'!K103/Rekenvolumes!K55)*(1+CPIv2009n2010),0)","v":0},{"$f":"IF(Rekenvolumes!L55>0,(1000*'Vergoedingen AD'!L103/Rekenvolumes!L55)*(1+CPIv2009n2010),0)","v":0},{"$f":"IF(Rekenvolumes!M55>0,(1000*'Vergoedingen AD'!M103/Rekenvolumes!M55)*(1+CPIv2009n2010),0)","v":0},{"$f":"IF(Rekenvolumes!N55>0,(1000*'Vergoedingen AD'!N103/Rekenvolumes!N55)*(1+CPIv2009n2010),0)","v":0},{"$f":"IF(Rekenvolumes!O55>0,(1000*'Vergoedingen AD'!O103/Rekenvolumes!O55)*(1+CPIv2009n2010),0)","v":0},{"$f":"IF(Rekenvolumes!P55>0,(1000*'Vergoedingen AD'!P103/Rekenvolumes!P55)*(1+CPIv2009n2010),0)","v":0}]
[null,"LD 1000-1600 m3/h ","€",null,{"$f":"IF(Rekenvolumes!E56>0,(1000*'Vergoedingen AD'!E104/Rekenvolumes!E56)*(1+CPIv2009n2010),0)","v":0},{"$f":"IF(Rekenvolumes!F56>0,(1000*'Vergoedingen AD'!F104/Rekenvolumes!F56)*(1+CPIv2009n2010),0)","v":0},{"$f":"IF(Rekenvolumes!G56>0,(1000*'Vergoedingen AD'!G104/Rekenvolumes!G56)*(1+CPIv2009n2010),0)","v":0},{"$f":"IF(Rekenvolumes!H56>0,(1000*'Vergoedingen AD'!H104/Rekenvolumes!H56)*(1+CPIv2009n2010),0)","v":0},{"$f":"IF(Rekenvolumes!I56>0,(1000*'Vergoedingen AD'!I104/Rekenvolumes!I56)*(1+CPIv2009n2010),0)","v":0},{"$f":"IF(Rekenvolumes!J56>0,(1000*'Vergoedingen AD'!J104/Rekenvolumes!J56)*(1+CPIv2009n2010),0)","v":0},{"$f":"IF(Rekenvolumes!K56>0,(1000*'Vergoedingen AD'!K104/Rekenvolumes!K56)*(1+CPIv2009n2010),0)","v":0},{"$f":"IF(Rekenvolumes!L56>0,(1000*'Vergoedingen AD'!L104/Rekenvolumes!L56)*(1+CPIv2009n2010),0)","v":0},{"$f":"IF(Rekenvolumes!M56>0,(1000*'Vergoedingen AD'!M104/Rekenvolumes!M56)*(1+CPIv2009n2010),0)","v":0},{"$f":"IF(Rekenvolumes!N56>0,(1000*'Vergoedingen AD'!N104/Rekenvolumes!N56)*(1+CPIv2009n2010),0)","v":0},{"$f":"IF(Rekenvolumes!O56>0,(1000*'Vergoedingen AD'!O104/Rekenvolumes!O56)*(1+CPIv2009n2010),0)","v":0},{"$f":"IF(Rekenvolumes!P56>0,(1000*'Vergoedingen AD'!P104/Rekenvolumes!P56)*(1+CPIv2009n2010),0)","v":0}]
[null,"LD 1600-2500 m3/h ","€",null,{"$f":"IF(Rekenvolumes!E57>0,(1000*'Vergoedingen AD'!E105/Rekenvolumes!E57)*(1+CPIv2009n2010),0)","v":0},{"$f":"IF(Rekenvolumes!F57>0,(1000*'Vergoedingen AD'!F105/Rekenvolumes!F57)*(1+CPIv2009n2010),0)","v":0},{"$f":"IF(Rekenvolumes!G57>0,(1000*'Vergoedingen AD'!G105/Rekenvolumes!G57)*(1+CPIv2009n2010),0)","v":0},{"$f":"IF(Rekenvolumes!H57>0,(1000*'Vergoedingen AD'!H105/Rekenvolumes!H57)*(1+CPIv2009n2010),0)","v":0},{"$f":"IF(Rekenvolumes!I57>0,(1000*'Vergoedingen AD'!I105/Rekenvolumes!I57)*(1+CPIv2009n2010),0)","v":0},{"$f":"IF(Rekenvolumes!J57>0,(1000*'Vergoedingen AD'!J105/Rekenvolumes!J57)*(1+CPIv2009n2010),0)","v":0},{"$f":"IF(Rekenvolumes!K57>0,(1000*'Vergoedingen AD'!K105/Rekenvolumes!K57)*(1+CPIv2009n2010),0)","v":0},{"$f":"IF(Rekenvolumes!L57>0,(1000*'Vergoedingen AD'!L105/Rekenvolumes!L57)*(1+CPIv2009n2010),0)","v":0},{"$f":"IF(Rekenvolumes!M57>0,(1000*'Vergoedingen AD'!M105/Rekenvolumes!M57)*(1+CPIv2009n2010),0)","v":0},{"$f":"IF(Rekenvolumes!N57>0,(1000*'Vergoedingen AD'!N105/Rekenvolumes!N57)*(1+CPIv2009n2010),0)","v":0},{"$f":"IF(Rekenvolumes!O57>0,(1000*'Vergoedingen AD'!O105/Rekenvolumes!O57)*(1+CPIv2009n2010),0)","v":0},{"$f":"IF(Rekenvolumes!P57>0,(1000*'Vergoedingen AD'!P105/Rekenvolumes!P57)*(1+CPIv2009n2010),0)","v":0}]
[null,"LD >2500 m3/h","€",null,{"$f":"IF(Rekenvolumes!E58>0,(1000*'Vergoedingen AD'!E106/Rekenvolumes!E58)*(1+CPIv2009n2010),0)","v":0},{"$f":"IF(Rekenvolumes!F58>0,(1000*'Vergoedingen AD'!F106/Rekenvolumes!F58)*(1+CPIv2009n2010),0)","v":0},{"$f":"IF(Rekenvolumes!G58>0,(1000*'Vergoedingen AD'!G106/Rekenvolumes!G58)*(1+CPIv2009n2010),0)","v":0},{"$f":"IF(Rekenvolumes!H58>0,(1000*'Vergoedingen AD'!H106/Rekenvolumes!H58)*(1+CPIv2009n2010),0)","v":0},{"$f":"IF(Rekenvolumes!I58>0,(1000*'Vergoedingen AD'!I106/Rekenvolumes!I58)*(1+CPIv2009n2010),0)","v":0},{"$f":"IF(Rekenvolumes!J58>0,(1000*'Vergoedingen AD'!J106/Rekenvolumes!J58)*(1+CPIv2009n2010),0)","v":0},{"$f":"IF(Rekenvolumes!K58>0,(1000*'Vergoedingen AD'!K106/Rekenvolumes!K58)*(1+CPIv2009n2010),0)","v":0},{"$f":"IF(Rekenvolumes!L58>0,(1000*'Vergoedingen AD'!L106/Rekenvolumes!L58)*(1+CPIv2009n2010),0)","v":0},{"$f":"IF(Rekenvolumes!M58>0,(1000*'Vergoedingen AD'!M106/Rekenvolumes!M58)*(1+CPIv2009n2010),0)","v":0},{"$f":"IF(Rekenvolumes!N58>0,(1000*'Vergoedingen AD'!N106/Rekenvolumes!N58)*(1+CPIv2009n2010),0)","v":0},{"$f":"IF(Rekenvolumes!O58>0,(1000*'Vergoedingen AD'!O106/Rekenvolumes!O58)*(1+CPIv2009n2010),0)","v":0},{"$f":"IF(Rekenvolumes!P58>0,(1000*'Vergoedingen AD'!P106/Rekenvolumes!P58)*(1+CPIv2009n2010),0)","v":0}]
[]
[null,"HD 0-10 m3/h","€",null,{"$f":"IF(Rekenvolumes!E60>0,(1000*'Vergoedingen AD'!E108/Rekenvolumes!E60)*(1+CPIv2009n2010),0)","v":0},{"$f":"IF(Rekenvolumes!F60>0,(1000*'Vergoedingen AD'!F108/Rekenvolumes!F60)*(1+CPIv2009n2010),0)","v":0},{"$f":"IF(Rekenvolumes!G60>0,(1000*'Vergoedingen AD'!G108/Rekenvolumes!G60)*(1+CPIv2009n2010),0)","v":0},{"$f":"IF(Rekenvolumes!H60>0,(1000*'Vergoedingen AD'!H108/Rekenvolumes!H60)*(1+CPIv2009n2010),0)","v":0},{"$f":"IF(Rekenvolumes!I60>0,(1000*'Vergoedingen AD'!I108/Rekenvolumes!I60)*(1+CPIv2009n2010),0)","v":0},{"$f":"IF(Rekenvolumes!J60>0,(1000*'Vergoedingen AD'!J108/Rekenvolumes!J60)*(1+CPIv2009n2010),0)","v":0},{"$f":"IF(Rekenvolumes!K60>0,(1000*'Vergoedingen AD'!K108/Rekenvolumes!K60)*(1+CPIv2009n2010),0)","v":0},{"$f":"IF(Rekenvolumes!L60>0,(1000*'Vergoedingen AD'!L108/Rekenvolumes!L60)*(1+CPIv2009n2010),0)","v":0},{"$f":"IF(Rekenvolumes!M60>0,(1000*'Vergoedingen AD'!M108/Rekenvolumes!M60)*(1+CPIv2009n2010),0)","v":0},{"$f":"IF(Rekenvolumes!N60>0,(1000*'Vergoedingen AD'!N108/Rekenvolumes!N60)*(1+CPIv2009n2010),0)","v":0},{"$f":"IF(Rekenvolumes!O60>0,(1000*'Vergoedingen AD'!O108/Rekenvolumes!O60)*(1+CPIv2009n2010),0)","v":0},{"$f":"IF(Rekenvolumes!P60>0,(1000*'Vergoedingen AD'!P108/Rekenvolumes!P60)*(1+CPIv2009n2010),0)","v":0}]
[null,"HD 10-16 m3/h","€",null,{"$f":"IF(Rekenvolumes!E61>0,(1000*'Vergoedingen AD'!E109/Rekenvolumes!E61)*(1+CPIv2009n2010),0)","v":0},{"$f":"IF(Rekenvolumes!F61>0,(1000*'Vergoedingen AD'!F109/Rekenvolumes!F61)*(1+CPIv2009n2010),0)","v":0},{"$f":"IF(Rekenvolumes!G61>0,(1000*'Vergoedingen AD'!G109/Rekenvolumes!G61)*(1+CPIv2009n2010),0)","v":0},{"$f":"IF(Rekenvolumes!H61>0,(1000*'Vergoedingen AD'!H109/Rekenvolumes!H61)*(1+CPIv2009n2010),0)","v":0},{"$f":"IF(Rekenvolumes!I61>0,(1000*'Vergoedingen AD'!I109/Rekenvolumes!I61)*(1+CPIv2009n2010),0)","v":0},{"$f":"IF(Rekenvolumes!J61>0,(1000*'Vergoedingen AD'!J109/Rekenvolumes!J61)*(1+CPIv2009n2010),0)","v":0},{"$f":"IF(Rekenvolumes!K61>0,(1000*'Vergoedingen AD'!K109/Rekenvolumes!K61)*(1+CPIv2009n2010),0)","v":0},{"$f":"IF(Rekenvolumes!L61>0,(1000*'Vergoedingen AD'!L109/Rekenvolumes!L61)*(1+CPIv2009n2010),0)","v":0},{"$f":"IF(Rekenvolumes!M61>0,(1000*'Vergoedingen AD'!M109/Rekenvolumes!M61)*(1+CPIv2009n2010),0)","v":0},{"$f":"IF(Rekenvolumes!N61>0,(1000*'Vergoedingen AD'!N109/Rekenvolumes!N61)*(1+CPIv2009n2010),0)","v":0},{"$f":"IF(Rekenvolumes!O61>0,(1000*'Vergoedingen AD'!O109/Rekenvolumes!O61)*(1+CPIv2009n2010),0)","v":0},{"$f":"IF(Rekenvolumes!P61>0,(1000*'Vergoedingen AD'!P109/Rekenvolumes!P61)*(1+CPIv2009n2010),0)","v":0}]
[null,"HD 16-25 m3/h","€",null,{"$f":"IF(Rekenvolumes!E62>0,(1000*'Vergoedingen AD'!E110/Rekenvolumes!E62)*(1+CPIv2009n2010),0)","v":0},{"$f":"IF(Rekenvolumes!F62>0,(1000*'Vergoedingen AD'!F110/Rekenvolumes!F62)*(1+CPIv2009n2010),0)","v":0},{"$f":"IF(Rekenvolumes!G62>0,(1000*'Vergoedingen AD'!G110/Rekenvolumes!G62)*(1+CPIv2009n2010),0)","v":0},{"$f":"IF(Rekenvolumes!H62>0,(1000*'Vergoedingen AD'!H110/Rekenvolumes!H62)*(1+CPIv2009n2010),0)","v":0},{"$f":"IF(Rekenvolumes!I62>0,(1000*'Vergoedingen AD'!I110/Rekenvolumes!I62)*(1+CPIv2009n2010),0)","v":0},{"$f":"IF(Rekenvolumes!J62>0,(1000*'Vergoedingen AD'!J110/Rekenvolumes!J62)*(1+CPIv2009n2010),0)","v":0},{"$f":"IF(Rekenvolumes!K62>0,(1000*'Vergoedingen AD'!K110/Rekenvolumes!K62)*(1+CPIv2009n2010),0)","v":0},{"$f":"IF(Rekenvolumes!L62>0,(1000*'Vergoedingen AD'!L110/Rekenvolumes!L62)*(1+CPIv2009n2010),0)","v":0},{"$f":"IF(Rekenvolumes!M62>0,(1000*'Vergoedingen AD'!M110/Rekenvolumes!M62)*(1+CPIv2009n2010),0)","v":0},{"$f":"IF(Rekenvolumes!N62>0,(1000*'Vergoedingen AD'!N110/Rekenvolumes!N62)*(1+CPIv2009n2010),0)","v":0},{"$f":"IF(Rekenvolumes!O62>0,(1000*'Vergoedingen AD'!O110/Rekenvolumes!O62)*(1+CPIv2009n2010),0)","v":0},{"$f":"IF(Rekenvolumes!P62>0,(1000*'Vergoedingen AD'!P110/Rekenvolumes!P62)*(1+CPIv2009n2010),0)","v":0}]
[null,"HD 25-40 m3/h","€",null,{"$f":"IF(Rekenvolumes!E63>0,(1000*'Vergoedingen AD'!E111/Rekenvolumes!E63)*(1+CPIv2009n2010),0)","v":0},{"$f":"IF(Rekenvolumes!F63>0,(1000*'Vergoedingen AD'!F111/Rekenvolumes!F63)*(1+CPIv2009n2010),0)","v":0},{"$f":"IF(Rekenvolumes!G63>0,(1000*'Vergoedingen AD'!G111/Rekenvolumes!G63)*(1+CPIv2009n2010),0)","v":0},{"$f":"IF(Rekenvolumes!H63>0,(1000*'Vergoedingen AD'!H111/Rekenvolumes!H63)*(1+CPIv2009n2010),0)","v":0},{"$f":"IF(Rekenvolumes!I63>0,(1000*'Vergoedingen AD'!I111/Rekenvolumes!I63)*(1+CPIv2009n2010),0)","v":0},{"$f":"IF(Rekenvolumes!J63>0,(1000*'Vergoedingen AD'!J111/Rekenvolumes!J63)*(1+CPIv2009n2010),0)","v":0},{"$f":"IF(Rekenvolumes!K63>0,(1000*'Vergoedingen AD'!K111/Rekenvolumes!K63)*(1+CPIv2009n2010),0)","v":0},{"$f":"IF(Rekenvolumes!L63>0,(1000*'Vergoedingen AD'!L111/Rekenvolumes!L63)*(1+CPIv2009n2010),0)","v":0},{"$f":"IF(Rekenvolumes!M63>0,(1000*'Vergoedingen AD'!M111/Rekenvolumes!M63)*(1+CPIv2009n2010),0)","v":0},{"$f":"IF(Rekenvolumes!N63>0,(1000*'Vergoedingen AD'!N111/Rekenvolumes!N63)*(1+CPIv2009n2010),0)","v":0},{"$f":"IF(Rekenvolumes!O63>0,(1000*'Vergoedingen AD'!O111/Rekenvolumes!O63)*(1+CPIv2009n2010),0)","v":0},{"$f":"IF(Rekenvolumes!P63>0,(1000*'Vergoedingen AD'!P111/Rekenvolumes!P63)*(1+CPIv2009n2010),0)","v":0}]
[null,"HD 40-65 m3/h","€",null,{"$f":"IF(Rekenvolumes!E64>0,(1000*'Vergoedingen AD'!E112/Rekenvolumes!E64)*(1+CPIv2009n2010),0)","v":0},{"$f":"IF(Rekenvolumes!F64>0,(1000*'Vergoedingen AD'!F112/Rekenvolumes!F64)*(1+CPIv2009n2010),0)","v":0},{"$f":"IF(Rekenvolumes!G64>0,(1000*'Vergoedingen AD'!G112/Rekenvolumes!G64)*(1+CPIv2009n2010),0)","v":3320.3876786247392},{"$f":"IF(Rekenvolumes!H64>0,(1000*'Vergoedingen AD'!H112/Rekenvolumes!H64)*(1+CPIv2009n2010),0)","v":0},{"$f":"IF(Rekenvolumes!I64>0,(1000*'Vergoedingen AD'!I112/Rekenvolumes!I64)*(1+CPIv2009n2010),0)","v":0},{"$f":"IF(Rekenvolumes!J64>0,(1000*'Vergoedingen AD'!J112/Rekenvolumes!J64)*(1+CPIv2009n2010),0)","v":0},{"$f":"IF(Rekenvolumes!K64>0,(1000*'Vergoedingen AD'!K112/Rekenvolumes!K64)*(1+CPIv2009n2010),0)","v":0},{"$f":"IF(Rekenvolumes!L64>0,(1000*'Vergoedingen AD'!L112/Rekenvolumes!L64)*(1+CPIv2009n2010),0)","v":0},{"$f":"IF(Rekenvolumes!M64>0,(1000*'Vergoedingen AD'!M112/Rekenvolumes!M64)*(1+CPIv2009n2010),0)","v":0},{"$f":"IF(Rekenvolumes!N64>0,(1000*'Vergoedingen AD'!N112/Rekenvolumes!N64)*(1+CPIv2009n2010),0)","v":0},{"$f":"IF(Rekenvolumes!O64>0,(1000*'Vergoedingen AD'!O112/Rekenvolumes!O64)*(1+CPIv2009n2010),0)","v":4527.0600083500003},{"$f":"IF(Rekenvolumes!P64>0,(1000*'Vergoedingen AD'!P112/Rekenvolumes!P64)*(1+CPIv2009n2010),0)","v":0}]
[null,"HD 65-100 m3/h","€",null,{"$f":"IF(Rekenvolumes!E65>0,(1000*'Vergoedingen AD'!E113/Rekenvolumes!E65)*(1+CPIv2009n2010),0)","v":0},{"$f":"IF(Rekenvolumes!F65>0,(1000*'Vergoedingen AD'!F113/Rekenvolumes!F65)*(1+CPIv2009n2010),0)","v":0},{"$f":"IF(Rekenvolumes!G65>0,(1000*'Vergoedingen AD'!G113/Rekenvolumes!G65)*(1+CPIv2009n2010),0)","v":4928.3941515759989},{"$f":"IF(Rekenvolumes!H65>0,(1000*'Vergoedingen AD'!H113/Rekenvolumes!H65)*(1+CPIv2009n2010),0)","v":0},{"$f":"IF(Rekenvolumes!I65>0,(1000*'Vergoedingen AD'!I113/Rekenvolumes!I65)*(1+CPIv2009n2010),0)","v":0},{"$f":"IF(Rekenvolumes!J65>0,(1000*'Vergoedingen AD'!J113/Rekenvolumes!J65)*(1+CPIv2009n2010),0)","v":0},{"$f":"IF(Rekenvolumes!K65>0,(1000*'Vergoedingen AD'!K113/Rekenvolumes!K65)*(1+CPIv2009n2010),0)","v":4971.3594700000003},{"$f":"IF(Rekenvolumes!L65>0,(1000*'Vergoedingen AD'!L113/Rekenvolumes!L65)*(1+CPIv2009n2010),0)","v":0},{"$f":"IF(Rekenvolumes!M65>0,(1000*'Vergoedingen AD'!M113/Rekenvolumes!M65)*(1+CPIv2009n2010),0)","v":0},{"$f":"IF(Rekenvolumes!N65>0,(1000*'Vergoedingen AD'!N113/Rekenvolumes!N65)*(1+CPIv2009n2010),0)","v":0},{"$f":"IF(Rekenvolumes!O65>0,(1000*'Vergoedingen AD'!O113/Rekenvolumes!O65)*(1+CPIv2009n2010),0)","v":4570.3364863026318},{"$f":"IF(Rekenvolumes!P65>0,(1000*'Vergoedingen AD'!P113/Rekenvolumes!P65)*(1+CPIv2009n2010),0)","v":0}]
[null,"HD 100-160 m3/h","€",null,{"$f":"IF(Rekenvolumes!E66>0,(1000*'Vergoedingen AD'!E114/Rekenvolumes!E66)*(1+CPIv2009n2010),0)","v":0},{"$f":"IF(Rekenvolumes!F66>0,(1000*'Vergoedingen AD'!F114/Rekenvolumes!F66)*(1+CPIv2009n2010),0)","v":0},{"$f":"IF(Rekenvolumes!G66>0,(1000*'Vergoedingen AD'!G114/Rekenvolumes!G66)*(1+CPIv2009n2010),0)","v":6010.0312204306601},{"$f":"IF(Rekenvolumes!H66>0,(1000*'Vergoedingen AD'!H114/Rekenvolumes!H66)*(1+CPIv2009n2010),0)","v":0},{"$f":"IF(Rekenvolumes!I66>0,(1000*'Vergoedingen AD'!I114/Rekenvolumes!I66)*(1+CPIv2009n2010),0)","v":0},{"$f":"IF(Rekenvolumes!J66>0,(1000*'Vergoedingen AD'!J114/Rekenvolumes!J66)*(1+CPIv2009n2010),0)","v":0},{"$f":"IF(Rekenvolumes!K66>0,(1000*'Vergoedingen AD'!K114/Rekenvolumes!K66)*(1+CPIv2009n2010),0)","v":0},{"$f":"IF(Rekenvolumes!L66>0,(1000*'Vergoedingen AD'!L114/Rekenvolumes!L66)*(1+CPIv2009n2010),0)","v":0},{"$f":"IF(Rekenvolumes!M66>0,(1000*'Vergoedingen AD'!M114/Rekenvolumes!M66)*(1+CPIv2009n2010),0)","v":0},{"$f":"IF(Rekenvolumes!N66>0,(1000*'Vergoedingen AD'!N114/Rekenvolumes!N66)*(1+CPIv2009n2010),0)","v":0},{"$f":"IF(Rekenvolumes!O66>0,(1000*'Vergoedingen AD'!O114/Rekenvolumes!O66)*(1+CPIv2009n2010),0)","v":6537.5808427874999},{"$f":"IF(Rekenvolumes!P66>0,(1000*'Vergoedingen AD'!P114/Rekenvolumes!P66)*(1+CPIv2009n2010),0)","v":0}]
[null,"HD 160-250 m3/h","€",null,{"$f":"IF(Rekenvolumes!E67>0,(1000*'Vergoedingen AD'!E115/Rekenvolumes!E67)*(1+CPIv2009n2010),0)","v":0},{"$f":"IF(Rekenvolumes!F67>0,(1000*'Vergoedingen AD'!F115/Rekenvolumes!F67)*(1+CPIv2009n2010),0)","v":11096.163924999999},{"$f":"IF(Rekenvolumes!G67>0,(1000*'Vergoedingen AD'!G115/Rekenvolumes!G67)*(1+CPIv2009n2010),0)","v":11101.956249999999},{"$f":"IF(Rekenvolumes!H67>0,(1000*'Vergoedingen AD'!H115/Rekenvolumes!H67)*(1+CPIv2009n2010),0)","v":0},{"$f":"IF(Rekenvolumes!I67>0,(1000*'Vergoedingen AD'!I115/Rekenvolumes!I67)*(1+CPIv2009n2010),0)","v":0},{"$f":"IF(Rekenvolumes!J67>0,(1000*'Vergoedingen AD'!J115/Rekenvolumes!J67)*(1+CPIv2009n2010),0)","v":0},{"$f":"IF(Rekenvolumes!K67>0,(1000*'Vergoedingen AD'!K115/Rekenvolumes!K67)*(1+CPIv2009n2010),0)","v":7992.2500349999991},{"$f":"IF(Rekenvolumes!L67>0,(1000*'Vergoedingen AD'!L115/Rekenvolumes!L67)*(1+CPIv2009n2010),0)","v":7578.291874999999},{"$f":"IF(Rekenvolumes!M67>0,(1000*'Vergoedingen AD'!M115/Rekenvolumes!M67)*(1+CPIv2009n2010),0)","v":0},{"$f":"IF(Rekenvolumes!N67>0,(1000*'Vergoedingen AD'!N115/Rekenvolumes!N67)*(1+CPIv2009n2010),0)","v":0},{"$f":"IF(Rekenvolumes!O67>0,(1000*'Vergoedingen AD'!O115/Rekenvolumes!O67)*(1+CPIv2009n2010),0)","v":12705.349041000001},{"$f":"IF(Rekenvolumes!P67>0,(1000*'Vergoedingen AD'!P115/Rekenvolumes!P67)*(1+CPIv2009n2010),0)","v":0}]
[null,"HD 250-400 m3/h ","€",null,{"$f":"IF(Rekenvolumes!E68>0,(1000*'Vergoedingen AD'!E116/Rekenvolumes!E68)*(1+CPIv2009n2010),0)","v":0},{"$f":"IF(Rekenvolumes!F68>0,(1000*'Vergoedingen AD'!F116/Rekenvolumes!F68)*(1+CPIv2009n2010),0)","v":19114.672499999997},{"$f":"IF(Rekenvolumes!G68>0,(1000*'Vergoedingen AD'!G116/Rekenvolumes!G68)*(1+CPIv2009n2010),0)","v":11020.940930999997},{"$f":"IF(Rekenvolumes!H68>0,(1000*'Vergoedingen AD'!H116/Rekenvolumes!H68)*(1+CPIv2009n2010),0)","v":0},{"$f":"IF(Rekenvolumes!I68>0,(1000*'Vergoedingen AD'!I116/Rekenvolumes!I68)*(1+CPIv2009n2010),0)","v":0},{"$f":"IF(Rekenvolumes!J68>0,(1000*'Vergoedingen AD'!J116/Rekenvolumes!J68)*(1+CPIv2009n2010),0)","v":0},{"$f":"IF(Rekenvolumes!K68>0,(1000*'Vergoedingen AD'!K116/Rekenvolumes!K68)*(1+CPIv2009n2010),0)","v":9475.4713899999988},{"$f":"IF(Rekenvolumes!L68>0,(1000*'Vergoedingen AD'!L116/Rekenvolumes!L68)*(1+CPIv2009n2010),0)","v":0},{"$f":"IF(Rekenvolumes!M68>0,(1000*'Vergoedingen AD'!M116/Rekenvolumes!M68)*(1+CPIv2009n2010),0)","v":0},{"$f":"IF(Rekenvolumes!N68>0,(1000*'Vergoedingen AD'!N116/Rekenvolumes!N68)*(1+CPIv2009n2010),0)","v":0},{"$f":"IF(Rekenvolumes!O68>0,(1000*'Vergoedingen AD'!O116/Rekenvolumes!O68)*(1+CPIv2009n2010),0)","v":9804.289130212499},{"$f":"IF(Rekenvolumes!P68>0,(1000*'Vergoedingen AD'!P116/Rekenvolumes!P68)*(1+CPIv2009n2010),0)","v":0}]
[null,"HD 400-650 m3/h ","€",null,{"$f":"IF(Rekenvolumes!E69>0,(1000*'Vergoedingen AD'!E117/Rekenvolumes!E69)*(1+CPIv2009n2010),0)","v":0},{"$f":"IF(Rekenvolumes!F69>0,(1000*'Vergoedingen AD'!F117/Rekenvolumes!F69)*(1+CPIv2009n2010),0)","v":0},{"$f":"IF(Rekenvolumes!G69>0,(1000*'Vergoedingen AD'!G117/Rekenvolumes!G69)*(1+CPIv2009n2010),0)","v":11198.495000000001},{"$f":"IF(Rekenvolumes!H69>0,(1000*'Vergoedingen AD'!H117/Rekenvolumes!H69)*(1+CPIv2009n2010),0)","v":0},{"$f":"IF(Rekenvolumes!I69>0,(1000*'Vergoedingen AD'!I117/Rekenvolumes!I69)*(1+CPIv2009n2010),0)","v":0},{"$f":"IF(Rekenvolumes!J69>0,(1000*'Vergoedingen AD'!J117/Rekenvolumes!J69)*(1+CPIv2009n2010),0)","v":0},{"$f":"IF(Rekenvolumes!K69>0,(1000*'Vergoedingen AD'!K117/Rekenvolumes!K69)*(1+CPIv2009n2010),0)","v":9979.4036649999998},{"$f":"IF(Rekenvolumes!L69>0,(1000*'Vergoedingen AD'!L117/Rekenvolumes!L69)*(1+CPIv2009n2010),0)","v":8476.1022499999999},{"$f":"IF(Rekenvolumes!M69>0,(1000*'Vergoedingen AD'!M117/Rekenvolumes!M69)*(1+CPIv2009n2010),0)","v":0},{"$f":"IF(Rekenvolumes!N69>0,(1000*'Vergoedingen AD'!N117/Rekenvolumes!N69)*(1+CPIv2009n2010),0)","v":6435.2537672500002},{"$f":"IF(Rekenvolumes!O69>0,(1000*'Vergoedingen AD'!O117/Rekenvolumes!O69)*(1+CPIv2009n2010),0)","v":5254.7972399999999},{"$f":"IF(Rekenvolumes!P69>0,(1000*'Vergoedingen AD'!P117/Rekenvolumes!P69)*(1+CPIv2009n2010),0)","v":0}]
[null,"HD 650-1000 m3/h ","€",null,{"$f":"IF(Rekenvolumes!E70>0,(1000*'Vergoedingen AD'!E118/Rekenvolumes!E70)*(1+CPIv2009n2010),0)","v":0},{"$f":"IF(Rekenvolumes!F70>0,(1000*'Vergoedingen AD'!F118/Rekenvolumes!F70)*(1+CPIv2009n2010),0)","v":83602.557499999995},{"$f":"IF(Rekenvolumes!G70>0,(1000*'Vergoedingen AD'!G118/Rekenvolumes!G70)*(1+CPIv2009n2010),0)","v":4762.5783333333338},{"$f":"IF(Rekenvolumes!H70>0,(1000*'Vergoedingen AD'!H118/Rekenvolumes!H70)*(1+CPIv2009n2010),0)","v":0},{"$f":"IF(Rekenvolumes!I70>0,(1000*'Vergoedingen AD'!I118/Rekenvolumes!I70)*(1+CPIv2009n2010),0)","v":0},{"$f":"IF(Rekenvolumes!J70>0,(1000*'Vergoedingen AD'!J118/Rekenvolumes!J70)*(1+CPIv2009n2010),0)","v":0},{"$f":"IF(Rekenvolumes!K70>0,(1000*'Vergoedingen AD'!K118/Rekenvolumes!K70)*(1+CPIv2009n2010),0)","v":0},{"$f":"IF(Rekenvolumes!L70>0,(1000*'Vergoedingen AD'!L118/Rekenvolumes!L70)*(1+CPIv2009n2010),0)","v":0},{"$f":"IF(Rekenvolumes!M70>0,(1000*'Vergoedingen AD'!M118/Rekenvolumes!M70)*(1+CPIv2009n2010),0)","v":0},{"$f":"IF(Rekenvolumes!N70>0,(1000*'Vergoedingen AD'!N118/Rekenvolumes!N70)*(1+CPIv2009n2010),0)","v":12884.895669800002},{"$f":"IF(Rekenvolumes!O70>0,(1000*'Vergoedingen AD'!O118/Rekenvolumes!O70)*(1+CPIv2009n2010),0)","v":0},{"$f":"IF(Rekenvolumes!P70>0,(1000*'Vergoedingen AD'!P118/Rekenvolumes!P70)*(1+CPIv2009n2010),0)","v":0}]
[null,"HD 1000-1600 m3/h ","€",null,{"$f":"IF(Rekenvolumes!E71>0,(1000*'Vergoedingen AD'!E119/Rekenvolumes!E71)*(1+CPIv2009n2010),0)","v":0},{"$f":"IF(Rekenvolumes!F71>0,(1000*'Vergoedingen AD'!F119/Rekenvolumes!F71)*(1+CPIv2009n2010),0)","v":0},{"$f":"IF(Rekenvolumes!G71>0,(1000*'Vergoedingen AD'!G119/Rekenvolumes!G71)*(1+CPIv2009n2010),0)","v":4855.2812769999991},{"$f":"IF(Rekenvolumes!H71>0,(1000*'Vergoedingen AD'!H119/Rekenvolumes!H71)*(1+CPIv2009n2010),0)","v":0},{"$f":"IF(Rekenvolumes!I71>0,(1000*'Vergoedingen AD'!I119/Rekenvolumes!I71)*(1+CPIv2009n2010),0)","v":0},{"$f":"IF(Rekenvolumes!J71>0,(1000*'Vergoedingen AD'!J119/Rekenvolumes!J71)*(1+CPIv2009n2010),0)","v":0},{"$f":"IF(Rekenvolumes!K71>0,(1000*'Vergoedingen AD'!K119/Rekenvolumes!K71)*(1+CPIv2009n2010),0)","v":0},{"$f":"IF(Rekenvolumes!L71>0,(1000*'Vergoedingen AD'!L119/Rekenvolumes!L71)*(1+CPIv2009n2010),0)","v":0},{"$f":"IF(Rekenvolumes!M71>0,(1000*'Vergoedingen AD'!M119/Rekenvolumes!M71)*(1+CPIv2009n2010),0)","v":0},{"$f":"IF(Rekenvolumes!N71>0,(1000*'Vergoedingen AD'!N119/Rekenvolumes!N71)*(1+CPIv2009n2010),0)","v":7078.4991815999992},{"$f":"IF(Rekenvolumes!O71>0,(1000*'Vergoedingen AD'!O119/Rekenvolumes!O71)*(1+CPIv2009n2010),0)","v":0},{"$f":"IF(Rekenvolumes!P71>0,(1000*'Vergoedingen AD'!P119/Rekenvolumes!P71)*(1+CPIv2009n2010),0)","v":0}]
[null,"HD 1600-2500 m3/h ","€",null,{"$f":"IF(Rekenvolumes!E72>0,(1000*'Vergoedingen AD'!E120/Rekenvolumes!E72)*(1+CPIv2009n2010),0)","v":0},{"$f":"IF(Rekenvolumes!F72>0,(1000*'Vergoedingen AD'!F120/Rekenvolumes!F72)*(1+CPIv2009n2010),0)","v":0},{"$f":"IF(Rekenvolumes!G72>0,(1000*'Vergoedingen AD'!G120/Rekenvolumes!G72)*(1+CPIv2009n2010),0)","v":0},{"$f":"IF(Rekenvolumes!H72>0,(1000*'Vergoedingen AD'!H120/Rekenvolumes!H72)*(1+CPIv2009n2010),0)","v":0},{"$f":"IF(Rekenvolumes!I72>0,(1000*'Vergoedingen AD'!I120/Rekenvolumes!I72)*(1+CPIv2009n2010),0)","v":0},{"$f":"IF(Rekenvolumes!J72>0,(1000*'Vergoedingen AD'!J120/Rekenvolumes!J72)*(1+CPIv2009n2010),0)","v":0},{"$f":"IF(Rekenvolumes!K72>0,(1000*'Vergoedingen AD'!K120/Rekenvolumes!K72)*(1+CPIv2009n2010),0)","v":0},{"$f":"IF(Rekenvolumes!L72>0,(1000*'Vergoedingen AD'!L120/Rekenvolumes!L72)*(1+CPIv2009n2010),0)","v":9149.9427249999972},{"$f":"IF(Rekenvolumes!M72>0,(1000*'Vergoedingen AD'!M120/Rekenvolumes!M72)*(1+CPIv2009n2010),0)","v":0},{"$f":"IF(Rekenvolumes!N72>0,(1000*'Vergoedingen AD'!N120/Rekenvolumes!N72)*(1+CPIv2009n2010),0)","v":16176.892144874999},{"$f":"IF(Rekenvolumes!O72>0,(1000*'Vergoedingen AD'!O120/Rekenvolumes!O72)*(1+CPIv2009n2010),0)","v":0},{"$f":"IF(Rekenvolumes!P72>0,(1000*'Vergoedingen AD'!P120/Rekenvolumes!P72)*(1+CPIv2009n2010),0)","v":0}]
[null,"HD >2500 m3/h","€",null,{"$f":"IF(Rekenvolumes!E73>0,(1000*'Vergoedingen AD'!E121/Rekenvolumes!E73)*(1+CPIv2009n2010),0)","v":0},{"$f":"IF(Rekenvolumes!F73>0,(1000*'Vergoedingen AD'!F121/Rekenvolumes!F73)*(1+CPIv2009n2010),0)","v":0},{"$f":"IF(Rekenvolumes!G73>0,(1000*'Vergoedingen AD'!G121/Rekenvolumes!G73)*(1+CPIv2009n2010),0)","v":74373.452999999994},{"$f":"IF(Rekenvolumes!H73>0,(1000*'Vergoedingen AD'!H121/Rekenvolumes!H73)*(1+CPIv2009n2010),0)","v":0},{"$f":"IF(Rekenvolumes!I73>0,(1000*'Vergoedingen AD'!I121/Rekenvolumes!I73)*(1+CPIv2009n2010),0)","v":0},{"$f":"IF(Rekenvolumes!J73>0,(1000*'Vergoedingen AD'!J121/Rekenvolumes!J73)*(1+CPIv2009n2010),0)","v":0},{"$f":"IF(Rekenvolumes!K73>0,(1000*'Vergoedingen AD'!K121/Rekenvolumes!K73)*(1+CPIv2009n2010),0)","v":0},{"$f":"IF(Rekenvolumes!L73>0,(1000*'Vergoedingen AD'!L121/Rekenvolumes!L73)*(1+CPIv2009n2010),0)","v":0},{"$f":"IF(Rekenvolumes!M73>0,(1000*'Vergoedingen AD'!M121/Rekenvolumes!M73)*(1+CPIv2009n2010),0)","v":0},{"$f":"IF(Rekenvolumes!N73>0,(1000*'Vergoedingen AD'!N121/Rekenvolumes!N73)*(1+CPIv2009n2010),0)","v":0},{"$f":"IF(Rekenvolumes!O73>0,(1000*'Vergoedingen AD'!O121/Rekenvolumes!O73)*(1+CPIv2009n2010),0)","v":6880.4603253833338},{"$f":"IF(Rekenvolumes!P73>0,(1000*'Vergoedingen AD'!P121/Rekenvolumes!P73)*(1+CPIv2009n2010),0)","v":0}]
[]
[null,"EHD 0-40 m3/h","€",null,{"$f":"IF(Rekenvolumes!E75>0,(1000*'Vergoedingen AD'!E123/Rekenvolumes!E75)*(1+CPIv2009n2010),0)","v":0},{"$f":"IF(Rekenvolumes!F75>0,(1000*'Vergoedingen AD'!F123/Rekenvolumes!F75)*(1+CPIv2009n2010),0)","v":0},{"$f":"IF(Rekenvolumes!G75>0,(1000*'Vergoedingen AD'!G123/Rekenvolumes!G75)*(1+CPIv2009n2010),0)","v":0},{"$f":"IF(Rekenvolumes!H75>0,(1000*'Vergoedingen AD'!H123/Rekenvolumes!H75)*(1+CPIv2009n2010),0)","v":0},{"$f":"IF(Rekenvolumes!I75>0,(1000*'Vergoedingen AD'!I123/Rekenvolumes!I75)*(1+CPIv2009n2010),0)","v":0},{"$f":"IF(Rekenvolumes!J75>0,(1000*'Vergoedingen AD'!J123/Rekenvolumes!J75)*(1+CPIv2009n2010),0)","v":0},{"$f":"IF(Rekenvolumes!K75>0,(1000*'Vergoedingen AD'!K123/Rekenvolumes!K75)*(1+CPIv2009n2010),0)","v":0},{"$f":"IF(Rekenvolumes!L75>0,(1000*'Vergoedingen AD'!L123/Rekenvolumes!L75)*(1+CPIv2009n2010),0)","v":0},{"$f":"IF(Rekenvolumes!M75>0,(1000*'Vergoedingen AD'!M123/Rekenvolumes!M75)*(1+CPIv2009n2010),0)","v":0},{"$f":"IF(Rekenvolumes!N75>0,(1000*'Vergoedingen AD'!N123/Rekenvolumes!N75)*(1+CPIv2009n2010),0)","v":0},{"$f":"IF(Rekenvolumes!O75>0,(1000*'Vergoedingen AD'!O123/Rekenvolumes!O75)*(1+CPIv2009n2010),0)","v":0},{"$f":"IF(Rekenvolumes!P75>0,(1000*'Vergoedingen AD'!P123/Rekenvolumes!P75)*(1+CPIv2009n2010),0)","v":0}]
[null,"EHD >40 m3/h","€",null,{"$f":"IF(Rekenvolumes!E76>0,(1000*'Vergoedingen AD'!E124/Rekenvolumes!E76)*(1+CPIv2009n2010),0)","v":0},{"$f":"IF(Rekenvolumes!F76>0,(1000*'Vergoedingen AD'!F124/Rekenvolumes!F76)*(1+CPIv2009n2010),0)","v":0},{"$f":"IF(Rekenvolumes!G76>0,(1000*'Vergoedingen AD'!G124/Rekenvolumes!G76)*(1+CPIv2009n2010),0)","v":0},{"$f":"IF(Rekenvolumes!H76>0,(1000*'Vergoedingen AD'!H124/Rekenvolumes!H76)*(1+CPIv2009n2010),0)","v":0},{"$f":"IF(Rekenvolumes!I76>0,(1000*'Vergoedingen AD'!I124/Rekenvolumes!I76)*(1+CPIv2009n2010),0)","v":0},{"$f":"IF(Rekenvolumes!J76>0,(1000*'Vergoedingen AD'!J124/Rekenvolumes!J76)*(1+CPIv2009n2010),0)","v":0},{"$f":"IF(Rekenvolumes!K76>0,(1000*'Vergoedingen AD'!K124/Rekenvolumes!K76)*(1+CPIv2009n2010),0)","v":0},{"$f":"IF(Rekenvolumes!L76>0,(1000*'Vergoedingen AD'!L124/Rekenvolumes!L76)*(1+CPIv2009n2010),0)","v":0},{"$f":"IF(Rekenvolumes!M76>0,(1000*'Vergoedingen AD'!M124/Rekenvolumes!M76)*(1+CPIv2009n2010),0)","v":0},{"$f":"IF(Rekenvolumes!N76>0,(1000*'Vergoedingen AD'!N124/Rekenvolumes!N76)*(1+CPIv2009n2010),0)","v":0},{"$f":"IF(Rekenvolumes!O76>0,(1000*'Vergoedingen AD'!O124/Rekenvolumes!O76)*(1+CPIv2009n2010),0)","v":0},{"$f":"IF(Rekenvolumes!P76>0,(1000*'Vergoedingen AD'!P124/Rekenvolumes!P76)*(1+CPIv2009n2010),0)","v":0}]
[]
[null,"Meerlengtevergoeding "]
[null,"LD 0-10 m3/h","€",null,{"$f":"IF(Rekenvolumes!E79>0,(1000*'Vergoedingen AD'!E127/Rekenvolumes!E79)*(1+CPIv2009n2010),0)","v":19.26763},{"$f":"IF(Rekenvolumes!F79>0,(1000*'Vergoedingen AD'!F127/Rekenvolumes!F79)*(1+CPIv2009n2010),0)","v":10.862489999999999},{"$f":"IF(Rekenvolumes!G79>0,(1000*'Vergoedingen AD'!G127/Rekenvolumes!G79)*(1+CPIv2009n2010),0)","v":28.254510000000003},{"$f":"IF(Rekenvolumes!H79>0,(1000*'Vergoedingen AD'!H127/Rekenvolumes!H79)*(1+CPIv2009n2010),0)","v":21.564499999999999},{"$f":"IF(Rekenvolumes!I79>0,(1000*'Vergoedingen AD'!I127/Rekenvolumes!I79)*(1+CPIv2009n2010),0)","v":0},{"$f":"IF(Rekenvolumes!J79>0,(1000*'Vergoedingen AD'!J127/Rekenvolumes!J79)*(1+CPIv2009n2010),0)","v":20.75207},{"$f":"IF(Rekenvolumes!K79>0,(1000*'Vergoedingen AD'!K127/Rekenvolumes!K79)*(1+CPIv2009n2010),0)","v":25.024849999999997},{"$f":"IF(Rekenvolumes!L79>0,(1000*'Vergoedingen AD'!L127/Rekenvolumes!L79)*(1+CPIv2009n2010),0)","v":21.564499999999999},{"$f":"IF(Rekenvolumes!M79>0,(1000*'Vergoedingen AD'!M127/Rekenvolumes!M79)*(1+CPIv2009n2010),0)","v":22.216449999999995},{"$f":"IF(Rekenvolumes!N79>0,(1000*'Vergoedingen AD'!N127/Rekenvolumes!N79)*(1+CPIv2009n2010),0)","v":49.401743208430908},{"$f":"IF(Rekenvolumes!O79>0,(1000*'Vergoedingen AD'!O127/Rekenvolumes!O79)*(1+CPIv2009n2010),0)","v":22.567500000000003},{"$f":"IF(Rekenvolumes!P79>0,(1000*'Vergoedingen AD'!P127/Rekenvolumes!P79)*(1+CPIv2009n2010),0)","v":0}]
[null,"LD 10-16 m3/h","€",null,{"$f":"IF(Rekenvolumes!E80>0,(1000*'Vergoedingen AD'!E128/Rekenvolumes!E80)*(1+CPIv2009n2010),0)","v":19.939639999999997},{"$f":"IF(Rekenvolumes!F80>0,(1000*'Vergoedingen AD'!F128/Rekenvolumes!F80)*(1+CPIv2009n2010),0)","v":0},{"$f":"IF(Rekenvolumes!G80>0,(1000*'Vergoedingen AD'!G128/Rekenvolumes!G80)*(1+CPIv2009n2010),0)","v":29.417989999999996},{"$f":"IF(Rekenvolumes!H80>0,(1000*'Vergoedingen AD'!H128/Rekenvolumes!H80)*(1+CPIv2009n2010),0)","v":21.564499999999999},{"$f":"IF(Rekenvolumes!I80>0,(1000*'Vergoedingen AD'!I128/Rekenvolumes!I80)*(1+CPIv2009n2010),0)","v":0},{"$f":"IF(Rekenvolumes!J80>0,(1000*'Vergoedingen AD'!J128/Rekenvolumes!J80)*(1+CPIv2009n2010),0)","v":0},{"$f":"IF(Rekenvolumes!K80>0,(1000*'Vergoedingen AD'!K128/Rekenvolumes!K80)*(1+CPIv2009n2010),0)","v":25.024849999999997},{"$f":"IF(Rekenvolumes!L80>0,(1000*'Vergoedingen AD'!L128/Rekenvolumes!L80)*(1+CPIv2009n2010),0)","v":21.564499999999999},{"$f":"IF(Rekenvolumes!M80>0,(1000*'Vergoedingen AD'!M128/Rekenvolumes!M80)*(1+CPIv2009n2010),0)","v":0},{"$f":"IF(Rekenvolumes!N80>0,(1000*'Vergoedingen AD'!N128/Rekenvolumes!N80)*(1+CPIv2009n2010),0)","v":40.420899999999996},{"$f":"IF(Rekenvolumes!O80>0,(1000*'Vergoedingen AD'!O128/Rekenvolumes!O80)*(1+CPIv2009n2010),0)","v":27.482200000000013},{"$f":"IF(Rekenvolumes!P80>0,(1000*'Vergoedingen AD'!P128/Rekenvolumes!P80)*(1+CPIv2009n2010),0)","v":0}]
[null,"LD 16-25 m3/h","€",null,{"$f":"IF(Rekenvolumes!E81>0,(1000*'Vergoedingen AD'!E129/Rekenvolumes!E81)*(1+CPIv2009n2010),0)","v":27.973669999999998},{"$f":"IF(Rekenvolumes!F81>0,(1000*'Vergoedingen AD'!F129/Rekenvolumes!F81)*(1+CPIv2009n2010),0)","v":11.604709999999999},{"$f":"IF(Rekenvolumes!G81>0,(1000*'Vergoedingen AD'!G129/Rekenvolumes!G81)*(1+CPIv2009n2010),0)","v":29.417989999999996},{"$f":"IF(Rekenvolumes!H81>0,(1000*'Vergoedingen AD'!H129/Rekenvolumes!H81)*(1+CPIv2009n2010),0)","v":21.564499999999999},{"$f":"IF(Rekenvolumes!I81>0,(1000*'Vergoedingen AD'!I129/Rekenvolumes!I81)*(1+CPIv2009n2010),0)","v":0},{"$f":"IF(Rekenvolumes!J81>0,(1000*'Vergoedingen AD'!J129/Rekenvolumes!J81)*(1+CPIv2009n2010),0)","v":24.633679999999995},{"$f":"IF(Rekenvolumes!K81>0,(1000*'Vergoedingen AD'!K129/Rekenvolumes!K81)*(1+CPIv2009n2010),0)","v":25.024849999999997},{"$f":"IF(Rekenvolumes!L81>0,(1000*'Vergoedingen AD'!L129/Rekenvolumes!L81)*(1+CPIv2009n2010),0)","v":21.564499999999999},{"$f":"IF(Rekenvolumes!M81>0,(1000*'Vergoedingen AD'!M129/Rekenvolumes!M81)*(1+CPIv2009n2010),0)","v":28.083999999999996},{"$f":"IF(Rekenvolumes!N81>0,(1000*'Vergoedingen AD'!N129/Rekenvolumes!N81)*(1+CPIv2009n2010),0)","v":0},{"$f":"IF(Rekenvolumes!O81>0,(1000*'Vergoedingen AD'!O129/Rekenvolumes!O81)*(1+CPIv2009n2010),0)","v":27.482199999999981},{"$f":"IF(Rekenvolumes!P81>0,(1000*'Vergoedingen AD'!P129/Rekenvolumes!P81)*(1+CPIv2009n2010),0)","v":0}]
[null,"LD 25-40 m3/h ","€",null,{"$f":"IF(Rekenvolumes!E82>0,(1000*'Vergoedingen AD'!E130/Rekenvolumes!E82)*(1+CPIv2009n2010),0)","v":31.955579999999998},{"$f":"IF(Rekenvolumes!F82>0,(1000*'Vergoedingen AD'!F130/Rekenvolumes!F82)*(1+CPIv2009n2010),0)","v":0},{"$f":"IF(Rekenvolumes!G82>0,(1000*'Vergoedingen AD'!G130/Rekenvolumes!G82)*(1+CPIv2009n2010),0)","v":33.309629999999999},{"$f":"IF(Rekenvolumes!H82>0,(1000*'Vergoedingen AD'!H130/Rekenvolumes!H82)*(1+CPIv2009n2010),0)","v":21.564499999999999},{"$f":"IF(Rekenvolumes!I82>0,(1000*'Vergoedingen AD'!I130/Rekenvolumes!I82)*(1+CPIv2009n2010),0)","v":0},{"$f":"IF(Rekenvolumes!J82>0,(1000*'Vergoedingen AD'!J130/Rekenvolumes!J82)*(1+CPIv2009n2010),0)","v":0},{"$f":"IF(Rekenvolumes!K82>0,(1000*'Vergoedingen AD'!K130/Rekenvolumes!K82)*(1+CPIv2009n2010),0)","v":25.024849999999997},{"$f":"IF(Rekenvolumes!L82>0,(1000*'Vergoedingen AD'!L130/Rekenvolumes!L82)*(1+CPIv2009n2010),0)","v":21.564499999999999},{"$f":"IF(Rekenvolumes!M82>0,(1000*'Vergoedingen AD'!M130/Rekenvolumes!M82)*(1+CPIv2009n2010),0)","v":0},{"$f":"IF(Rekenvolumes!N82>0,(1000*'Vergoedingen AD'!N130/Rekenvolumes!N82)*(1+CPIv2009n2010),0)","v":40.420899999999996},{"$f":"IF(Rekenvolumes!O82>0,(1000*'Vergoedingen AD'!O130/Rekenvolumes!O82)*(1+CPIv2009n2010),0)","v":27.482199999999963},{"$f":"IF(Rekenvolumes!P82>0,(1000*'Vergoedingen AD'!P130/Rekenvolumes!P82)*(1+CPIv2009n2010),0)","v":0}]
[null,"HD 0-10 m3/h","€",null,{"$f":"IF(Rekenvolumes!E83>0,(1000*'Vergoedingen AD'!E131/Rekenvolumes!E83)*(1+CPIv2009n2010),0)","v":0},{"$f":"IF(Rekenvolumes!F83>0,(1000*'Vergoedingen AD'!F131/Rekenvolumes!F83)*(1+CPIv2009n2010),0)","v":0},{"$f":"IF(Rekenvolumes!G83>0,(1000*'Vergoedingen AD'!G131/Rekenvolumes!G83)*(1+CPIv2009n2010),0)","v":0},{"$f":"IF(Rekenvolumes!H83>0,(1000*'Vergoedingen AD'!H131/Rekenvolumes!H83)*(1+CPIv2009n2010),0)","v":0},{"$f":"IF(Rekenvolumes!I83>0,(1000*'Vergoedingen AD'!I131/Rekenvolumes!I83)*(1+CPIv2009n2010),0)","v":0},{"$f":"IF(Rekenvolumes!J83>0,(1000*'Vergoedingen AD'!J131/Rekenvolumes!J83)*(1+CPIv2009n2010),0)","v":0},{"$f":"IF(Rekenvolumes!K83>0,(1000*'Vergoedingen AD'!K131/Rekenvolumes!K83)*(1+CPIv2009n2010),0)","v":0},{"$f":"IF(Rekenvolumes!L83>0,(1000*'Vergoedingen AD'!L131/Rekenvolumes!L83)*(1+CPIv2009n2010),0)","v":0},{"$f":"IF(Rekenvolumes!M83>0,(1000*'Vergoedingen AD'!M131/Rekenvolumes!M83)*(1+CPIv2009n2010),0)","v":0},{"$f":"IF(Rekenvolumes!N83>0,(1000*'Vergoedingen AD'!N131/Rekenvolumes!N83)*(1+CPIv2009n2010),0)","v":0},{"$f":"IF(Rekenvolumes!O83>0,(1000*'Vergoedingen AD'!O131/Rekenvolumes!O83)*(1+CPIv2009n2010),0)","v":0},{"$f":"IF(Rekenvolumes!P83>0,(1000*'Vergoedingen AD'!P131/Rekenvolumes!P83)*(1+CPIv2009n2010),0)","v":0}]
[null,"HD 10-16 m3/h","€",null,{"$f":"IF(Rekenvolumes!E84>0,(1000*'Vergoedingen AD'!E132/Rekenvolumes!E84)*(1+CPIv2009n2010),0)","v":0},{"$f":"IF(Rekenvolumes!F84>0,(1000*'Vergoedingen AD'!F132/Rekenvolumes!F84)*(1+CPIv2009n2010),0)","v":0},{"$f":"IF(Rekenvolumes!G84>0,(1000*'Vergoedingen AD'!G132/Rekenvolumes!G84)*(1+CPIv2009n2010),0)","v":0},{"$f":"IF(Rekenvolumes!H84>0,(1000*'Vergoedingen AD'!H132/Rekenvolumes!H84)*(1+CPIv2009n2010),0)","v":0},{"$f":"IF(Rekenvolumes!I84>0,(1000*'Vergoedingen AD'!I132/Rekenvolumes!I84)*(1+CPIv2009n2010),0)","v":0},{"$f":"IF(Rekenvolumes!J84>0,(1000*'Vergoedingen AD'!J132/Rekenvolumes!J84)*(1+CPIv2009n2010),0)","v":0},{"$f":"IF(Rekenvolumes!K84>0,(1000*'Vergoedingen AD'!K132/Rekenvolumes!K84)*(1+CPIv2009n2010),0)","v":0},{"$f":"IF(Rekenvolumes!L84>0,(1000*'Vergoedingen AD'!L132/Rekenvolumes!L84)*(1+CPIv2009n2010),0)","v":0},{"$f":"IF(Rekenvolumes!M84>0,(1000*'Vergoedingen AD'!M132/Rekenvolumes!M84)*(1+CPIv2009n2010),0)","v":0},{"$f":"IF(Rekenvolumes!N84>0,(1000*'Vergoedingen AD'!N132/Rekenvolumes!N84)*(1+CPIv2009n2010),0)","v":0},{"$f":"IF(Rekenvolumes!O84>0,(1000*'Vergoedingen AD'!O132/Rekenvolumes!O84)*(1+CPIv2009n2010),0)","v":0},{"$f":"IF(Rekenvolumes!P84>0,(1000*'Vergoedingen AD'!P132/Rekenvolumes!P84)*(1+CPIv2009n2010),0)","v":0}]
[null,"HD 16-25 m3/h","€",null,{"$f":"IF(Rekenvolumes!E85>0,(1000*'Vergoedingen AD'!E133/Rekenvolumes!E85)*(1+CPIv2009n2010),0)","v":0},{"$f":"IF(Rekenvolumes!F85>0,(1000*'Vergoedingen AD'!F133/Rekenvolumes!F85)*(1+CPIv2009n2010),0)","v":0},{"$f":"IF(Rekenvolumes!G85>0,(1000*'Vergoedingen AD'!G133/Rekenvolumes!G85)*(1+CPIv2009n2010),0)","v":0},{"$f":"IF(Rekenvolumes!H85>0,(1000*'Vergoedingen AD'!H133/Rekenvolumes!H85)*(1+CPIv2009n2010),0)","v":0},{"$f":"IF(Rekenvolumes!I85>0,(1000*'Vergoedingen AD'!I133/Rekenvolumes!I85)*(1+CPIv2009n2010),0)","v":0},{"$f":"IF(Rekenvolumes!J85>0,(1000*'Vergoedingen AD'!J133/Rekenvolumes!J85)*(1+CPIv2009n2010),0)","v":0},{"$f":"IF(Rekenvolumes!K85>0,(1000*'Vergoedingen AD'!K133/Rekenvolumes!K85)*(1+CPIv2009n2010),0)","v":0},{"$f":"IF(Rekenvolumes!L85>0,(1000*'Vergoedingen AD'!L133/Rekenvolumes!L85)*(1+CPIv2009n2010),0)","v":0},{"$f":"IF(Rekenvolumes!M85>0,(1000*'Vergoedingen AD'!M133/Rekenvolumes!M85)*(1+CPIv2009n2010),0)","v":0},{"$f":"IF(Rekenvolumes!N85>0,(1000*'Vergoedingen AD'!N133/Rekenvolumes!N85)*(1+CPIv2009n2010),0)","v":0},{"$f":"IF(Rekenvolumes!O85>0,(1000*'Vergoedingen AD'!O133/Rekenvolumes!O85)*(1+CPIv2009n2010),0)","v":0},{"$f":"IF(Rekenvolumes!P85>0,(1000*'Vergoedingen AD'!P133/Rekenvolumes!P85)*(1+CPIv2009n2010),0)","v":0}]
[null,"HD 25-40 m3/h","€",null,{"$f":"IF(Rekenvolumes!E86>0,(1000*'Vergoedingen AD'!E134/Rekenvolumes!E86)*(1+CPIv2009n2010),0)","v":0},{"$f":"IF(Rekenvolumes!F86>0,(1000*'Vergoedingen AD'!F134/Rekenvolumes!F86)*(1+CPIv2009n2010),0)","v":0},{"$f":"IF(Rekenvolumes!G86>0,(1000*'Vergoedingen AD'!G134/Rekenvolumes!G86)*(1+CPIv2009n2010),0)","v":0},{"$f":"IF(Rekenvolumes!H86>0,(1000*'Vergoedingen AD'!H134/Rekenvolumes!H86)*(1+CPIv2009n2010),0)","v":0},{"$f":"IF(Rekenvolumes!I86>0,(1000*'Vergoedingen AD'!I134/Rekenvolumes!I86)*(1+CPIv2009n2010),0)","v":0},{"$f":"IF(Rekenvolumes!J86>0,(1000*'Vergoedingen AD'!J134/Rekenvolumes!J86)*(1+CPIv2009n2010),0)","v":0},{"$f":"IF(Rekenvolumes!K86>0,(1000*'Vergoedingen AD'!K134/Rekenvolumes!K86)*(1+CPIv2009n2010),0)","v":31.022789999999997},{"$f":"IF(Rekenvolumes!L86>0,(1000*'Vergoedingen AD'!L134/Rekenvolumes!L86)*(1+CPIv2009n2010),0)","v":0},{"$f":"IF(Rekenvolumes!M86>0,(1000*'Vergoedingen AD'!M134/Rekenvolumes!M86)*(1+CPIv2009n2010),0)","v":0},{"$f":"IF(Rekenvolumes!N86>0,(1000*'Vergoedingen AD'!N134/Rekenvolumes!N86)*(1+CPIv2009n2010),0)","v":0},{"$f":"IF(Rekenvolumes!O86>0,(1000*'Vergoedingen AD'!O134/Rekenvolumes!O86)*(1+CPIv2009n2010),0)","v":0},{"$f":"IF(Rekenvolumes!P86>0,(1000*'Vergoedingen AD'!P134/Rekenvolumes!P86)*(1+CPIv2009n2010),0)","v":0}]
[null,"EHD 0-40 m3/h","€",null,{"$f":"IF(Rekenvolumes!E87>0,(1000*'Vergoedingen AD'!E135/Rekenvolumes!E87)*(1+CPIv2009n2010),0)","v":0},{"$f":"IF(Rekenvolumes!F87>0,(1000*'Vergoedingen AD'!F135/Rekenvolumes!F87)*(1+CPIv2009n2010),0)","v":0},{"$f":"IF(Rekenvolumes!G87>0,(1000*'Vergoedingen AD'!G135/Rekenvolumes!G87)*(1+CPIv2009n2010),0)","v":0},{"$f":"IF(Rekenvolumes!H87>0,(1000*'Vergoedingen AD'!H135/Rekenvolumes!H87)*(1+CPIv2009n2010),0)","v":0},{"$f":"IF(Rekenvolumes!I87>0,(1000*'Vergoedingen AD'!I135/Rekenvolumes!I87)*(1+CPIv2009n2010),0)","v":0},{"$f":"IF(Rekenvolumes!J87>0,(1000*'Vergoedingen AD'!J135/Rekenvolumes!J87)*(1+CPIv2009n2010),0)","v":0},{"$f":"IF(Rekenvolumes!K87>0,(1000*'Vergoedingen AD'!K135/Rekenvolumes!K87)*(1+CPIv2009n2010),0)","v":0},{"$f":"IF(Rekenvolumes!L87>0,(1000*'Vergoedingen AD'!L135/Rekenvolumes!L87)*(1+CPIv2009n2010),0)","v":0},{"$f":"IF(Rekenvolumes!M87>0,(1000*'Vergoedingen AD'!M135/Rekenvolumes!M87)*(1+CPIv2009n2010),0)","v":0},{"$f":"IF(Rekenvolumes!N87>0,(1000*'Vergoedingen AD'!N135/Rekenvolumes!N87)*(1+CPIv2009n2010),0)","v":0},{"$f":"IF(Rekenvolumes!O87>0,(1000*'Vergoedingen AD'!O135/Rekenvolumes!O87)*(1+CPIv2009n2010),0)","v":0},{"$f":"IF(Rekenvolumes!P87>0,(1000*'Vergoedingen AD'!P135/Rekenvolumes!P87)*(1+CPIv2009n2010),0)","v":0}]
[]
[null,"Periodieke aansluitvergoeding"]
[null,"LD 0-10 m3/h","€",null,{"$f":"IF(Rekenvolumes!E90>0,(1000*'Vergoedingen AD'!E142/Rekenvolumes!E90)*(1+CPIv2009n2010),0)","v":24.673799999999996},{"$f":"IF(Rekenvolumes!F90>0,(1000*'Vergoedingen AD'!F142/Rekenvolumes!F90)*(1+CPIv2009n2010),0)","v":23.831280000000003},{"$f":"IF(Rekenvolumes!G90>0,(1000*'Vergoedingen AD'!G142/Rekenvolumes!G90)*(1+CPIv2009n2010),0)","v":22.357077874363412},{"$f":"IF(Rekenvolumes!H90>0,(1000*'Vergoedingen AD'!H142/Rekenvolumes!H90)*(1+CPIv2009n2010),0)","v":22.512710880382716},{"$f":"IF(Rekenvolumes!I90>0,(1000*'Vergoedingen AD'!I142/Rekenvolumes!I90)*(1+CPIv2009n2010),0)","v":39.869249999999994},{"$f":"IF(Rekenvolumes!J90>0,(1000*'Vergoedingen AD'!J142/Rekenvolumes!J90)*(1+CPIv2009n2010),0)","v":30.816686989994992},{"$f":"IF(Rekenvolumes!K90>0,(1000*'Vergoedingen AD'!K142/Rekenvolumes!K90)*(1+CPIv2009n2010),0)","v":22.748039999999996},{"$f":"IF(Rekenvolumes!L90>0,(1000*'Vergoedingen AD'!L142/Rekenvolumes!L90)*(1+CPIv2009n2010),0)","v":22.52016951040245},{"$f":"IF(Rekenvolumes!M90>0,(1000*'Vergoedingen AD'!M142/Rekenvolumes!M90)*(1+CPIv2009n2010),0)","v":27.933549999999993},{"$f":"IF(Rekenvolumes!N90>0,(1000*'Vergoedingen AD'!N142/Rekenvolumes!N90)*(1+CPIv2009n2010),0)","v":8.9266999999999985},{"$f":"IF(Rekenvolumes!O90>0,(1000*'Vergoedingen AD'!O142/Rekenvolumes!O90)*(1+CPIv2009n2010),0)","v":19.257599999999996},{"$f":"IF(Rekenvolumes!P90>0,(1000*'Vergoedingen AD'!P142/Rekenvolumes!P90)*(1+CPIv2009n2010),0)","v":0}]
[null,"LD 10-16 m3/h","€",null,{"$f":"IF(Rekenvolumes!E91>0,(1000*'Vergoedingen AD'!E143/Rekenvolumes!E91)*(1+CPIv2009n2010),0)","v":57.411719999999988},{"$f":"IF(Rekenvolumes!F91>0,(1000*'Vergoedingen AD'!F143/Rekenvolumes!F91)*(1+CPIv2009n2010),0)","v":0},{"$f":"IF(Rekenvolumes!G91>0,(1000*'Vergoedingen AD'!G143/Rekenvolumes!G91)*(1+CPIv2009n2010),0)","v":44.719910429806561},{"$f":"IF(Rekenvolumes!H91>0,(1000*'Vergoedingen AD'!H143/Rekenvolumes!H91)*(1+CPIv2009n2010),0)","v":46.218239999999994},{"$f":"IF(Rekenvolumes!I91>0,(1000*'Vergoedingen AD'!I143/Rekenvolumes!I91)*(1+CPIv2009n2010),0)","v":51.152999999999992},{"$f":"IF(Rekenvolumes!J91>0,(1000*'Vergoedingen AD'!J143/Rekenvolumes!J91)*(1+CPIv2009n2010),0)","v":50.190119999999993},{"$f":"IF(Rekenvolumes!K91>0,(1000*'Vergoedingen AD'!K143/Rekenvolumes!K91)*(1+CPIv2009n2010),0)","v":37.67268},{"$f":"IF(Rekenvolumes!L91>0,(1000*'Vergoedingen AD'!L143/Rekenvolumes!L91)*(1+CPIv2009n2010),0)","v":46.218239999999994},{"$f":"IF(Rekenvolumes!M91>0,(1000*'Vergoedingen AD'!M143/Rekenvolumes!M91)*(1+CPIv2009n2010),0)","v":69.55804999999998},{"$f":"IF(Rekenvolumes!N91>0,(1000*'Vergoedingen AD'!N143/Rekenvolumes!N91)*(1+CPIv2009n2010),0)","v":8.9266999999999985},{"$f":"IF(Rekenvolumes!O91>0,(1000*'Vergoedingen AD'!O143/Rekenvolumes!O91)*(1+CPIv2009n2010),0)","v":54.864099999999993},{"$f":"IF(Rekenvolumes!P91>0,(1000*'Vergoedingen AD'!P143/Rekenvolumes!P91)*(1+CPIv2009n2010),0)","v":0}]
[null,"LD 16-25 m3/h","€",null,{"$f":"IF(Rekenvolumes!E92>0,(1000*'Vergoedingen AD'!E144/Rekenvolumes!E92)*(1+CPIv2009n2010),0)","v":57.411719999999988},{"$f":"IF(Rekenvolumes!F92>0,(1000*'Vergoedingen AD'!F144/Rekenvolumes!F92)*(1+CPIv2009n2010),0)","v":51.27335999999999},{"$f":"IF(Rekenvolumes!G92>0,(1000*'Vergoedingen AD'!G144/Rekenvolumes!G92)*(1+CPIv2009n2010),0)","v":44.724729245058057},{"$f":"IF(Rekenvolumes!H92>0,(1000*'Vergoedingen AD'!H144/Rekenvolumes!H92)*(1+CPIv2009n2010),0)","v":46.218239999999994},{"$f":"IF(Rekenvolumes!I92>0,(1000*'Vergoedingen AD'!I144/Rekenvolumes!I92)*(1+CPIv2009n2010),0)","v":51.152999999999992},{"$f":"IF(Rekenvolumes!J92>0,(1000*'Vergoedingen AD'!J144/Rekenvolumes!J92)*(1+CPIv2009n2010),0)","v":50.190119999999993},{"$f":"IF(Rekenvolumes!K92>0,(1000*'Vergoedingen AD'!K144/Rekenvolumes!K92)*(1+CPIv2009n2010),0)","v":40.320599999999999},{"$f":"IF(Rekenvolumes!L92>0,(1000*'Vergoedingen AD'!L144/Rekenvolumes!L92)*(1+CPIv2009n2010),0)","v":46.218239999999994},{"$f":"IF(Rekenvolumes!M92>0,(1000*'Vergoedingen AD'!M144/Rekenvolumes!M92)*(1+CPIv2009n2010),0)","v":69.55804999999998},{"$f":"IF(Rekenvolumes!N92>0,(1000*'Vergoedingen AD'!N144/Rekenvolumes!N92)*(1+CPIv2009n2010),0)","v":8.9266999999999985},{"$f":"IF(Rekenvolumes!O92>0,(1000*'Vergoedingen AD'!O144/Rekenvolumes!O92)*(1+CPIv2009n2010),0)","v":54.864100000000001},{"$f":"IF(Rekenvolumes!P92>0,(1000*'Vergoedingen AD'!P144/Rekenvolumes!P92)*(1+CPIv2009n2010),0)","v":0}]
[null,"LD 25-40 m3/h ","€",null,{"$f":"IF(Rekenvolumes!E93>0,(1000*'Vergoedingen AD'!E145/Rekenvolumes!E93)*(1+CPIv2009n2010),0)","v":75.586079999999995},{"$f":"IF(Rekenvolumes!F93>0,(1000*'Vergoedingen AD'!F145/Rekenvolumes!F93)*(1+CPIv2009n2010),0)","v":84.733440000000002},{"$f":"IF(Rekenvolumes!G93>0,(1000*'Vergoedingen AD'!G145/Rekenvolumes!G93)*(1+CPIv2009n2010),0)","v":70.632562306029442},{"$f":"IF(Rekenvolumes!H93>0,(1000*'Vergoedingen AD'!H145/Rekenvolumes!H93)*(1+CPIv2009n2010),0)","v":70.651319999999984},{"$f":"IF(Rekenvolumes!I93>0,(1000*'Vergoedingen AD'!I145/Rekenvolumes!I93)*(1+CPIv2009n2010),0)","v":150.98402047781568},{"$f":"IF(Rekenvolumes!J93>0,(1000*'Vergoedingen AD'!J145/Rekenvolumes!J93)*(1+CPIv2009n2010),0)","v":78.35436},{"$f":"IF(Rekenvolumes!K93>0,(1000*'Vergoedingen AD'!K145/Rekenvolumes!K93)*(1+CPIv2009n2010),0)","v":71.734559999999988},{"$f":"IF(Rekenvolumes!L93>0,(1000*'Vergoedingen AD'!L145/Rekenvolumes!L93)*(1+CPIv2009n2010),0)","v":70.651319999999984},{"$f":"IF(Rekenvolumes!M93>0,(1000*'Vergoedingen AD'!M145/Rekenvolumes!M93)*(1+CPIv2009n2010),0)","v":81.343299999999985},{"$f":"IF(Rekenvolumes!N93>0,(1000*'Vergoedingen AD'!N145/Rekenvolumes!N93)*(1+CPIv2009n2010),0)","v":8.9266999999999985},{"$f":"IF(Rekenvolumes!O93>0,(1000*'Vergoedingen AD'!O145/Rekenvolumes!O93)*(1+CPIv2009n2010),0)","v":67.200999999999993},{"$f":"IF(Rekenvolumes!P93>0,(1000*'Vergoedingen AD'!P145/Rekenvolumes!P93)*(1+CPIv2009n2010),0)","v":0}]
[null,"LD 40-65 m3/h ","€",null,{"$f":"IF(Rekenvolumes!E94>0,(1000*'Vergoedingen AD'!E146/Rekenvolumes!E94)*(1+CPIv2009n2010),0)","v":84.150897599999993},{"$f":"IF(Rekenvolumes!F94>0,(1000*'Vergoedingen AD'!F146/Rekenvolumes!F94)*(1+CPIv2009n2010),0)","v":60.888920400000011},{"$f":"IF(Rekenvolumes!G94>0,(1000*'Vergoedingen AD'!G146/Rekenvolumes!G94)*(1+CPIv2009n2010),0)","v":69.934720232701423},{"$f":"IF(Rekenvolumes!H94>0,(1000*'Vergoedingen AD'!H146/Rekenvolumes!H94)*(1+CPIv2009n2010),0)","v":79.235466240684588},{"$f":"IF(Rekenvolumes!I94>0,(1000*'Vergoedingen AD'!I146/Rekenvolumes!I94)*(1+CPIv2009n2010),0)","v":546.02316999999982},{"$f":"IF(Rekenvolumes!J94>0,(1000*'Vergoedingen AD'!J146/Rekenvolumes!J94)*(1+CPIv2009n2010),0)","v":73.815085288744811},{"$f":"IF(Rekenvolumes!K94>0,(1000*'Vergoedingen AD'!K146/Rekenvolumes!K94)*(1+CPIv2009n2010),0)","v":67.56167880000001},{"$f":"IF(Rekenvolumes!L94>0,(1000*'Vergoedingen AD'!L146/Rekenvolumes!L94)*(1+CPIv2009n2010),0)","v":79.235466240684588},{"$f":"IF(Rekenvolumes!M94>0,(1000*'Vergoedingen AD'!M146/Rekenvolumes!M94)*(1+CPIv2009n2010),0)","v":63.017100342318756},{"$f":"IF(Rekenvolumes!N94>0,(1000*'Vergoedingen AD'!N146/Rekenvolumes!N94)*(1+CPIv2009n2010),0)","v":85.85770269999999},{"$f":"IF(Rekenvolumes!O94>0,(1000*'Vergoedingen AD'!O146/Rekenvolumes!O94)*(1+CPIv2009n2010),0)","v":75.686379999999986},{"$f":"IF(Rekenvolumes!P94>0,(1000*'Vergoedingen AD'!P146/Rekenvolumes!P94)*(1+CPIv2009n2010),0)","v":0}]
[null,"LD 65-100 m3/h ","€",null,{"$f":"IF(Rekenvolumes!E95>0,(1000*'Vergoedingen AD'!E147/Rekenvolumes!E95)*(1+CPIv2009n2010),0)","v":95.920901999999984},{"$f":"IF(Rekenvolumes!F95>0,(1000*'Vergoedingen AD'!F147/Rekenvolumes!F95)*(1+CPIv2009n2010),0)","v":75.392902199999995},{"$f":"IF(Rekenvolumes!G95>0,(1000*'Vergoedingen AD'!G147/Rekenvolumes!G95)*(1+CPIv2009n2010),0)","v":76.418338562716116},{"$f":"IF(Rekenvolumes!H95>0,(1000*'Vergoedingen AD'!H147/Rekenvolumes!H95)*(1+CPIv2009n2010),0)","v":118.62681599999999},{"$f":"IF(Rekenvolumes!I95>0,(1000*'Vergoedingen AD'!I147/Rekenvolumes!I95)*(1+CPIv2009n2010),0)","v":167.87138243523313},{"$f":"IF(Rekenvolumes!J95>0,(1000*'Vergoedingen AD'!J147/Rekenvolumes!J95)*(1+CPIv2009n2010),0)","v":103.42775519999996},{"$f":"IF(Rekenvolumes!K95>0,(1000*'Vergoedingen AD'!K147/Rekenvolumes!K95)*(1+CPIv2009n2010),0)","v":112.60279799999999},{"$f":"IF(Rekenvolumes!L95>0,(1000*'Vergoedingen AD'!L147/Rekenvolumes!L95)*(1+CPIv2009n2010),0)","v":118.62681599999998},{"$f":"IF(Rekenvolumes!M95>0,(1000*'Vergoedingen AD'!M147/Rekenvolumes!M95)*(1+CPIv2009n2010),0)","v":94.782760514068372},{"$f":"IF(Rekenvolumes!N95>0,(1000*'Vergoedingen AD'!N147/Rekenvolumes!N95)*(1+CPIv2009n2010),0)","v":85.85770269999999},{"$f":"IF(Rekenvolumes!O95>0,(1000*'Vergoedingen AD'!O147/Rekenvolumes!O95)*(1+CPIv2009n2010),0)","v":82.637169999999998},{"$f":"IF(Rekenvolumes!P95>0,(1000*'Vergoedingen AD'!P147/Rekenvolumes!P95)*(1+CPIv2009n2010),0)","v":0}]
[null,"LD 100-160 m3/h","€",null,{"$f":"IF(Rekenvolumes!E96>0,(1000*'Vergoedingen AD'!E148/Rekenvolumes!E96)*(1+CPIv2009n2010),0)","v":134.19658559999999},{"$f":"IF(Rekenvolumes!F96>0,(1000*'Vergoedingen AD'!F148/Rekenvolumes!F96)*(1+CPIv2009n2010),0)","v":115.05874379999997},{"$f":"IF(Rekenvolumes!G96>0,(1000*'Vergoedingen AD'!G148/Rekenvolumes!G96)*(1+CPIv2009n2010),0)","v":118.66912970186124},{"$f":"IF(Rekenvolumes!H96>0,(1000*'Vergoedingen AD'!H148/Rekenvolumes!H96)*(1+CPIv2009n2010),0)","v":168.65849028058796},{"$f":"IF(Rekenvolumes!I96>0,(1000*'Vergoedingen AD'!I148/Rekenvolumes!I96)*(1+CPIv2009n2010),0)","v":267.60541499999999},{"$f":"IF(Rekenvolumes!J96>0,(1000*'Vergoedingen AD'!J148/Rekenvolumes!J96)*(1+CPIv2009n2010),0)","v":168.8578584},{"$f":"IF(Rekenvolumes!K96>0,(1000*'Vergoedingen AD'!K148/Rekenvolumes!K96)*(1+CPIv2009n2010),0)","v":206.43846299999998},{"$f":"IF(Rekenvolumes!L96>0,(1000*'Vergoedingen AD'!L148/Rekenvolumes!L96)*(1+CPIv2009n2010),0)","v":168.65849028058793},{"$f":"IF(Rekenvolumes!M96>0,(1000*'Vergoedingen AD'!M148/Rekenvolumes!M96)*(1+CPIv2009n2010),0)","v":176.80587972120304},{"$f":"IF(Rekenvolumes!N96>0,(1000*'Vergoedingen AD'!N148/Rekenvolumes!N96)*(1+CPIv2009n2010),0)","v":85.85770269999999},{"$f":"IF(Rekenvolumes!O96>0,(1000*'Vergoedingen AD'!O148/Rekenvolumes!O96)*(1+CPIv2009n2010),0)","v":123.18344499999999},{"$f":"IF(Rekenvolumes!P96>0,(1000*'Vergoedingen AD'!P148/Rekenvolumes!P96)*(1+CPIv2009n2010),0)","v":0}]
[null,"LD 160-250 m3/h ","€",null,{"$f":"IF(Rekenvolumes!E97>0,(1000*'Vergoedingen AD'!E149/Rekenvolumes!E97)*(1+CPIv2009n2010),0)","v":134.19658559999996},{"$f":"IF(Rekenvolumes!F97>0,(1000*'Vergoedingen AD'!F149/Rekenvolumes!F97)*(1+CPIv2009n2010),0)","v":174.60384479999999},{"$f":"IF(Rekenvolumes!G97>0,(1000*'Vergoedingen AD'!G149/Rekenvolumes!G97)*(1+CPIv2009n2010),0)","v":224.36554146676301},{"$f":"IF(Rekenvolumes!H97>0,(1000*'Vergoedingen AD'!H149/Rekenvolumes!H97)*(1+CPIv2009n2010),0)","v":200.6374494661614},{"$f":"IF(Rekenvolumes!I97>0,(1000*'Vergoedingen AD'!I149/Rekenvolumes!I97)*(1+CPIv2009n2010),0)","v":413.61909707317068},{"$f":"IF(Rekenvolumes!J97>0,(1000*'Vergoedingen AD'!J149/Rekenvolumes!J97)*(1+CPIv2009n2010),0)","v":251.66493659999995},{"$f":"IF(Rekenvolumes!K97>0,(1000*'Vergoedingen AD'!K149/Rekenvolumes!K97)*(1+CPIv2009n2010),0)","v":289.01384819999998},{"$f":"IF(Rekenvolumes!L97>0,(1000*'Vergoedingen AD'!L149/Rekenvolumes!L97)*(1+CPIv2009n2010),0)","v":200.63744946616137},{"$f":"IF(Rekenvolumes!M97>0,(1000*'Vergoedingen AD'!M149/Rekenvolumes!M97)*(1+CPIv2009n2010),0)","v":393.92524658152473},{"$f":"IF(Rekenvolumes!N97>0,(1000*'Vergoedingen AD'!N149/Rekenvolumes!N97)*(1+CPIv2009n2010),0)","v":85.857702700000019},{"$f":"IF(Rekenvolumes!O97>0,(1000*'Vergoedingen AD'!O149/Rekenvolumes!O97)*(1+CPIv2009n2010),0)","v":164.88818499999996},{"$f":"IF(Rekenvolumes!P97>0,(1000*'Vergoedingen AD'!P149/Rekenvolumes!P97)*(1+CPIv2009n2010),0)","v":0}]
[null,"LD 250-400 m3/h ","€",null,{"$f":"IF(Rekenvolumes!E98>0,(1000*'Vergoedingen AD'!E150/Rekenvolumes!E98)*(1+CPIv2009n2010),0)","v":147.63477959999997},{"$f":"IF(Rekenvolumes!F98>0,(1000*'Vergoedingen AD'!F150/Rekenvolumes!F98)*(1+CPIv2009n2010),0)","v":238.31941979999996},{"$f":"IF(Rekenvolumes!G98>0,(1000*'Vergoedingen AD'!G150/Rekenvolumes!G98)*(1+CPIv2009n2010),0)","v":362.17578345605699},{"$f":"IF(Rekenvolumes!H98>0,(1000*'Vergoedingen AD'!H150/Rekenvolumes!H98)*(1+CPIv2009n2010),0)","v":320.19879172114679},{"$f":"IF(Rekenvolumes!I98>0,(1000*'Vergoedingen AD'!I150/Rekenvolumes!I98)*(1+CPIv2009n2010),0)","v":725.58524499999999},{"$f":"IF(Rekenvolumes!J98>0,(1000*'Vergoedingen AD'!J150/Rekenvolumes!J98)*(1+CPIv2009n2010),0)","v":371.72142250477083},{"$f":"IF(Rekenvolumes!K98>0,(1000*'Vergoedingen AD'!K150/Rekenvolumes!K98)*(1+CPIv2009n2010),0)","v":461.67147179999989},{"$f":"IF(Rekenvolumes!L98>0,(1000*'Vergoedingen AD'!L150/Rekenvolumes!L98)*(1+CPIv2009n2010),0)","v":320.19879172114673},{"$f":"IF(Rekenvolumes!M98>0,(1000*'Vergoedingen AD'!M150/Rekenvolumes!M98)*(1+CPIv2009n2010),0)","v":521.61507768270326},{"$f":"IF(Rekenvolumes!N98>0,(1000*'Vergoedingen AD'!N150/Rekenvolumes!N98)*(1+CPIv2009n2010),0)","v":85.857702700000004},{"$f":"IF(Rekenvolumes!O98>0,(1000*'Vergoedingen AD'!O150/Rekenvolumes!O98)*(1+CPIv2009n2010),0)","v":175.31437},{"$f":"IF(Rekenvolumes!P98>0,(1000*'Vergoedingen AD'!P150/Rekenvolumes!P98)*(1+CPIv2009n2010),0)","v":0}]
[null,"LD 400-650 m3/h ","€",null,{"$f":"IF(Rekenvolumes!E99>0,(1000*'Vergoedingen AD'!E151/Rekenvolumes!E99)*(1+CPIv2009n2010),0)","v":162.3704544},{"$f":"IF(Rekenvolumes!F99>0,(1000*'Vergoedingen AD'!F151/Rekenvolumes!F99)*(1+CPIv2009n2010),0)","v":0},{"$f":"IF(Rekenvolumes!G99>0,(1000*'Vergoedingen AD'!G151/Rekenvolumes!G99)*(1+CPIv2009n2010),0)","v":621.33589676812517},{"$f":"IF(Rekenvolumes!H99>0,(1000*'Vergoedingen AD'!H151/Rekenvolumes!H99)*(1+CPIv2009n2010),0)","v":0},{"$f":"IF(Rekenvolumes!I99>0,(1000*'Vergoedingen AD'!I151/Rekenvolumes!I99)*(1+CPIv2009n2010),0)","v":1168.1188749999999},{"$f":"IF(Rekenvolumes!J99>0,(1000*'Vergoedingen AD'!J151/Rekenvolumes!J99)*(1+CPIv2009n2010),0)","v":371.72142250477083},{"$f":"IF(Rekenvolumes!K99>0,(1000*'Vergoedingen AD'!K151/Rekenvolumes!K99)*(1+CPIv2009n2010),0)","v":649.34280179999985},{"$f":"IF(Rekenvolumes!L99>0,(1000*'Vergoedingen AD'!L151/Rekenvolumes!L99)*(1+CPIv2009n2010),0)","v":0},{"$f":"IF(Rekenvolumes!M99>0,(1000*'Vergoedingen AD'!M151/Rekenvolumes!M99)*(1+CPIv2009n2010),0)","v":478.30702920000004},{"$f":"IF(Rekenvolumes!N99>0,(1000*'Vergoedingen AD'!N151/Rekenvolumes!N99)*(1+CPIv2009n2010),0)","v":85.857702700000004},{"$f":"IF(Rekenvolumes!O99>0,(1000*'Vergoedingen AD'!O151/Rekenvolumes!O99)*(1+CPIv2009n2010),0)","v":242.89149499999999},{"$f":"IF(Rekenvolumes!P99>0,(1000*'Vergoedingen AD'!P151/Rekenvolumes!P99)*(1+CPIv2009n2010),0)","v":0}]
[null,"LD 650-1000 m3/h ","€",null,{"$f":"IF(Rekenvolumes!E100>0,(1000*'Vergoedingen AD'!E152/Rekenvolumes!E100)*(1+CPIv2009n2010),0)","v":0},{"$f":"IF(Rekenvolumes!F100>0,(1000*'Vergoedingen AD'!F152/Rekenvolumes!F100)*(1+CPIv2009n2010),0)","v":0},{"$f":"IF(Rekenvolumes!G100>0,(1000*'Vergoedingen AD'!G152/Rekenvolumes!G100)*(1+CPIv2009n2010),0)","v":1565.7108593279995},{"$f":"IF(Rekenvolumes!H100>0,(1000*'Vergoedingen AD'!H152/Rekenvolumes!H100)*(1+CPIv2009n2010),0)","v":0},{"$f":"IF(Rekenvolumes!I100>0,(1000*'Vergoedingen AD'!I152/Rekenvolumes!I100)*(1+CPIv2009n2010),0)","v":2687.252645},{"$f":"IF(Rekenvolumes!J100>0,(1000*'Vergoedingen AD'!J152/Rekenvolumes!J100)*(1+CPIv2009n2010),0)","v":371.72142250477083},{"$f":"IF(Rekenvolumes!K100>0,(1000*'Vergoedingen AD'!K152/Rekenvolumes!K100)*(1+CPIv2009n2010),0)","v":934.60322340000005},{"$f":"IF(Rekenvolumes!L100>0,(1000*'Vergoedingen AD'!L152/Rekenvolumes!L100)*(1+CPIv2009n2010),0)","v":0},{"$f":"IF(Rekenvolumes!M100>0,(1000*'Vergoedingen AD'!M152/Rekenvolumes!M100)*(1+CPIv2009n2010),0)","v":0},{"$f":"IF(Rekenvolumes!N100>0,(1000*'Vergoedingen AD'!N152/Rekenvolumes!N100)*(1+CPIv2009n2010),0)","v":85.857702700000004},{"$f":"IF(Rekenvolumes!O100>0,(1000*'Vergoedingen AD'!O152/Rekenvolumes!O100)*(1+CPIv2009n2010),0)","v":295.02242000000007},{"$f":"IF(Rekenvolumes!P100>0,(1000*'Vergoedingen AD'!P152/Rekenvolumes!P100)*(1+CPIv2009n2010),0)","v":0}]
[null,"LD 1000-1600 m3/h ","€",null,{"$f":"IF(Rekenvolumes!E101>0,(1000*'Vergoedingen AD'!E153/Rekenvolumes!E101)*(1+CPIv2009n2010),0)","v":0},{"$f":"IF(Rekenvolumes!F101>0,(1000*'Vergoedingen AD'!F153/Rekenvolumes!F101)*(1+CPIv2009n2010),0)","v":424.13720579999989},{"$f":"IF(Rekenvolumes!G101>0,(1000*'Vergoedingen AD'!G153/Rekenvolumes!G101)*(1+CPIv2009n2010),0)","v":4376.137946400002},{"$f":"IF(Rekenvolumes!H101>0,(1000*'Vergoedingen AD'!H153/Rekenvolumes!H101)*(1+CPIv2009n2010),0)","v":0},{"$f":"IF(Rekenvolumes!I101>0,(1000*'Vergoedingen AD'!I153/Rekenvolumes!I101)*(1+CPIv2009n2010),0)","v":0},{"$f":"IF(Rekenvolumes!J101>0,(1000*'Vergoedingen AD'!J153/Rekenvolumes!J101)*(1+CPIv2009n2010),0)","v":596.93223618479203},{"$f":"IF(Rekenvolumes!K101>0,(1000*'Vergoedingen AD'!K153/Rekenvolumes!K101)*(1+CPIv2009n2010),0)","v":1163.5622459999997},{"$f":"IF(Rekenvolumes!L101>0,(1000*'Vergoedingen AD'!L153/Rekenvolumes!L101)*(1+CPIv2009n2010),0)","v":0},{"$f":"IF(Rekenvolumes!M101>0,(1000*'Vergoedingen AD'!M153/Rekenvolumes!M101)*(1+CPIv2009n2010),0)","v":0},{"$f":"IF(Rekenvolumes!N101>0,(1000*'Vergoedingen AD'!N153/Rekenvolumes!N101)*(1+CPIv2009n2010),0)","v":85.857702700000004},{"$f":"IF(Rekenvolumes!O101>0,(1000*'Vergoedingen AD'!O153/Rekenvolumes!O101)*(1+CPIv2009n2010),0)","v":0},{"$f":"IF(Rekenvolumes!P101>0,(1000*'Vergoedingen AD'!P153/Rekenvolumes!P101)*(1+CPIv2009n2010),0)","v":0}]
[null,"LD 1600-2500 m3/h ","€",null,{"$f":"IF(Rekenvolumes!E102>0,(1000*'Vergoedingen AD'!E154/Rekenvolumes!E102)*(1+CPIv2009n2010),0)","v":0},{"$f":"IF(Rekenvolumes!F102>0,(1000*'Vergoedingen AD'!F154/Rekenvolumes!F102)*(1+CPIv2009n2010),0)","v":0},{"$f":"IF(Rekenvolumes!G102>0,(1000*'Vergoedingen AD'!G154/Rekenvolumes!G102)*(1+CPIv2009n2010),0)","v":4680.0364148999988},{"$f":"IF(Rekenvolumes!H102>0,(1000*'Vergoedingen AD'!H154/Rekenvolumes!H102)*(1+CPIv2009n2010),0)","v":0},{"$f":"IF(Rekenvolumes!I102>0,(1000*'Vergoedingen AD'!I154/Rekenvolumes!I102)*(1+CPIv2009n2010),0)","v":0},{"$f":"IF(Rekenvolumes!J102>0,(1000*'Vergoedingen AD'!J154/Rekenvolumes!J102)*(1+CPIv2009n2010),0)","v":681.68714459999978},{"$f":"IF(Rekenvolumes!K102>0,(1000*'Vergoedingen AD'!K154/Rekenvolumes!K102)*(1+CPIv2009n2010),0)","v":1505.1240665999994},{"$f":"IF(Rekenvolumes!L102>0,(1000*'Vergoedingen AD'!L154/Rekenvolumes!L102)*(1+CPIv2009n2010),0)","v":0},{"$f":"IF(Rekenvolumes!M102>0,(1000*'Vergoedingen AD'!M154/Rekenvolumes!M102)*(1+CPIv2009n2010),0)","v":0},{"$f":"IF(Rekenvolumes!N102>0,(1000*'Vergoedingen AD'!N154/Rekenvolumes!N102)*(1+CPIv2009n2010),0)","v":0},{"$f":"IF(Rekenvolumes!O102>0,(1000*'Vergoedingen AD'!O154/Rekenvolumes!O102)*(1+CPIv2009n2010),0)","v":0},{"$f":"IF(Rekenvolumes!P102>0,(1000*'Vergoedingen AD'!P154/Rekenvolumes!P102)*(1+CPIv2009n2010),0)","v":0}]
[null,"LD >2500 m3/h","€",null,{"$f":"IF(Rekenvolumes!E103>0,(1000*'Vergoedingen AD'!E155/Rekenvolumes!E103)*(1+CPIv2009n2010),0)","v":0},{"$f":"IF(Rekenvolumes!F103>0,(1000*'Vergoedingen AD'!F155/Rekenvolumes!F103)*(1+CPIv2009n2010),0)","v":0},{"$f":"IF(Rekenvolumes!G103>0,(1000*'Vergoedingen AD'!G155/Rekenvolumes!G103)*(1+CPIv2009n2010),0)","v":16464.909713174944},{"$f":"IF(Rekenvolumes!H103>0,(1000*'Vergoedingen AD'!H155/Rekenvolumes!H103)*(1+CPIv2009n2010),0)","v":0},{"$f":"IF(Rekenvolumes!I103>0,(1000*'Vergoedingen AD'!I155/Rekenvolumes!I103)*(1+CPIv2009n2010),0)","v":0},{"$f":"IF(Rekenvolumes!J103>0,(1000*'Vergoedingen AD'!J155/Rekenvolumes!J103)*(1+CPIv2009n2010),0)","v":0},{"$f":"IF(Rekenvolumes!K103>0,(1000*'Vergoedingen AD'!K155/Rekenvolumes!K103)*(1+CPIv2009n2010),0)","v":2188.2477078000002},{"$f":"IF(Rekenvolumes!L103>0,(1000*'Vergoedingen AD'!L155/Rekenvolumes!L103)*(1+CPIv2009n2010),0)","v":0},{"$f":"IF(Rekenvolumes!M103>0,(1000*'Vergoedingen AD'!M155/Rekenvolumes!M103)*(1+CPIv2009n2010),0)","v":0},{"$f":"IF(Rekenvolumes!N103>0,(1000*'Vergoedingen AD'!N155/Rekenvolumes!N103)*(1+CPIv2009n2010),0)","v":85.85770269999999},{"$f":"IF(Rekenvolumes!O103>0,(1000*'Vergoedingen AD'!O155/Rekenvolumes!O103)*(1+CPIv2009n2010),0)","v":0},{"$f":"IF(Rekenvolumes!P103>0,(1000*'Vergoedingen AD'!P155/Rekenvolumes!P103)*(1+CPIv2009n2010),0)","v":0}]
[]
[null,"HD 0-10 m3/h","€",null,{"$f":"IF(Rekenvolumes!E105>0,(1000*'Vergoedingen AD'!E157/Rekenvolumes!E105)*(1+CPIv2009n2010),0)","v":0},{"$f":"IF(Rekenvolumes!F105>0,(1000*'Vergoedingen AD'!F157/Rekenvolumes!F105)*(1+CPIv2009n2010),0)","v":0},{"$f":"IF(Rekenvolumes!G105>0,(1000*'Vergoedingen AD'!G157/Rekenvolumes!G105)*(1+CPIv2009n2010),0)","v":0},{"$f":"IF(Rekenvolumes!H105>0,(1000*'Vergoedingen AD'!H157/Rekenvolumes!H105)*(1+CPIv2009n2010),0)","v":0},{"$f":"IF(Rekenvolumes!I105>0,(1000*'Vergoedingen AD'!I157/Rekenvolumes!I105)*(1+CPIv2009n2010),0)","v":0},{"$f":"IF(Rekenvolumes!J105>0,(1000*'Vergoedingen AD'!J157/Rekenvolumes!J105)*(1+CPIv2009n2010),0)","v":0},{"$f":"IF(Rekenvolumes!K105>0,(1000*'Vergoedingen AD'!K157/Rekenvolumes!K105)*(1+CPIv2009n2010),0)","v":0},{"$f":"IF(Rekenvolumes!L105>0,(1000*'Vergoedingen AD'!L157/Rekenvolumes!L105)*(1+CPIv2009n2010),0)","v":0},{"$f":"IF(Rekenvolumes!M105>0,(1000*'Vergoedingen AD'!M157/Rekenvolumes!M105)*(1+CPIv2009n2010),0)","v":0},{"$f":"IF(Rekenvolumes!N105>0,(1000*'Vergoedingen AD'!N157/Rekenvolumes!N105)*(1+CPIv2009n2010),0)","v":0},{"$f":"IF(Rekenvolumes!O105>0,(1000*'Vergoedingen AD'!O157/Rekenvolumes!O105)*(1+CPIv2009n2010),0)","v":0},{"$f":"IF(Rekenvolumes!P105>0,(1000*'Vergoedingen AD'!P157/Rekenvolumes!P105)*(1+CPIv2009n2010),0)","v":0}]
[null,"HD 10-16 m3/h","€",null,{"$f":"IF(Rekenvolumes!E106>0,(1000*'Vergoedingen AD'!E158/Rekenvolumes!E106)*(1+CPIv2009n2010),0)","v":0},{"$f":"IF(Rekenvolumes!F106>0,(1000*'Vergoedingen AD'!F158/Rekenvolumes!F106)*(1+CPIv2009n2010),0)","v":0},{"$f":"IF(Rekenvolumes!G106>0,(1000*'Vergoedingen AD'!G158/Rekenvolumes!G106)*(1+CPIv2009n2010),0)","v":0},{"$f":"IF(Rekenvolumes!H106>0,(1000*'Vergoedingen AD'!H158/Rekenvolumes!H106)*(1+CPIv2009n2010),0)","v":0},{"$f":"IF(Rekenvolumes!I106>0,(1000*'Vergoedingen AD'!I158/Rekenvolumes!I106)*(1+CPIv2009n2010),0)","v":0},{"$f":"IF(Rekenvolumes!J106>0,(1000*'Vergoedingen AD'!J158/Rekenvolumes!J106)*(1+CPIv2009n2010),0)","v":0},{"$f":"IF(Rekenvolumes!K106>0,(1000*'Vergoedingen AD'!K158/Rekenvolumes!K106)*(1+CPIv2009n2010),0)","v":0},{"$f":"IF(Rekenvolumes!L106>0,(1000*'Vergoedingen AD'!L158/Rekenvolumes!L106)*(1+CPIv2009n2010),0)","v":0},{"$f":"IF(Rekenvolumes!M106>0,(1000*'Vergoedingen AD'!M158/Rekenvolumes!M106)*(1+CPIv2009n2010),0)","v":0},{"$f":"IF(Rekenvolumes!N106>0,(1000*'Vergoedingen AD'!N158/Rekenvolumes!N106)*(1+CPIv2009n2010),0)","v":0},{"$f":"IF(Rekenvolumes!O106>0,(1000*'Vergoedingen AD'!O158/Rekenvolumes!O106)*(1+CPIv2009n2010),0)","v":0},{"$f":"IF(Rekenvolumes!P106>0,(1000*'Vergoedingen AD'!P158/Rekenvolumes!P106)*(1+CPIv2009n2010),0)","v":0}]
[null,"HD 16-25 m3/h","€",null,{"$f":"IF(Rekenvolumes!E107>0,(1000*'Vergoedingen AD'!E159/Rekenvolumes!E107)*(1+CPIv2009n2010),0)","v":0},{"$f":"IF(Rekenvolumes!F107>0,(1000*'Vergoedingen AD'!F159/Rekenvolumes!F107)*(1+CPIv2009n2010),0)","v":0},{"$f":"IF(Rekenvolumes!G107>0,(1000*'Vergoedingen AD'!G159/Rekenvolumes!G107)*(1+CPIv2009n2010),0)","v":0},{"$f":"IF(Rekenvolumes!H107>0,(1000*'Vergoedingen AD'!H159/Rekenvolumes!H107)*(1+CPIv2009n2010),0)","v":0},{"$f":"IF(Rekenvolumes!I107>0,(1000*'Vergoedingen AD'!I159/Rekenvolumes!I107)*(1+CPIv2009n2010),0)","v":0},{"$f":"IF(Rekenvolumes!J107>0,(1000*'Vergoedingen AD'!J159/Rekenvolumes!J107)*(1+CPIv2009n2010),0)","v":0},{"$f":"IF(Rekenvolumes!K107>0,(1000*'Vergoedingen AD'!K159/Rekenvolumes!K107)*(1+CPIv2009n2010),0)","v":0},{"$f":"IF(Rekenvolumes!L107>0,(1000*'Vergoedingen AD'!L159/Rekenvolumes!L107)*(1+CPIv2009n2010),0)","v":0},{"$f":"IF(Rekenvolumes!M107>0,(1000*'Vergoedingen AD'!M159/Rekenvolumes!M107)*(1+CPIv2009n2010),0)","v":69.55804999999998},{"$f":"IF(Rekenvolumes!N107>0,(1000*'Vergoedingen AD'!N159/Rekenvolumes!N107)*(1+CPIv2009n2010),0)","v":0},{"$f":"IF(Rekenvolumes!O107>0,(1000*'Vergoedingen AD'!O159/Rekenvolumes!O107)*(1+CPIv2009n2010),0)","v":0},{"$f":"IF(Rekenvolumes!P107>0,(1000*'Vergoedingen AD'!P159/Rekenvolumes!P107)*(1+CPIv2009n2010),0)","v":0}]
[null,"HD 25-40 m3/h","€",null,{"$f":"IF(Rekenvolumes!E108>0,(1000*'Vergoedingen AD'!E160/Rekenvolumes!E108)*(1+CPIv2009n2010),0)","v":0},{"$f":"IF(Rekenvolumes!F108>0,(1000*'Vergoedingen AD'!F160/Rekenvolumes!F108)*(1+CPIv2009n2010),0)","v":0},{"$f":"IF(Rekenvolumes!G108>0,(1000*'Vergoedingen AD'!G160/Rekenvolumes!G108)*(1+CPIv2009n2010),0)","v":0},{"$f":"IF(Rekenvolumes!H108>0,(1000*'Vergoedingen AD'!H160/Rekenvolumes!H108)*(1+CPIv2009n2010),0)","v":0},{"$f":"IF(Rekenvolumes!I108>0,(1000*'Vergoedingen AD'!I160/Rekenvolumes!I108)*(1+CPIv2009n2010),0)","v":0},{"$f":"IF(Rekenvolumes!J108>0,(1000*'Vergoedingen AD'!J160/Rekenvolumes!J108)*(1+CPIv2009n2010),0)","v":0},{"$f":"IF(Rekenvolumes!K108>0,(1000*'Vergoedingen AD'!K160/Rekenvolumes!K108)*(1+CPIv2009n2010),0)","v":0},{"$f":"IF(Rekenvolumes!L108>0,(1000*'Vergoedingen AD'!L160/Rekenvolumes!L108)*(1+CPIv2009n2010),0)","v":70.651319999999984},{"$f":"IF(Rekenvolumes!M108>0,(1000*'Vergoedingen AD'!M160/Rekenvolumes!M108)*(1+CPIv2009n2010),0)","v":0},{"$f":"IF(Rekenvolumes!N108>0,(1000*'Vergoedingen AD'!N160/Rekenvolumes!N108)*(1+CPIv2009n2010),0)","v":0},{"$f":"IF(Rekenvolumes!O108>0,(1000*'Vergoedingen AD'!O160/Rekenvolumes!O108)*(1+CPIv2009n2010),0)","v":0},{"$f":"IF(Rekenvolumes!P108>0,(1000*'Vergoedingen AD'!P160/Rekenvolumes!P108)*(1+CPIv2009n2010),0)","v":0}]
[null,"HD 40-65 m3/h","€",null,{"$f":"IF(Rekenvolumes!E109>0,(1000*'Vergoedingen AD'!E161/Rekenvolumes!E109)*(1+CPIv2009n2010),0)","v":0},{"$f":"IF(Rekenvolumes!F109>0,(1000*'Vergoedingen AD'!F161/Rekenvolumes!F109)*(1+CPIv2009n2010),0)","v":0},{"$f":"IF(Rekenvolumes!G109>0,(1000*'Vergoedingen AD'!G161/Rekenvolumes!G109)*(1+CPIv2009n2010),0)","v":0},{"$f":"IF(Rekenvolumes!H109>0,(1000*'Vergoedingen AD'!H161/Rekenvolumes!H109)*(1+CPIv2009n2010),0)","v":0},{"$f":"IF(Rekenvolumes!I109>0,(1000*'Vergoedingen AD'!I161/Rekenvolumes!I109)*(1+CPIv2009n2010),0)","v":0},{"$f":"IF(Rekenvolumes!J109>0,(1000*'Vergoedingen AD'!J161/Rekenvolumes!J109)*(1+CPIv2009n2010),0)","v":0},{"$f":"IF(Rekenvolumes!K109>0,(1000*'Vergoedingen AD'!K161/Rekenvolumes!K109)*(1+CPIv2009n2010),0)","v":67.561678799999996},{"$f":"IF(Rekenvolumes!L109>0,(1000*'Vergoedingen AD'!L161/Rekenvolumes!L109)*(1+CPIv2009n2010),0)","v":0},{"$f":"IF(Rekenvolumes!M109>0,(1000*'Vergoedingen AD'!M161/Rekenvolumes!M109)*(1+CPIv2009n2010),0)","v":60.471872999999988},{"$f":"IF(Rekenvolumes!N109>0,(1000*'Vergoedingen AD'!N161/Rekenvolumes!N109)*(1+CPIv2009n2010),0)","v":0},{"$f":"IF(Rekenvolumes!O109>0,(1000*'Vergoedingen AD'!O161/Rekenvolumes!O109)*(1+CPIv2009n2010),0)","v":344.50098553789695},{"$f":"IF(Rekenvolumes!P109>0,(1000*'Vergoedingen AD'!P161/Rekenvolumes!P109)*(1+CPIv2009n2010),0)","v":0}]
[null,"HD 65-100 m3/h","€",null,{"$f":"IF(Rekenvolumes!E110>0,(1000*'Vergoedingen AD'!E162/Rekenvolumes!E110)*(1+CPIv2009n2010),0)","v":95.920901999999984},{"$f":"IF(Rekenvolumes!F110>0,(1000*'Vergoedingen AD'!F162/Rekenvolumes!F110)*(1+CPIv2009n2010),0)","v":188.4590862},{"$f":"IF(Rekenvolumes!G110>0,(1000*'Vergoedingen AD'!G162/Rekenvolumes!G110)*(1+CPIv2009n2010),0)","v":0},{"$f":"IF(Rekenvolumes!H110>0,(1000*'Vergoedingen AD'!H162/Rekenvolumes!H110)*(1+CPIv2009n2010),0)","v":0},{"$f":"IF(Rekenvolumes!I110>0,(1000*'Vergoedingen AD'!I162/Rekenvolumes!I110)*(1+CPIv2009n2010),0)","v":567.26169500000003},{"$f":"IF(Rekenvolumes!J110>0,(1000*'Vergoedingen AD'!J162/Rekenvolumes!J110)*(1+CPIv2009n2010),0)","v":0},{"$f":"IF(Rekenvolumes!K110>0,(1000*'Vergoedingen AD'!K162/Rekenvolumes!K110)*(1+CPIv2009n2010),0)","v":112.60279799999999},{"$f":"IF(Rekenvolumes!L110>0,(1000*'Vergoedingen AD'!L162/Rekenvolumes!L110)*(1+CPIv2009n2010),0)","v":3085.5869801791841},{"$f":"IF(Rekenvolumes!M110>0,(1000*'Vergoedingen AD'!M162/Rekenvolumes!M110)*(1+CPIv2009n2010),0)","v":80.629164000000003},{"$f":"IF(Rekenvolumes!N110>0,(1000*'Vergoedingen AD'!N162/Rekenvolumes!N110)*(1+CPIv2009n2010),0)","v":0},{"$f":"IF(Rekenvolumes!O110>0,(1000*'Vergoedingen AD'!O162/Rekenvolumes!O110)*(1+CPIv2009n2010),0)","v":387.15053881098248},{"$f":"IF(Rekenvolumes!P110>0,(1000*'Vergoedingen AD'!P162/Rekenvolumes!P110)*(1+CPIv2009n2010),0)","v":0}]
[null,"HD 100-160 m3/h","€",null,{"$f":"IF(Rekenvolumes!E111>0,(1000*'Vergoedingen AD'!E163/Rekenvolumes!E111)*(1+CPIv2009n2010),0)","v":134.19658559999999},{"$f":"IF(Rekenvolumes!F111>0,(1000*'Vergoedingen AD'!F163/Rekenvolumes!F111)*(1+CPIv2009n2010),0)","v":287.57735159999999},{"$f":"IF(Rekenvolumes!G111>0,(1000*'Vergoedingen AD'!G163/Rekenvolumes!G111)*(1+CPIv2009n2010),0)","v":0},{"$f":"IF(Rekenvolumes!H111>0,(1000*'Vergoedingen AD'!H163/Rekenvolumes!H111)*(1+CPIv2009n2010),0)","v":0},{"$f":"IF(Rekenvolumes!I111>0,(1000*'Vergoedingen AD'!I163/Rekenvolumes!I111)*(1+CPIv2009n2010),0)","v":555.67704499999991},{"$f":"IF(Rekenvolumes!J111>0,(1000*'Vergoedingen AD'!J163/Rekenvolumes!J111)*(1+CPIv2009n2010),0)","v":30.166428599999982},{"$f":"IF(Rekenvolumes!K111>0,(1000*'Vergoedingen AD'!K163/Rekenvolumes!K111)*(1+CPIv2009n2010),0)","v":206.43846300000004},{"$f":"IF(Rekenvolumes!L111>0,(1000*'Vergoedingen AD'!L163/Rekenvolumes!L111)*(1+CPIv2009n2010),0)","v":168.672504},{"$f":"IF(Rekenvolumes!M111>0,(1000*'Vergoedingen AD'!M163/Rekenvolumes!M111)*(1+CPIv2009n2010),0)","v":492.60910710000013},{"$f":"IF(Rekenvolumes!N111>0,(1000*'Vergoedingen AD'!N163/Rekenvolumes!N111)*(1+CPIv2009n2010),0)","v":85.857702700000004},{"$f":"IF(Rekenvolumes!O111>0,(1000*'Vergoedingen AD'!O163/Rekenvolumes!O111)*(1+CPIv2009n2010),0)","v":357.29489807980127},{"$f":"IF(Rekenvolumes!P111>0,(1000*'Vergoedingen AD'!P163/Rekenvolumes!P111)*(1+CPIv2009n2010),0)","v":0}]
[null,"HD 160-250 m3/h","€",null,{"$f":"IF(Rekenvolumes!E112>0,(1000*'Vergoedingen AD'!E164/Rekenvolumes!E112)*(1+CPIv2009n2010),0)","v":134.19658559999999},{"$f":"IF(Rekenvolumes!F112>0,(1000*'Vergoedingen AD'!F164/Rekenvolumes!F112)*(1+CPIv2009n2010),0)","v":436.55595059999996},{"$f":"IF(Rekenvolumes!G112>0,(1000*'Vergoedingen AD'!G164/Rekenvolumes!G112)*(1+CPIv2009n2010),0)","v":0},{"$f":"IF(Rekenvolumes!H112>0,(1000*'Vergoedingen AD'!H164/Rekenvolumes!H112)*(1+CPIv2009n2010),0)","v":1038.9633691100312},{"$f":"IF(Rekenvolumes!I112>0,(1000*'Vergoedingen AD'!I164/Rekenvolumes!I112)*(1+CPIv2009n2010),0)","v":705.63206449999996},{"$f":"IF(Rekenvolumes!J112>0,(1000*'Vergoedingen AD'!J164/Rekenvolumes!J112)*(1+CPIv2009n2010),0)","v":0},{"$f":"IF(Rekenvolumes!K112>0,(1000*'Vergoedingen AD'!K164/Rekenvolumes!K112)*(1+CPIv2009n2010),0)","v":289.01384820000004},{"$f":"IF(Rekenvolumes!L112>0,(1000*'Vergoedingen AD'!L164/Rekenvolumes!L112)*(1+CPIv2009n2010),0)","v":776.4098740847511},{"$f":"IF(Rekenvolumes!M112>0,(1000*'Vergoedingen AD'!M164/Rekenvolumes!M112)*(1+CPIv2009n2010),0)","v":457.7569633999999},{"$f":"IF(Rekenvolumes!N112>0,(1000*'Vergoedingen AD'!N164/Rekenvolumes!N112)*(1+CPIv2009n2010),0)","v":85.857702700000004},{"$f":"IF(Rekenvolumes!O112>0,(1000*'Vergoedingen AD'!O164/Rekenvolumes!O112)*(1+CPIv2009n2010),0)","v":388.41852013523584},{"$f":"IF(Rekenvolumes!P112>0,(1000*'Vergoedingen AD'!P164/Rekenvolumes!P112)*(1+CPIv2009n2010),0)","v":0}]
[null,"HD 250-400 m3/h ","€",null,{"$f":"IF(Rekenvolumes!E113>0,(1000*'Vergoedingen AD'!E165/Rekenvolumes!E113)*(1+CPIv2009n2010),0)","v":147.6347796},{"$f":"IF(Rekenvolumes!F113>0,(1000*'Vergoedingen AD'!F165/Rekenvolumes!F113)*(1+CPIv2009n2010),0)","v":595.82171879999999},{"$f":"IF(Rekenvolumes!G113>0,(1000*'Vergoedingen AD'!G165/Rekenvolumes!G113)*(1+CPIv2009n2010),0)","v":0},{"$f":"IF(Rekenvolumes!H113>0,(1000*'Vergoedingen AD'!H165/Rekenvolumes!H113)*(1+CPIv2009n2010),0)","v":0},{"$f":"IF(Rekenvolumes!I113>0,(1000*'Vergoedingen AD'!I165/Rekenvolumes!I113)*(1+CPIv2009n2010),0)","v":834.77502688461527},{"$f":"IF(Rekenvolumes!J113>0,(1000*'Vergoedingen AD'!J165/Rekenvolumes!J113)*(1+CPIv2009n2010),0)","v":73.815085288744811},{"$f":"IF(Rekenvolumes!K113>0,(1000*'Vergoedingen AD'!K165/Rekenvolumes!K113)*(1+CPIv2009n2010),0)","v":461.67147179999989},{"$f":"IF(Rekenvolumes!L113>0,(1000*'Vergoedingen AD'!L165/Rekenvolumes!L113)*(1+CPIv2009n2010),0)","v":895.44677937775145},{"$f":"IF(Rekenvolumes!M113>0,(1000*'Vergoedingen AD'!M165/Rekenvolumes!M113)*(1+CPIv2009n2010),0)","v":775.15576396211725},{"$f":"IF(Rekenvolumes!N113>0,(1000*'Vergoedingen AD'!N165/Rekenvolumes!N113)*(1+CPIv2009n2010),0)","v":85.857702700000004},{"$f":"IF(Rekenvolumes!O113>0,(1000*'Vergoedingen AD'!O165/Rekenvolumes!O113)*(1+CPIv2009n2010),0)","v":417.53911144510136},{"$f":"IF(Rekenvolumes!P113>0,(1000*'Vergoedingen AD'!P165/Rekenvolumes!P113)*(1+CPIv2009n2010),0)","v":0}]
[null,"HD 400-650 m3/h ","€",null,{"$f":"IF(Rekenvolumes!E114>0,(1000*'Vergoedingen AD'!E166/Rekenvolumes!E114)*(1+CPIv2009n2010),0)","v":162.3704544},{"$f":"IF(Rekenvolumes!F114>0,(1000*'Vergoedingen AD'!F166/Rekenvolumes!F114)*(1+CPIv2009n2010),0)","v":697.44226860000003},{"$f":"IF(Rekenvolumes!G114>0,(1000*'Vergoedingen AD'!G166/Rekenvolumes!G114)*(1+CPIv2009n2010),0)","v":0},{"$f":"IF(Rekenvolumes!H114>0,(1000*'Vergoedingen AD'!H166/Rekenvolumes!H114)*(1+CPIv2009n2010),0)","v":750.84714232721785},{"$f":"IF(Rekenvolumes!I114>0,(1000*'Vergoedingen AD'!I166/Rekenvolumes!I114)*(1+CPIv2009n2010),0)","v":897.44594121874991},{"$f":"IF(Rekenvolumes!J114>0,(1000*'Vergoedingen AD'!J166/Rekenvolumes!J114)*(1+CPIv2009n2010),0)","v":204.56668868809632},{"$f":"IF(Rekenvolumes!K114>0,(1000*'Vergoedingen AD'!K166/Rekenvolumes!K114)*(1+CPIv2009n2010),0)","v":649.34280179999996},{"$f":"IF(Rekenvolumes!L114>0,(1000*'Vergoedingen AD'!L166/Rekenvolumes!L114)*(1+CPIv2009n2010),0)","v":999.72095947140849},{"$f":"IF(Rekenvolumes!M114>0,(1000*'Vergoedingen AD'!M166/Rekenvolumes!M114)*(1+CPIv2009n2010),0)","v":808.50977260754701},{"$f":"IF(Rekenvolumes!N114>0,(1000*'Vergoedingen AD'!N166/Rekenvolumes!N114)*(1+CPIv2009n2010),0)","v":85.85770269999999},{"$f":"IF(Rekenvolumes!O114>0,(1000*'Vergoedingen AD'!O166/Rekenvolumes!O114)*(1+CPIv2009n2010),0)","v":437.40689727380624},{"$f":"IF(Rekenvolumes!P114>0,(1000*'Vergoedingen AD'!P166/Rekenvolumes!P114)*(1+CPIv2009n2010),0)","v":0}]
[null,"HD 650-1000 m3/h ","€",null,{"$f":"IF(Rekenvolumes!E115>0,(1000*'Vergoedingen AD'!E167/Rekenvolumes!E115)*(1+CPIv2009n2010),0)","v":178.63530299999996},{"$f":"IF(Rekenvolumes!F115>0,(1000*'Vergoedingen AD'!F167/Rekenvolumes!F115)*(1+CPIv2009n2010),0)","v":753.28028159999997},{"$f":"IF(Rekenvolumes!G115>0,(1000*'Vergoedingen AD'!G167/Rekenvolumes!G115)*(1+CPIv2009n2010),0)","v":0},{"$f":"IF(Rekenvolumes!H115>0,(1000*'Vergoedingen AD'!H167/Rekenvolumes!H115)*(1+CPIv2009n2010),0)","v":809.99872799999991},{"$f":"IF(Rekenvolumes!I115>0,(1000*'Vergoedingen AD'!I167/Rekenvolumes!I115)*(1+CPIv2009n2010),0)","v":1208.7887196000001},{"$f":"IF(Rekenvolumes!J115>0,(1000*'Vergoedingen AD'!J167/Rekenvolumes!J115)*(1+CPIv2009n2010),0)","v":371.72142250477083},{"$f":"IF(Rekenvolumes!K115>0,(1000*'Vergoedingen AD'!K167/Rekenvolumes!K115)*(1+CPIv2009n2010),0)","v":934.60322340000005},{"$f":"IF(Rekenvolumes!L115>0,(1000*'Vergoedingen AD'!L167/Rekenvolumes!L115)*(1+CPIv2009n2010),0)","v":965.84582091052835},{"$f":"IF(Rekenvolumes!M115>0,(1000*'Vergoedingen AD'!M167/Rekenvolumes!M115)*(1+CPIv2009n2010),0)","v":1152.3750456521736},{"$f":"IF(Rekenvolumes!N115>0,(1000*'Vergoedingen AD'!N167/Rekenvolumes!N115)*(1+CPIv2009n2010),0)","v":85.857702700000004},{"$f":"IF(Rekenvolumes!O115>0,(1000*'Vergoedingen AD'!O167/Rekenvolumes!O115)*(1+CPIv2009n2010),0)","v":526.84943226405846},{"$f":"IF(Rekenvolumes!P115>0,(1000*'Vergoedingen AD'!P167/Rekenvolumes!P115)*(1+CPIv2009n2010),0)","v":0}]
[null,"HD 1000-1600 m3/h ","€",null,{"$f":"IF(Rekenvolumes!E116>0,(1000*'Vergoedingen AD'!E168/Rekenvolumes!E116)*(1+CPIv2009n2010),0)","v":0},{"$f":"IF(Rekenvolumes!F116>0,(1000*'Vergoedingen AD'!F168/Rekenvolumes!F116)*(1+CPIv2009n2010),0)","v":1060.4125223999999},{"$f":"IF(Rekenvolumes!G116>0,(1000*'Vergoedingen AD'!G168/Rekenvolumes!G116)*(1+CPIv2009n2010),0)","v":0},{"$f":"IF(Rekenvolumes!H116>0,(1000*'Vergoedingen AD'!H168/Rekenvolumes!H116)*(1+CPIv2009n2010),0)","v":941.77305893771006},{"$f":"IF(Rekenvolumes!I116>0,(1000*'Vergoedingen AD'!I168/Rekenvolumes!I116)*(1+CPIv2009n2010),0)","v":2630.1017049999996},{"$f":"IF(Rekenvolumes!J116>0,(1000*'Vergoedingen AD'!J168/Rekenvolumes!J116)*(1+CPIv2009n2010),0)","v":0},{"$f":"IF(Rekenvolumes!K116>0,(1000*'Vergoedingen AD'!K168/Rekenvolumes!K116)*(1+CPIv2009n2010),0)","v":1163.562246},{"$f":"IF(Rekenvolumes!L116>0,(1000*'Vergoedingen AD'!L168/Rekenvolumes!L116)*(1+CPIv2009n2010),0)","v":1370.2894076596328},{"$f":"IF(Rekenvolumes!M116>0,(1000*'Vergoedingen AD'!M168/Rekenvolumes!M116)*(1+CPIv2009n2010),0)","v":862.56986969999991},{"$f":"IF(Rekenvolumes!N116>0,(1000*'Vergoedingen AD'!N168/Rekenvolumes!N116)*(1+CPIv2009n2010),0)","v":85.857702700000004},{"$f":"IF(Rekenvolumes!O116>0,(1000*'Vergoedingen AD'!O168/Rekenvolumes!O116)*(1+CPIv2009n2010),0)","v":659.67862383161389},{"$f":"IF(Rekenvolumes!P116>0,(1000*'Vergoedingen AD'!P168/Rekenvolumes!P116)*(1+CPIv2009n2010),0)","v":0}]
[null,"HD 1600-2500 m3/h ","€",null,{"$f":"IF(Rekenvolumes!E117>0,(1000*'Vergoedingen AD'!E169/Rekenvolumes!E117)*(1+CPIv2009n2010),0)","v":0},{"$f":"IF(Rekenvolumes!F117>0,(1000*'Vergoedingen AD'!F169/Rekenvolumes!F117)*(1+CPIv2009n2010),0)","v":0},{"$f":"IF(Rekenvolumes!G117>0,(1000*'Vergoedingen AD'!G169/Rekenvolumes!G117)*(1+CPIv2009n2010),0)","v":0},{"$f":"IF(Rekenvolumes!H117>0,(1000*'Vergoedingen AD'!H169/Rekenvolumes!H117)*(1+CPIv2009n2010),0)","v":0},{"$f":"IF(Rekenvolumes!I117>0,(1000*'Vergoedingen AD'!I169/Rekenvolumes!I117)*(1+CPIv2009n2010),0)","v":0},{"$f":"IF(Rekenvolumes!J117>0,(1000*'Vergoedingen AD'!J169/Rekenvolumes!J117)*(1+CPIv2009n2010),0)","v":428.02412592477611},{"$f":"IF(Rekenvolumes!K117>0,(1000*'Vergoedingen AD'!K169/Rekenvolumes!K117)*(1+CPIv2009n2010),0)","v":1505.1240665999999},{"$f":"IF(Rekenvolumes!L117>0,(1000*'Vergoedingen AD'!L169/Rekenvolumes!L117)*(1+CPIv2009n2010),0)","v":1107.1277162112904},{"$f":"IF(Rekenvolumes!M117>0,(1000*'Vergoedingen AD'!M169/Rekenvolumes!M117)*(1+CPIv2009n2010),0)","v":1431.11205468},{"$f":"IF(Rekenvolumes!N117>0,(1000*'Vergoedingen AD'!N169/Rekenvolumes!N117)*(1+CPIv2009n2010),0)","v":85.857702700000004},{"$f":"IF(Rekenvolumes!O117>0,(1000*'Vergoedingen AD'!O169/Rekenvolumes!O117)*(1+CPIv2009n2010),0)","v":702.99622385722023},{"$f":"IF(Rekenvolumes!P117>0,(1000*'Vergoedingen AD'!P169/Rekenvolumes!P117)*(1+CPIv2009n2010),0)","v":0}]
[null,"HD >2500 m3/h","€",null,{"$f":"IF(Rekenvolumes!E118>0,(1000*'Vergoedingen AD'!E170/Rekenvolumes!E118)*(1+CPIv2009n2010),0)","v":0},{"$f":"IF(Rekenvolumes!F118>0,(1000*'Vergoedingen AD'!F170/Rekenvolumes!F118)*(1+CPIv2009n2010),0)","v":0},{"$f":"IF(Rekenvolumes!G118>0,(1000*'Vergoedingen AD'!G170/Rekenvolumes!G118)*(1+CPIv2009n2010),0)","v":0},{"$f":"IF(Rekenvolumes!H118>0,(1000*'Vergoedingen AD'!H170/Rekenvolumes!H118)*(1+CPIv2009n2010),0)","v":566.45026602338783},{"$f":"IF(Rekenvolumes!I118>0,(1000*'Vergoedingen AD'!I170/Rekenvolumes!I118)*(1+CPIv2009n2010),0)","v":0},{"$f":"IF(Rekenvolumes!J118>0,(1000*'Vergoedingen AD'!J170/Rekenvolumes!J118)*(1+CPIv2009n2010),0)","v":681.68714460000001},{"$f":"IF(Rekenvolumes!K118>0,(1000*'Vergoedingen AD'!K170/Rekenvolumes!K118)*(1+CPIv2009n2010),0)","v":2188.2477077999997},{"$f":"IF(Rekenvolumes!L118>0,(1000*'Vergoedingen AD'!L170/Rekenvolumes!L118)*(1+CPIv2009n2010),0)","v":0},{"$f":"IF(Rekenvolumes!M118>0,(1000*'Vergoedingen AD'!M170/Rekenvolumes!M118)*(1+CPIv2009n2010),0)","v":1570.4306001999998},{"$f":"IF(Rekenvolumes!N118>0,(1000*'Vergoedingen AD'!N170/Rekenvolumes!N118)*(1+CPIv2009n2010),0)","v":85.85770269999999},{"$f":"IF(Rekenvolumes!O118>0,(1000*'Vergoedingen AD'!O170/Rekenvolumes!O118)*(1+CPIv2009n2010),0)","v":862.48027343813931},{"$f":"IF(Rekenvolumes!P118>0,(1000*'Vergoedingen AD'!P170/Rekenvolumes!P118)*(1+CPIv2009n2010),0)","v":0}]
[]
[null,"EHD 0-40 m3/h","€",null,{"$f":"IF(Rekenvolumes!E120>0,(1000*'Vergoedingen AD'!E172/Rekenvolumes!E120)*(1+CPIv2009n2010),0)","v":0},{"$f":"IF(Rekenvolumes!F120>0,(1000*'Vergoedingen AD'!F172/Rekenvolumes!F120)*(1+CPIv2009n2010),0)","v":0},{"$f":"IF(Rekenvolumes!G120>0,(1000*'Vergoedingen AD'!G172/Rekenvolumes!G120)*(1+CPIv2009n2010),0)","v":0},{"$f":"IF(Rekenvolumes!H120>0,(1000*'Vergoedingen AD'!H172/Rekenvolumes!H120)*(1+CPIv2009n2010),0)","v":0},{"$f":"IF(Rekenvolumes!I120>0,(1000*'Vergoedingen AD'!I172/Rekenvolumes!I120)*(1+CPIv2009n2010),0)","v":0},{"$f":"IF(Rekenvolumes!J120>0,(1000*'Vergoedingen AD'!J172/Rekenvolumes!J120)*(1+CPIv2009n2010),0)","v":0},{"$f":"IF(Rekenvolumes!K120>0,(1000*'Vergoedingen AD'!K172/Rekenvolumes!K120)*(1+CPIv2009n2010),0)","v":0},{"$f":"IF(Rekenvolumes!L120>0,(1000*'Vergoedingen AD'!L172/Rekenvolumes!L120)*(1+CPIv2009n2010),0)","v":0},{"$f":"IF(Rekenvolumes!M120>0,(1000*'Vergoedingen AD'!M172/Rekenvolumes!M120)*(1+CPIv2009n2010),0)","v":0},{"$f":"IF(Rekenvolumes!N120>0,(1000*'Vergoedingen AD'!N172/Rekenvolumes!N120)*(1+CPIv2009n2010),0)","v":0},{"$f":"IF(Rekenvolumes!O120>0,(1000*'Vergoedingen AD'!O172/Rekenvolumes!O120)*(1+CPIv2009n2010),0)","v":0},{"$f":"IF(Rekenvolumes!P120>0,(1000*'Vergoedingen AD'!P172/Rekenvolumes!P120)*(1+CPIv2009n2010),0)","v":0}]
[null,"EHD >40 m3/h","€",null,{"$f":"IF(Rekenvolumes!E121>0,(1000*'Vergoedingen AD'!E173/Rekenvolumes!E121)*(1+CPIv2009n2010),0)","v":0},{"$f":"IF(Rekenvolumes!F121>0,(1000*'Vergoedingen AD'!F173/Rekenvolumes!F121)*(1+CPIv2009n2010),0)","v":3691.1172232846147},{"$f":"IF(Rekenvolumes!G121>0,(1000*'Vergoedingen AD'!G173/Rekenvolumes!G121)*(1+CPIv2009n2010),0)","v":0},{"$f":"IF(Rekenvolumes!H121>0,(1000*'Vergoedingen AD'!H173/Rekenvolumes!H121)*(1+CPIv2009n2010),0)","v":0},{"$f":"IF(Rekenvolumes!I121>0,(1000*'Vergoedingen AD'!I173/Rekenvolumes!I121)*(1+CPIv2009n2010),0)","v":0},{"$f":"IF(Rekenvolumes!J121>0,(1000*'Vergoedingen AD'!J173/Rekenvolumes!J121)*(1+CPIv2009n2010),0)","v":0},{"$f":"IF(Rekenvolumes!K121>0,(1000*'Vergoedingen AD'!K173/Rekenvolumes!K121)*(1+CPIv2009n2010),0)","v":0},{"$f":"IF(Rekenvolumes!L121>0,(1000*'Vergoedingen AD'!L173/Rekenvolumes!L121)*(1+CPIv2009n2010),0)","v":0},{"$f":"IF(Rekenvolumes!M121>0,(1000*'Vergoedingen AD'!M173/Rekenvolumes!M121)*(1+CPIv2009n2010),0)","v":0},{"$f":"IF(Rekenvolumes!N121>0,(1000*'Vergoedingen AD'!N173/Rekenvolumes!N121)*(1+CPIv2009n2010),0)","v":0},{"$f":"IF(Rekenvolumes!O121>0,(1000*'Vergoedingen AD'!O173/Rekenvolumes!O121)*(1+CPIv2009n2010),0)","v":132708.60166666665},{"$f":"IF(Rekenvolumes!P121>0,(1000*'Vergoedingen AD'!P173/Rekenvolumes!P121)*(1+CPIv2009n2010),0)","v":0}]
[]
[null,"Balansfactor"]
[]
[null,"Totale sectorkosten Aansluitdienst","€",{"$f":"'Kosten AD'!Q60*1000","v":184110264.34881654}]
[null,"Begininkomsten Aansluitdienst","€",{"$f":"'x-factor'!O7","v":223343457.92141569}]
[null,"Begininkomsten Transportdienst","€",{"$f":"'x-factor'!O6","v":768552052.07554674}]
[null,"Totale sectorkosten Transportdienst","€",{"$f":"'Kosten TD'!Q210*1000","v":878611841.13537836}]
[]
[null,"Balansfactor",null,{"$f":"(D87/D88)*(D89/D90)","v":0.72107593245073442}]
[]
[]
[null,"Wegingsfactor 2010 Aansluitdienst"]
[]
[null,"Eenmalige aansluitvergoeding"]
[null,"LD 0-10 m3/h",null,{"$f":"IF(SUM(Rekenvolumes!E45:P45),D$92*(SUMPRODUCT(E7:P7,Rekenvolumes!E45:P45))/SUM(Rekenvolumes!E45:P45),0)","v":470.61354534595785}]
[null,"LD 10-16 m3/h",null,{"$f":"IF(SUM(Rekenvolumes!E46:P46),D$92*(SUMPRODUCT(E8:P8,Rekenvolumes!E46:P46))/SUM(Rekenvolumes!E46:P46),0)","v":1021.1927452336106}]
[null,"LD 16-25 m3/h",null,{"$f":"IF(SUM(Rekenvolumes!E47:P47),D$92*(SUMPRODUCT(E9:P9,Rekenvolumes!E47:P47))/SUM(Rekenvolumes!E47:P47),0)","v":1003.7149782247561}]
[null,"LD 25-40 m3/h ",null,{"$f":"IF(SUM(Rekenvolumes!E48:P48),D$92*(SUMPRODUCT(E10:P10,Rekenvolumes!E48:P48))/SUM(Rekenvolumes!E48:P48),0)","v":2012.6310807632742}]
[null,"LD 40-65 m3/h ",null,{"$f":"IF(SUM(Rekenvolumes!E49:P49),D$92*(SUMPRODUCT(E11:P11,Rekenvolumes!E49:P49))/SUM(Rekenvolumes!E49:P49),0)","v":1233.6770062517087}]
[null,"LD 65-100 m3/h ",null,{"$f":"IF(SUM(Rekenvolumes!E50:P50),D$92*(SUMPRODUCT(E12:P12,Rekenvolumes!E50:P50))/SUM(Rekenvolumes!E50:P50),0)","v":1351.9653381503597}]
[null,"LD 100-160 m3/h",null,{"$f":"IF(SUM(Rekenvolumes!E51:P51),D$92*(SUMPRODUCT(E13:P13,Rekenvolumes!E51:P51))/SUM(Rekenvolumes!E51:P51),0)","v":2145.076138987491}]
[null,"LD 160-250 m3/h ",null,{"$f":"IF(SUM(Rekenvolumes!E52:P52),D$92*(SUMPRODUCT(E14:P14,Rekenvolumes!E52:P52))/SUM(Rekenvolumes!E52:P52),0)","v":3616.6508735980142}]
[null,"LD 250-400 m3/h ",null,{"$f":"IF(SUM(Rekenvolumes!E53:P53),D$92*(SUMPRODUCT(E15:P15,Rekenvolumes!E53:P53))/SUM(Rekenvolumes!E53:P53),0)","v":4812.7914329314126}]
[null,"LD 400-650 m3/h ",null,{"$f":"IF(SUM(Rekenvolumes!E54:P54),D$92*(SUMPRODUCT(E16:P16,Rekenvolumes!E54:P54))/SUM(Rekenvolumes!E54:P54),0)","v":7195.9078030421515}]
[null,"LD 650-1000 m3/h ",null,{"$f":"IF(SUM(Rekenvolumes!E55:P55),D$92*(SUMPRODUCT(E17:P17,Rekenvolumes!E55:P55))/SUM(Rekenvolumes!E55:P55),0)","v":0}]
[null,"LD 1000-1600 m3/h ",null,{"$f":"IF(SUM(Rekenvolumes!E56:P56),D$92*(SUMPRODUCT(E18:P18,Rekenvolumes!E56:P56))/SUM(Rekenvolumes!E56:P56),0)","v":0}]
[null,"LD 1600-2500 m3/h ",null,{"$f":"IF(SUM(Rekenvolumes!E57:P57),D$92*(SUMPRODUCT(E19:P19,Rekenvolumes!E57:P57))/SUM(Rekenvolumes!E57:P57),0)","v":0}]
[null,"LD >2500 m3/h",null,{"$f":"IF(SUM(Rekenvolumes!E58:P58),D$92*(SUMPRODUCT(E20:P20,Rekenvolumes!E58:P58))/SUM(Rekenvolumes!E58:P58),0)","v":0}]
[]
[null,"HD 0-10 m3/h",null,{"$f":"IF(SUM(Rekenvolumes!E60:P60),D$92*(SUMPRODUCT(E22:P22,Rekenvolumes!E60:P60))/SUM(Rekenvolumes!E60:P60),0)","v":0}]
[null,"HD 10-16 m3/h",null,{"$f":"IF(SUM(Rekenvolumes!E61:P61),D$92*(SUMPRODUCT(E23:P23,Rekenvolumes!E61:P61))/SUM(Rekenvolumes!E61:P61),0)","v":0}]
[null,"HD 16-25 m3/h",null,{"$f":"IF(SUM(Rekenvolumes!E62:P62),D$92*(SUMPRODUCT(E24:P24,Rekenvolumes!E62:P62))/SUM(Rekenvolumes!E62:P62),0)","v":0}]
[null,"HD 25-40 m3/h",null,{"$f":"IF(SUM(Rekenvolumes!E63:P63),D$92*(SUMPRODUCT(E25:P25,Rekenvolumes!E63:P63))/SUM(Rekenvolumes!E63:P63),0)","v":0}]
[null,"HD 40-65 m3/h",null,{"$f":"IF(SUM(Rekenvolumes!E64:P64),D$92*(SUMPRODUCT(E26:P26,Rekenvolumes!E64:P64))/SUM(Rekenvolumes!E64:P64),0)","v":2993.8729302222309}]
[null,"HD 65-100 m3/h",null,{"$f":"IF(SUM(Rekenvolumes!E65:P65),D$92*(SUMPRODUCT(E27:P27,Rekenvolumes!E65:P65))/SUM(Rekenvolumes!E65:P65),0)","v":3352.9664618671818}]
[null,"HD 100-160 m3/h",null,{"$f":"IF(SUM(Rekenvolumes!E66:P66),D$92*(SUMPRODUCT(E28:P28,Rekenvolumes!E66:P66))/SUM(Rekenvolumes!E66:P66),0)","v":4678.6361366416486}]
[null,"HD 160-250 m3/h",null,{"$f":"IF(SUM(Rekenvolumes!E67:P67),D$92*(SUMPRODUCT(E29:P29,Rekenvolumes!E67:P67))/SUM(Rekenvolumes!E67:P67),0)","v":8437.4317173505806}]
[null,"HD 250-400 m3/h ",null,{"$f":"IF(SUM(Rekenvolumes!E68:P68),D$92*(SUMPRODUCT(E30:P30,Rekenvolumes!E68:P68))/SUM(Rekenvolumes!E68:P68),0)","v":7793.8290912390321}]
[null,"HD 400-650 m3/h ",null,{"$f":"IF(SUM(Rekenvolumes!E69:P69),D$92*(SUMPRODUCT(E31:P31,Rekenvolumes!E69:P69))/SUM(Rekenvolumes!E69:P69),0)","v":6103.3919247627136}]
[null,"HD 650-1000 m3/h ",null,{"$f":"IF(SUM(Rekenvolumes!E70:P70),D$92*(SUMPRODUCT(E32:P32,Rekenvolumes!E70:P70))/SUM(Rekenvolumes!E70:P70),0)","v":6884.7808670864688}]
[null,"HD 1000-1600 m3/h ",null,{"$f":"IF(SUM(Rekenvolumes!E71:P71),D$92*(SUMPRODUCT(E33:P33,Rekenvolumes!E71:P71))/SUM(Rekenvolumes!E71:P71),0)","v":3768.2112947234691}]
[null,"HD 1600-2500 m3/h ",null,{"$f":"IF(SUM(Rekenvolumes!E72:P72),D$92*(SUMPRODUCT(E34:P34,Rekenvolumes!E72:P72))/SUM(Rekenvolumes!E72:P72),0)","v":9975.7795524471967}]
[null,"HD >2500 m3/h",null,{"$f":"IF(SUM(Rekenvolumes!E73:P73),D$92*(SUMPRODUCT(E35:P35,Rekenvolumes!E73:P73))/SUM(Rekenvolumes!E73:P73),0)","v":7173.4967369406077}]
[]
[null,"EHD 0-40 m3/h",null,{"$f":"IF(SUM(Rekenvolumes!E75:P75),D$92*(SUMPRODUCT(E37:P37,Rekenvolumes!E75:P75))/SUM(Rekenvolumes!E75:P75),0)","v":0}]
[null,"EHD >40 m3/h",null,{"$f":"IF(SUM(Rekenvolumes!E76:P76),D$92*(SUMPRODUCT(E38:P38,Rekenvolumes!E76:P76))/SUM(Rekenvolumes!E76:P76),0)","v":0}]
[]
[null,"Meerlengtevergoeding "]
[null,"LD 0-10 m3/h",null,{"$f":"IF(SUM(Rekenvolumes!E79:P79),D$92*(SUMPRODUCT(E41:P41,Rekenvolumes!E79:P79))/SUM(Rekenvolumes!E79:P79),0)","v":17.838619341839177}]
[null,"LD 10-16 m3/h",null,{"$f":"IF(SUM(Rekenvolumes!E80:P80),D$92*(SUMPRODUCT(E42:P42,Rekenvolumes!E80:P80))/SUM(Rekenvolumes!E80:P80),0)","v":18.852033961474131}]
[null,"LD 16-25 m3/h",null,{"$f":"IF(SUM(Rekenvolumes!E81:P81),D$92*(SUMPRODUCT(E43:P43,Rekenvolumes!E81:P81))/SUM(Rekenvolumes!E81:P81),0)","v":19.619223974173639}]
[null,"LD 25-40 m3/h ",null,{"$f":"IF(SUM(Rekenvolumes!E82:P82),D$92*(SUMPRODUCT(E44:P44,Rekenvolumes!E82:P82))/SUM(Rekenvolumes!E82:P82),0)","v":20.35261193381881}]
[null,"HD 0-10 m3/h",null,{"$f":"IF(SUM(Rekenvolumes!E83:P83),D$92*(SUMPRODUCT(E45:P45,Rekenvolumes!E83:P83))/SUM(Rekenvolumes!E83:P83),0)","v":0}]
[null,"HD 10-16 m3/h",null,{"$f":"IF(SUM(Rekenvolumes!E84:P84),D$92*(SUMPRODUCT(E46:P46,Rekenvolumes!E84:P84))/SUM(Rekenvolumes!E84:P84),0)","v":0}]
[null,"HD 16-25 m3/h",null,{"$f":"IF(SUM(Rekenvolumes!E85:P85),D$92*(SUMPRODUCT(E47:P47,Rekenvolumes!E85:P85))/SUM(Rekenvolumes!E85:P85),0)","v":0}]
[null,"HD 25-40 m3/h",null,{"$f":"IF(SUM(Rekenvolumes!E86:P86),D$92*(SUMPRODUCT(E48:P48,Rekenvolumes!E86:P86))/SUM(Rekenvolumes!E86:P86),0)","v":22.369787226473321}]
[null,"EHD 0-40 m3/h",null,{"$f":"IF(SUM(Rekenvolumes!E87:P87),D$92*(SUMPRODUCT(E49:P49,Rekenvolumes!E87:P87))/SUM(Rekenvolumes!E87:P87),0)","v":0}]
[]
[null,"Periodieke aansluitvergoeding"]
[null,"LD 0-10 m3/h",null,{"$f":"IF(SUM(Rekenvolumes!E90:P90),D$92*(SUMPRODUCT(E52:P52,Rekenvolumes!E90:P90))/SUM(Rekenvolumes!E90:P90),0)","v":16.094267392561719}]
[null,"LD 10-16 m3/h",null,{"$f":"IF(SUM(Rekenvolumes!E91:P91),D$92*(SUMPRODUCT(E53:P53,Rekenvolumes!E91:P91))/SUM(Rekenvolumes!E91:P91),0)","v":32.119057007327207}]
[null,"LD 16-25 m3/h",null,{"$f":"IF(SUM(Rekenvolumes!E92:P92),D$92*(SUMPRODUCT(E54:P54,Rekenvolumes!E92:P92))/SUM(Rekenvolumes!E92:P92),0)","v":34.769459293126602}]
[null,"LD 25-40 m3/h ",null,{"$f":"IF(SUM(Rekenvolumes!E93:P93),D$92*(SUMPRODUCT(E55:P55,Rekenvolumes!E93:P93))/SUM(Rekenvolumes!E93:P93),0)","v":51.844900137521506}]
[null,"LD 40-65 m3/h ",null,{"$f":"IF(SUM(Rekenvolumes!E94:P94),D$92*(SUMPRODUCT(E56:P56,Rekenvolumes!E94:P94))/SUM(Rekenvolumes!E94:P94),0)","v":51.856916682291263}]
[null,"LD 65-100 m3/h ",null,{"$f":"IF(SUM(Rekenvolumes!E95:P95),D$92*(SUMPRODUCT(E57:P57,Rekenvolumes!E95:P95))/SUM(Rekenvolumes!E95:P95),0)","v":69.431724271107143}]
[null,"LD 100-160 m3/h",null,{"$f":"IF(SUM(Rekenvolumes!E96:P96),D$92*(SUMPRODUCT(E58:P58,Rekenvolumes!E96:P96))/SUM(Rekenvolumes!E96:P96),0)","v":111.12057756218506}]
[null,"LD 160-250 m3/h ",null,{"$f":"IF(SUM(Rekenvolumes!E97:P97),D$92*(SUMPRODUCT(E59:P59,Rekenvolumes!E97:P97))/SUM(Rekenvolumes!E97:P97),0)","v":163.11124967585857}]
[null,"LD 250-400 m3/h ",null,{"$f":"IF(SUM(Rekenvolumes!E98:P98),D$92*(SUMPRODUCT(E60:P60,Rekenvolumes!E98:P98))/SUM(Rekenvolumes!E98:P98),0)","v":222.10006603532554}]
[null,"LD 400-650 m3/h ",null,{"$f":"IF(SUM(Rekenvolumes!E99:P99),D$92*(SUMPRODUCT(E61:P61,Rekenvolumes!E99:P99))/SUM(Rekenvolumes!E99:P99),0)","v":437.64399733536925}]
[null,"LD 650-1000 m3/h ",null,{"$f":"IF(SUM(Rekenvolumes!E100:P100),D$92*(SUMPRODUCT(E62:P62,Rekenvolumes!E100:P100))/SUM(Rekenvolumes!E100:P100),0)","v":714.64971167981207}]
[null,"LD 1000-1600 m3/h ",null,{"$f":"IF(SUM(Rekenvolumes!E101:P101),D$92*(SUMPRODUCT(E63:P63,Rekenvolumes!E101:P101))/SUM(Rekenvolumes!E101:P101),0)","v":384.19968267435195}]
[null,"LD 1600-2500 m3/h ",null,{"$f":"IF(SUM(Rekenvolumes!E102:P102),D$92*(SUMPRODUCT(E64:P64,Rekenvolumes!E102:P102))/SUM(Rekenvolumes!E102:P102),0)","v":1326.7785285553593}]
[null,"LD >2500 m3/h",null,{"$f":"IF(SUM(Rekenvolumes!E103:P103),D$92*(SUMPRODUCT(E65:P65,Rekenvolumes!E103:P103))/SUM(Rekenvolumes!E103:P103),0)","v":1604.1148277526872}]
[]
[null,"HD 0-10 m3/h",null,{"$f":"IF(SUM(Rekenvolumes!E105:P105),D$92*(SUMPRODUCT(E67:P67,Rekenvolumes!E105:P105))/SUM(Rekenvolumes!E105:P105),0)","v":0}]
[null,"HD 10-16 m3/h",null,{"$f":"IF(SUM(Rekenvolumes!E106:P106),D$92*(SUMPRODUCT(E68:P68,Rekenvolumes!E106:P106))/SUM(Rekenvolumes!E106:P106),0)","v":0}]
[null,"HD 16-25 m3/h",null,{"$f":"IF(SUM(Rekenvolumes!E107:P107),D$92*(SUMPRODUCT(E69:P69,Rekenvolumes!E107:P107))/SUM(Rekenvolumes!E107:P107),0)","v":10.031327152640959}]
[null,"HD 25-40 m3/h",null,{"$f":"IF(SUM(Rekenvolumes!E108:P108),D$92*(SUMPRODUCT(E70:P70,Rekenvolumes!E108:P108))/SUM(Rekenvolumes!E108:P108),0)","v":10.188993289575041}]
[null,"HD 40-65 m3/h",null,{"$f":"IF(SUM(Rekenvolumes!E109:P109),D$92*(SUMPRODUCT(E71:P71,Rekenvolumes!E109:P109))/SUM(Rekenvolumes!E109:P109),0)","v":135.375928447017}]
[null,"HD 65-100 m3/h",null,{"$f":"IF(SUM(Rekenvolumes!E110:P110),D$92*(SUMPRODUCT(E72:P72,Rekenvolumes!E110:P110))/SUM(Rekenvolumes!E110:P110),0)","v":174.40324111739986}]
[null,"HD 100-160 m3/h",null,{"$f":"IF(SUM(Rekenvolumes!E111:P111),D$92*(SUMPRODUCT(E73:P73,Rekenvolumes!E111:P111))/SUM(Rekenvolumes!E111:P111),0)","v":163.99292900749657}]
[null,"HD 160-250 m3/h",null,{"$f":"IF(SUM(Rekenvolumes!E112:P112),D$92*(SUMPRODUCT(E74:P74,Rekenvolumes!E112:P112))/SUM(Rekenvolumes!E112:P112),0)","v":225.2214023881163}]
[null,"HD 250-400 m3/h ",null,{"$f":"IF(SUM(Rekenvolumes!E113:P113),D$92*(SUMPRODUCT(E75:P75,Rekenvolumes!E113:P113))/SUM(Rekenvolumes!E113:P113),0)","v":175.28048066330672}]
[null,"HD 400-650 m3/h ",null,{"$f":"IF(SUM(Rekenvolumes!E114:P114),D$92*(SUMPRODUCT(E76:P76,Rekenvolumes!E114:P114))/SUM(Rekenvolumes!E114:P114),0)","v":267.31784975066847}]
[null,"HD 650-1000 m3/h ",null,{"$f":"IF(SUM(Rekenvolumes!E115:P115),D$92*(SUMPRODUCT(E77:P77,Rekenvolumes!E115:P115))/SUM(Rekenvolumes!E115:P115),0)","v":251.9168288264579}]
[null,"HD 1000-1600 m3/h ",null,{"$f":"IF(SUM(Rekenvolumes!E116:P116),D$92*(SUMPRODUCT(E78:P78,Rekenvolumes!E116:P116))/SUM(Rekenvolumes!E116:P116),0)","v":395.90466471026451}]
[null,"HD 1600-2500 m3/h ",null,{"$f":"IF(SUM(Rekenvolumes!E117:P117),D$92*(SUMPRODUCT(E79:P79,Rekenvolumes!E117:P117))/SUM(Rekenvolumes!E117:P117),0)","v":323.79105854472584}]
[null,"HD >2500 m3/h",null,{"$f":"IF(SUM(Rekenvolumes!E118:P118),D$92*(SUMPRODUCT(E80:P80,Rekenvolumes!E118:P118))/SUM(Rekenvolumes!E118:P118),0)","v":195.91957139051843}]
[]
[null,"EHD 0-40 m3/h",null,{"$f":"IF(SUM(Rekenvolumes!E120:P120),D$92*(SUMPRODUCT(E82:P82,Rekenvolumes!E120:P120))/SUM(Rekenvolumes!E120:P120),0)","v":0}]
[null,"EHD >40 m3/h",null,{"$f":"IF(SUM(Rekenvolumes!E121:P121),D$92*(SUMPRODUCT(E83:P83,Rekenvolumes!E121:P121))/SUM(Rekenvolumes!E121:P121),0)","v":20104.963836838637}]

{"sheet":"Rekenvolumes","index":13,"n_rows":121,"n_cols":16,"rows_kept":121,"cut":false,"hidden":false,"merged":[]}
[]
[null,"Rekenvolumina",null,null,"Cogas Infra & Beheer B.V.","DELTA Netwerkbedrijf B.V.","Stedin B.V.","Endinet Haarlemmermeer B.V.","Intergas Energie B.V.","Endinet Regio Eindhoven B.V.","Liander N.V.","Endinet Oost-Brabant N.V.","N.V. RENDO","Westland Energie Infrastructuur B.V.","Enexis B.V.","Zebra Gasnetwerk B.V."]
[]
[null,"Rekenvolumina 2008-2010"]
[]
[null,"Kleinverbruik"]
[null,"Vastrecht (TOVT)",null,null,129694,179515,1745841,56137,141681,181132,2079118,191404,97187,46740,1801032,0]
[null,"Capaciteitsafhankelijk tarief (TAVTc)",null,null,459145,574018,5526095,183533,491695,620399,6729317,666374,333510,153844,6048469,0]
[]
[null,"Profielgrootverbruik"]
[null,"Vastrecht (TOVT)",null,null,517,671,8927,385,626,847,9807,1050,393,883,7996,0]
[null,"Capaciteitsafhankelijk tarief (TAVTc)",null,null,35015,45810,804161,27508,54490,63449,741665,69526,26760,148911,583540,0]
[]
[null,"Telemetriegrootverbruik (< 16 bar)"]
[null,"Vastrecht (TOVT)",null,null,106,152,2088,109,175,172,2629,333,81,1354,3722,0]
[null,"Capaciteitsafhankelijk tarief (TAVTc) lage druk",null,null,10617,0,0,0,0,0,174790,0,10176,0,0,0]
[null,"Capaciteitsafhankelijk tarief (TAVTc) hoge druk",null,null,23267,0,0,0,0,0,522314,0,18527,0,0,0]
[null,"Capaciteitsafhankelijk tarief (TAVTc) standaard",null,null,0,48369,655657,31514,50663,55830,0,87282,0,343603,697166,0]
[]
[null,"Extra hoge druk (>= 16 bar)"]
[null,"Vastrecht (TOVT)",null,null,0,13,0,0,0,0,0,0,0,0,1,2]
[null,"Capaciteitsafhankelijk tarief (TAVTc)",null,null,0,79900,0,0,0,0,0,0,0,0,39839,447622]
[]
[null,"Rekenvolumina 2011-2013"]
[]
[null,"Kleinverbruik"]
[null,"Vastrecht (TOVT)",null,null,{"$f":"Volumes!E67","v":135040},{"$f":"Volumes!F67","v":184162},{"$f":"Volumes!G67","v":1858709.2726986203},{"$f":"Volumes!H67","v":58327.400474510301},{"$f":"Volumes!I67","v":146239.91666666666},{"$f":"Volumes!J67","v":185102.18851558759},{"$f":"Volumes!K67","v":2118907.25},{"$f":"Volumes!L67","v":197314.92681096247},{"$f":"Volumes!M67","v":99960},{"$f":"Volumes!N67","v":48946.770308392726},{"$f":"Volumes!O67","v":1853309.5833333333},{"$f":"Volumes!P67","v":0}]
[null,"Capaciteitsafhankelijk tarief (TAVTc)",null,null,{"$f":"Volumes!E68","v":467691.5},{"$f":"Volumes!F68","v":604073.625},{"$f":"Volumes!G68","v":5823818.5081496947},{"$f":"Volumes!H68","v":192132.47677946283},{"$f":"Volumes!I68","v":500613.08333333331},{"$f":"Volumes!J68","v":628929.60531212005},{"$f":"Volumes!K68","v":6816990.1098443028},{"$f":"Volumes!L68","v":688447.71695238282},{"$f":"Volumes!M68","v":340481.5},{"$f":"Volumes!N68","v":161660.84883427003},{"$f":"Volumes!O68","v":6211958.333333333},{"$f":"Volumes!P68","v":0}]
[]
[null,"Profielgrootverbruik"]
[null,"Vastrecht (TOVT)",null,null,{"$f":"Volumes!E71","v":535},{"$f":"Volumes!F71","v":582},{"$f":"Volumes!G71","v":8308.4867727082292},{"$f":"Volumes!H71","v":353.7735102489774},{"$f":"Volumes!I71","v":575.66666666666674},{"$f":"Volumes!J71","v":739.49465636788716},{"$f":"Volumes!K71","v":9701.1657855403719},{"$f":"Volumes!L71","v":985.09574033983495},{"$f":"Volumes!M71","v":370},{"$f":"Volumes!N71","v":795.24659960305485},{"$f":"Volumes!O71","v":8078.1052477609564},{"$f":"Volumes!P71","v":0}]
[null,"Capaciteitsafhankelijk tarief (TAVTc)",null,null,{"$f":"Volumes!E72","v":37330},{"$f":"Volumes!F72","v":41655},{"$f":"Volumes!G72","v":751128.40522875811},{"$f":"Volumes!H72","v":23809.756727914933},{"$f":"Volumes!I72","v":51954.583333333328},{"$f":"Volumes!J72","v":49893.615369399617},{"$f":"Volumes!K72","v":728219.84494329384},{"$f":"Volumes!L72","v":64674.753002713282},{"$f":"Volumes!M72","v":24510},{"$f":"Volumes!N72","v":94003.501632748361},{"$f":"Volumes!O72","v":628448.03595485771},{"$f":"Volumes!P72","v":0}]
[]
[null,"Telemetriegrootverbruik (< 16 bar)"]
[null,"Vastrecht (TOVT)",null,null,{"$f":"Volumes!E75","v":100},{"$f":"Volumes!F75","v":175},{"$f":"Volumes!G75","v":2111.7272676776092},{"$f":"Volumes!H75","v":99.349265871126391},{"$f":"Volumes!I75","v":202.83333333333334},{"$f":"Volumes!J75","v":202.23637495605956},{"$f":"Volumes!K75","v":2398},{"$f":"Volumes!L75","v":299.50416538586131},{"$f":"Volumes!M75","v":90.81},{"$f":"Volumes!N75","v":1010.4740667885786},{"$f":"Volumes!O75","v":2082.6160185185186},{"$f":"Volumes!P75","v":0}]
[null,"Capaciteitsafhankelijk tarief (TAVTc) lage druk",null,null,{"$f":"Volumes!E76","v":9712},{"$f":"Volumes!F76","v":12131},{"$f":"Volumes!G76","v":0},{"$f":"Volumes!H76","v":0},{"$f":"Volumes!I76","v":0},{"$f":"Volumes!J76","v":0},{"$f":"Volumes!K76","v":133790.75},{"$f":"Volumes!L76","v":0},{"$f":"Volumes!M76","v":3854.9999984640003},{"$f":"Volumes!N76","v":0},{"$f":"Volumes!O76","v":0},{"$f":"Volumes!P76","v":0}]
[null,"Capaciteitsafhankelijk tarief (TAVTc) hoge druk",null,null,{"$f":"Volumes!E77","v":21499},{"$f":"Volumes!F77","v":37063},{"$f":"Volumes!G77","v":0},{"$f":"Volumes!H77","v":0},{"$f":"Volumes!I77","v":0},{"$f":"Volumes!J77","v":0},{"$f":"Volumes!K77","v":505750.25},{"$f":"Volumes!L77","v":0},{"$f":"Volumes!M77","v":26108.633997536999},{"$f":"Volumes!N77","v":0},{"$f":"Volumes!O77","v":0},{"$f":"Volumes!P77","v":0}]
[null,"Capaciteitsafhankelijk tarief (TAVTc) standaard",null,null,{"$f":"Volumes!E78","v":31211},{"$f":"Volumes!F78","v":49194},{"$f":"Volumes!G78","v":662945.27233115479},{"$f":"Volumes!H78","v":26459.960708187875},{"$f":"Volumes!I78","v":58639},{"$f":"Volumes!J78","v":60476.053081816521},{"$f":"Volumes!K78","v":639541},{"$f":"Volumes!L78","v":96854.199084906591},{"$f":"Volumes!M78","v":29963.633996001001},{"$f":"Volumes!N78","v":338804.83712984051},{"$f":"Volumes!O78","v":683855.48194444436},{"$f":"Volumes!P78","v":0}]
[]
[null,"Extra hoge druk (>= 16 bar)"]
[null,"Vastrecht (TOVT)",null,null,{"$f":"Volumes!E81","v":0},{"$f":"Volumes!F81","v":13},{"$f":"Volumes!G81","v":0},{"$f":"Volumes!H81","v":0},{"$f":"Volumes!I81","v":0},{"$f":"Volumes!J81","v":0},{"$f":"Volumes!K81","v":0},{"$f":"Volumes!L81","v":0},{"$f":"Volumes!M81","v":0},{"$f":"Volumes!N81","v":0},{"$f":"Volumes!O81","v":1},{"$f":"Volumes!P81","v":2}]
[null,"Capaciteitsafhankelijk tarief (TAVTc)",null,null,{"$f":"Volumes!E82","v":0},{"$f":"Volumes!F82","v":71025.947625817455},{"$f":"Volumes!G82","v":0},{"$f":"Volumes!H82","v":0},{"$f":"Volumes!I82","v":0},{"$f":"Volumes!J82","v":0},{"$f":"Volumes!K82","v":0},{"$f":"Volumes!L82","v":0},{"$f":"Volumes!M82","v":0},{"$f":"Volumes!N82","v":0},{"$f":"Volumes!O82","v":60000},{"$f":"Volumes!P82","v":529268}]
[]
[null,"EAV"]
[null,"LD 0-10 m3/h",null,null,{"$f":"Volumes!E87","v":1927},{"$f":"Volumes!F87","v":1758},{"$f":"Volumes!G87","v":24572.158543426351},{"$f":"Volumes!H87","v":323},{"$f":"Volumes!I87","v":1415},{"$f":"Volumes!J87","v":2290},{"$f":"Volumes!K87","v":21465},{"$f":"Volumes!L87","v":1752},{"$f":"Volumes!M87","v":1129},{"$f":"Volumes!N87","v":868},{"$f":"Volumes!O87","v":18697.626415407522},{"$f":"Volumes!P87","v":0}]
[null,"LD 10-16 m3/h",null,null,{"$f":"Volumes!E88","v":0},{"$f":"Volumes!F88","v":0},{"$f":"Volumes!G88","v":244.67993222336813},{"$f":"Volumes!H88","v":15},{"$f":"Volumes!I88","v":0},{"$f":"Volumes!J88","v":0},{"$f":"Volumes!K88","v":295},{"$f":"Volumes!L88","v":85},{"$f":"Volumes!M88","v":12},{"$f":"Volumes!N88","v":7},{"$f":"Volumes!O88","v":203.44832238343278},{"$f":"Volumes!P88","v":0}]
[null,"LD 16-25 m3/h",null,null,{"$f":"Volumes!E89","v":22.990691971343296},{"$f":"Volumes!F89","v":41},{"$f":"Volumes!G89","v":228.23147929865922},{"$f":"Volumes!H89","v":12},{"$f":"Volumes!I89","v":22},{"$f":"Volumes!J89","v":35},{"$f":"Volumes!K89","v":153},{"$f":"Volumes!L89","v":23},{"$f":"Volumes!M89","v":12},{"$f":"Volumes!N89","v":2},{"$f":"Volumes!O89","v":231.55627118503438},{"$f":"Volumes!P89","v":0}]
[null,"LD 25-40 m3/h ",null,null,{"$f":"Volumes!E90","v":6},{"$f":"Volumes!F90","v":8},{"$f":"Volumes!G90","v":97.165233423265178},{"$f":"Volumes!H90","v":10},{"$f":"Volumes!I90","v":8},{"$f":"Volumes!J90","v":9},{"$f":"Volumes!K90","v":186},{"$f":"Volumes!L90","v":27},{"$f":"Volumes!M90","v":3},{"$f":"Volumes!N90","v":6},{"$f":"Volumes!O90","v":148.54964556948104},{"$f":"Volumes!P90","v":0}]
[null,"LD 40-65 m3/h ",null,null,{"$f":"Volumes!E91","v":7.0061950476330335},{"$f":"Volumes!F91","v":1},{"$f":"Volumes!G91","v":46.583753974737171},{"$f":"Volumes!H91","v":6},{"$f":"Volumes!I91","v":2},{"$f":"Volumes!J91","v":3},{"$f":"Volumes!K91","v":0},{"$f":"Volumes!L91","v":14},{"$f":"Volumes!M91","v":1},{"$f":"Volumes!N91","v":2},{"$f":"Volumes!O91","v":64.850408475874389},{"$f":"Volumes!P91","v":0}]
[null,"LD 65-100 m3/h ",null,null,{"$f":"Volumes!E92","v":3},{"$f":"Volumes!F92","v":1},{"$f":"Volumes!G92","v":28.79172508920405},{"$f":"Volumes!H92","v":3},{"$f":"Volumes!I92","v":5},{"$f":"Volumes!J92","v":7},{"$f":"Volumes!K92","v":101},{"$f":"Volumes!L92","v":4},{"$f":"Volumes!M92","v":1},{"$f":"Volumes!N92","v":0},{"$f":"Volumes!O92","v":44.712686567164177},{"$f":"Volumes!P92","v":0}]
[null,"LD 100-160 m3/h",null,null,{"$f":"Volumes!E93","v":0},{"$f":"Volumes!F93","v":1},{"$f":"Volumes!G93","v":25.283660690150889},{"$f":"Volumes!H93","v":0},{"$f":"Volumes!I93","v":3},{"$f":"Volumes!J93","v":2},{"$f":"Volumes!K93","v":23},{"$f":"Volumes!L93","v":2},{"$f":"Volumes!M93","v":0},{"$f":"Volumes!N93","v":3},{"$f":"Volumes!O93","v":21.547921568627451},{"$f":"Volumes!P93","v":0}]
[null,"LD 160-250 m3/h ",null,null,{"$f":"Volumes!E94","v":0},{"$f":"Volumes!F94","v":0},{"$f":"Volumes!G94","v":0},{"$f":"Volumes!H94","v":3},{"$f":"Volumes!I94","v":0},{"$f":"Volumes!J94","v":0},{"$f":"Volumes!K94","v":8},{"$f":"Volumes!L94","v":0},{"$f":"Volumes!M94","v":0},{"$f":"Volumes!N94","v":0},{"$f":"Volumes!O94","v":10.752982456140352},{"$f":"Volumes!P94","v":0}]
[null,"LD 250-400 m3/h ",null,null,{"$f":"Volumes!E95","v":0},{"$f":"Volumes!F95","v":0},{"$f":"Volumes!G95","v":0},{"$f":"Volumes!H95","v":0},{"$f":"Volumes!I95","v":0},{"$f":"Volumes!J95","v":2},{"$f":"Volumes!K95","v":11},{"$f":"Volumes!L95","v":2},{"$f":"Volumes!M95","v":0},{"$f":"Volumes!N95","v":1},{"$f":"Volumes!O95","v":8},{"$f":"Volumes!P95","v":0}]
[null,"LD 400-650 m3/h ",null,null,{"$f":"Volumes!E96","v":0},{"$f":"Volumes!F96","v":0},{"$f":"Volumes!G96","v":0},{"$f":"Volumes!H96","v":0},{"$f":"Volumes!I96","v":0},{"$f":"Volumes!J96","v":0},{"$f":"Volumes!K96","v":5},{"$f":"Volumes!L96","v":0},{"$f":"Volumes!M96","v":0},{"$f":"Volumes!N96","v":0},{"$f":"Volumes!O96","v":0},{"$f":"Volumes!P96","v":0}]
[null,"LD 650-1000 m3/h ",null,null,{"$f":"Volumes!E97","v":0},{"$f":"Volumes!F97","v":0},{"$f":"Volumes!G97","v":0},{"$f":"Volumes!H97","v":0},{"$f":"Volumes!I97","v":0},{"$f":"Volumes!J97","v":0},{"$f":"Volumes!K97","v":0},{"$f":"Volumes!L97","v":0},{"$f":"Volumes!M97","v":0},{"$f":"Volumes!N97","v":0},{"$f":"Volumes!O97","v":0},{"$f":"Volumes!P97","v":0}]
[null,"LD 1000-1600 m3/h ",null,null,{"$f":"Volumes!E98","v":0},{"$f":"Volumes!F98","v":0},{"$f":"Volumes!G98","v":0},{"$f":"Volumes!H98","v":0},{"$f":"Volumes!I98","v":0},{"$f":"Volumes!J98","v":0},{"$f":"Volumes!K98","v":0},{"$f":"Volumes!L98","v":0},{"$f":"Volumes!M98","v":0},{"$f":"Volumes!N98","v":0},{"$f":"Volumes!O98","v":0},{"$f":"Volumes!P98","v":0}]
[null,"LD 1600-2500 m3/h ",null,null,{"$f":"Volumes!E99","v":0},{"$f":"Volumes!F99","v":0},{"$f":"Volumes!G99","v":0},{"$f":"Volumes!H99","v":0},{"$f":"Volumes!I99","v":0},{"$f":"Volumes!J99","v":0},{"$f":"Volumes!K99","v":0},{"$f":"Volumes!L99","v":0},{"$f":"Volumes!M99","v":0},{"$f":"Volumes!N99","v":0},{"$f":"Volumes!O99","v":0},{"$f":"Volumes!P99","v":0}]
[null,"LD >2500 m3/h",null,null,{"$f":"Volumes!E100","v":0},{"$f":"Volumes!F100","v":0},{"$f":"Volumes!G100","v":0},{"$f":"Volumes!H100","v":0},{"$f":"Volumes!I100","v":0},{"$f":"Volumes!J100","v":0},{"$f":"Volumes!K100","v":0},{"$f":"Volumes!L100","v":0},{"$f":"Volumes!M100","v":0},{"$f":"Volumes!N100","v":0},{"$f":"Volumes!O100","v":0},{"$f":"Volumes!P100","v":0}]
[]
[null,"HD 0-10 m3/h",null,null,{"$f":"Volumes!E102","v":0},{"$f":"Volumes!F102","v":0},{"$f":"Volumes!G102","v":0},{"$f":"Volumes!H102","v":0},{"$f":"Volumes!I102","v":0},{"$f":"Volumes!J102","v":0},{"$f":"Volumes!K102","v":0},{"$f":"Volumes!L102","v":0},{"$f":"Volumes!M102","v":0},{"$f":"Volumes!N102","v":0},{"$f":"Volumes!O102","v":0},{"$f":"Volumes!P102","v":0}]
[null,"HD 10-16 m3/h",null,null,{"$f":"Volumes!E103","v":0},{"$f":"Volumes!F103","v":0},{"$f":"Volumes!G103","v":0},{"$f":"Volumes!H103","v":0},{"$f":"Volumes!I103","v":0},{"$f":"Volumes!J103","v":0},{"$f":"Volumes!K103","v":0},{"$f":"Volumes!L103","v":0},{"$f":"Volumes!M103","v":0},{"$f":"Volumes!N103","v":0},{"$f":"Volumes!O103","v":0},{"$f":"Volumes!P103","v":0}]
[null,"HD 16-25 m3/h",null,null,{"$f":"Volumes!E104","v":0},{"$f":"Volumes!F104","v":0},{"$f":"Volumes!G104","v":0},{"$f":"Volumes!H104","v":0},{"$f":"Volumes!I104","v":0},{"$f":"Volumes!J104","v":0},{"$f":"Volumes!K104","v":0},{"$f":"Volumes!L104","v":0},{"$f":"Volumes!M104","v":0},{"$f":"Volumes!N104","v":0},{"$f":"Volumes!O104","v":0},{"$f":"Volumes!P104","v":0}]
[null,"HD 25-40 m3/h",null,null,{"$f":"Volumes!E105","v":0},{"$f":"Volumes!F105","v":0},{"$f":"Volumes!G105","v":0},{"$f":"Volumes!H105","v":0},{"$f":"Volumes!I105","v":0},{"$f":"Volumes!J105","v":0},{"$f":"Volumes!K105","v":0},{"$f":"Volumes!L105","v":0},{"$f":"Volumes!M105","v":0},{"$f":"Volumes!N105","v":0},{"$f":"Volumes!O105","v":0},{"$f":"Volumes!P105","v":0}]
[null,"HD 40-65 m3/h",null,null,{"$f":"Volumes!E106","v":0},{"$f":"Volumes!F106","v":0},{"$f":"Volumes!G106","v":6.3152114222954419},{"$f":"Volumes!H106","v":0},{"$f":"Volumes!I106","v":0},{"$f":"Volumes!J106","v":0},{"$f":"Volumes!K106","v":0},{"$f":"Volumes!L106","v":0},{"$f":"Volumes!M106","v":0},{"$f":"Volumes!N106","v":0},{"$f":"Volumes!O106","v":14},{"$f":"Volumes!P106","v":0}]
[null,"HD 65-100 m3/h",null,null,{"$f":"Volumes!E107","v":0},{"$f":"Volumes!F107","v":0},{"$f":"Volumes!G107","v":4.2781580584940881},{"$f":"Volumes!H107","v":0},{"$f":"Volumes!I107","v":0},{"$f":"Volumes!J107","v":0},{"$f":"Volumes!K107","v":1},{"$f":"Volumes!L107","v":0},{"$f":"Volumes!M107","v":0},{"$f":"Volumes!N107","v":0},{"$f":"Volumes!O107","v":19},{"$f":"Volumes!P107","v":0}]
[null,"HD 100-160 m3/h",null,null,{"$f":"Volumes!E108","v":0},{"$f":"Volumes!F108","v":0},{"$f":"Volumes!G108","v":2.8780336029869322},{"$f":"Volumes!H108","v":0},{"$f":"Volumes!I108","v":0},{"$f":"Volumes!J108","v":0},{"$f":"Volumes!K108","v":0},{"$f":"Volumes!L108","v":0},{"$f":"Volumes!M108","v":0},{"$f":"Volumes!N108","v":0},{"$f":"Volumes!O108","v":28},{"$f":"Volumes!P108","v":0}]
[null,"HD 160-250 m3/h",null,null,{"$f":"Volumes!E109","v":0},{"$f":"Volumes!F109","v":1},{"$f":"Volumes!G109","v":4},{"$f":"Volumes!H109","v":0},{"$f":"Volumes!I109","v":0},{"$f":"Volumes!J109","v":0},{"$f":"Volumes!K109","v":1},{"$f":"Volumes!L109","v":3},{"$f":"Volumes!M109","v":0},{"$f":"Volumes!N109","v":0},{"$f":"Volumes!O109","v":19},{"$f":"Volumes!P109","v":0}]
[null,"HD 250-400 m3/h ",null,null,{"$f":"Volumes!E110","v":0},{"$f":"Volumes!F110","v":1},{"$f":"Volumes!G110","v":5},{"$f":"Volumes!H110","v":0},{"$f":"Volumes!I110","v":0},{"$f":"Volumes!J110","v":0},{"$f":"Volumes!K110","v":1},{"$f":"Volumes!L110","v":0},{"$f":"Volumes!M110","v":0},{"$f":"Volumes!N110","v":0},{"$f":"Volumes!O110","v":8},{"$f":"Volumes!P110","v":0}]
[null,"HD 400-650 m3/h ",null,null,{"$f":"Volumes!E111","v":0},{"$f":"Volumes!F111","v":0},{"$f":"Volumes!G111","v":1},{"$f":"Volumes!H111","v":0},{"$f":"Volumes!I111","v":0},{"$f":"Volumes!J111","v":0},{"$f":"Volumes!K111","v":8},{"$f":"Volumes!L111","v":1},{"$f":"Volumes!M111","v":0},{"$f":"Volumes!N111","v":1},{"$f":"Volumes!O111","v":4},{"$f":"Volumes!P111","v":0}]
[null,"HD 650-1000 m3/h ",null,null,{"$f":"Volumes!E112","v":0},{"$f":"Volumes!F112","v":1},{"$f":"Volumes!G112","v":3},{"$f":"Volumes!H112","v":0},{"$f":"Volumes!I112","v":0},{"$f":"Volumes!J112","v":0},{"$f":"Volumes!K112","v":0},{"$f":"Volumes!L112","v":0},{"$f":"Volumes!M112","v":0},{"$f":"Volumes!N112","v":5},{"$f":"Volumes!O112","v":8},{"$f":"Volumes!P112","v":0}]
[null,"HD 1000-1600 m3/h ",null,null,{"$f":"Volumes!E113","v":0},{"$f":"Volumes!F113","v":0},{"$f":"Volumes!G113","v":5},{"$f":"Volumes!H113","v":0},{"$f":"Volumes!I113","v":0},{"$f":"Volumes!J113","v":0},{"$f":"Volumes!K113","v":0},{"$f":"Volumes!L113","v":0},{"$f":"Volumes!M113","v":0},{"$f":"Volumes!N113","v":1},{"$f":"Volumes!O113","v":0},{"$f":"Volumes!P113","v":0}]
[null,"HD 1600-2500 m3/h ",null,null,{"$f":"Volumes!E114","v":0},{"$f":"Volumes!F114","v":0},{"$f":"Volumes!G114","v":0},{"$f":"Volumes!H114","v":0},{"$f":"Volumes!I114","v":0},{"$f":"Volumes!J114","v":0},{"$f":"Volumes!K114","v":0},{"$f":"Volumes!L114","v":1},{"$f":"Volumes!M114","v":0},{"$f":"Volumes!N114","v":2},{"$f":"Volumes!O114","v":0},{"$f":"Volumes!P114","v":0}]
[null,"HD >2500 m3/h",null,null,{"$f":"Volumes!E115","v":0},{"$f":"Volumes!F115","v":0},{"$f":"Volumes!G115","v":1},{"$f":"Volumes!H115","v":0},{"$f":"Volumes!I115","v":0},{"$f":"Volumes!J115","v":0},{"$f":"Volumes!K115","v":0},{"$f":"Volumes!L115","v":0},{"$f":"Volumes!M115","v":0},{"$f":"Volumes!N115","v":0},{"$f":"Volumes!O115","v":21},{"$f":"Volumes!P115","v":0}]
[]
[null,"EHD 0-40 m3/h",null,null,{"$f":"Volumes!E117","v":0},{"$f":"Volumes!F117","v":0},{"$f":"Volumes!G117","v":0},{"$f":"Volumes!H117","v":0},{"$f":"Volumes!I117","v":0},{"$f":"Volumes!J117","v":0},{"$f":"Volumes!K117","v":0},{"$f":"Volumes!L117","v":0},{"$f":"Volumes!M117","v":0},{"$f":"Volumes!N117","v":0},{"$f":"Volumes!O117","v":0},{"$f":"Volumes!P117","v":0}]
[null,"EHD >40 m3/h",null,null,{"$f":"Volumes!E118","v":0},{"$f":"Volumes!F118","v":0},{"$f":"Volumes!G118","v":0},{"$f":"Volumes!H118","v":0},{"$f":"Volumes!I118","v":0},{"$f":"Volumes!J118","v":0},{"$f":"Volumes!K118","v":0},{"$f":"Volumes!L118","v":0},{"$f":"Volumes!M118","v":0},{"$f":"Volumes!N118","v":0},{"$f":"Volumes!O118","v":0},{"$f":"Volumes!P118","v":0}]
[]
[null,"Meerlengte"]
[null,"LD 0-10 m3/h",null,null,{"$f":"Volumes!E121","v":544.16869613886854},{"$f":"Volumes!F121","v":998},{"$f":"Volumes!G121","v":14118.270855520053},{"$f":"Volumes!H121","v":715},{"$f":"Volumes!I121","v":0},{"$f":"Volumes!J121","v":226},{"$f":"Volumes!K121","v":16448},{"$f":"Volumes!L121","v":771},{"$f":"Volumes!M121","v":2508},{"$f":"Volumes!N121","v":1708},{"$f":"Volumes!O121","v":31174.32},{"$f":"Volumes!P121","v":0}]
[null,"LD 10-16 m3/h",null,null,{"$f":"Volumes!E122","v":1202.7358888533695},{"$f":"Volumes!F122","v":0},{"$f":"Volumes!G122","v":2269.7514490282988},{"$f":"Volumes!H122","v":104},{"$f":"Volumes!I122","v":0},{"$f":"Volumes!J122","v":0},{"$f":"Volumes!K122","v":3444},{"$f":"Volumes!L122","v":292},{"$f":"Volumes!M122","v":0},{"$f":"Volumes!N122","v":153},{"$f":"Volumes!O122","v":2628.6642335766405},{"$f":"Volumes!P122","v":0}]
[null,"LD 16-25 m3/h",null,null,{"$f":"Volumes!E123","v":1868.1116159034268},{"$f":"Volumes!F123","v":507},{"$f":"Volumes!G123","v":4664.6907603136724},{"$f":"Volumes!H123","v":84},{"$f":"Volumes!I123","v":0},{"$f":"Volumes!J123","v":30},{"$f":"Volumes!K123","v":1886},{"$f":"Volumes!L123","v":79},{"$f":"Volumes!M123","v":40},{"$f":"Volumes!N123","v":0},{"$f":"Volumes!O123","v":4575.8978102189803},{"$f":"Volumes!P123","v":0}]
[null,"LD 25-40 m3/h ",null,null,{"$f":"Volumes!E124","v":248.00550696469065},{"$f":"Volumes!F124","v":0},{"$f":"Volumes!G124","v":1843.4887082204154},{"$f":"Volumes!H124","v":550},{"$f":"Volumes!I124","v":0},{"$f":"Volumes!J124","v":0},{"$f":"Volumes!K124","v":1441},{"$f":"Volumes!L124","v":114},{"$f":"Volumes!M124","v":0},{"$f":"Volumes!N124","v":135},{"$f":"Volumes!O124","v":3915.3649635036541},{"$f":"Volumes!P124","v":0}]
[null,"HD 0-10 m3/h",null,null,{"$f":"Volumes!E125","v":0},{"$f":"Volumes!F125","v":0},{"$f":"Volumes!G125","v":0},{"$f":"Volumes!H125","v":0},{"$f":"Volumes!I125","v":0},{"$f":"Volumes!J125","v":0},{"$f":"Volumes!K125","v":0},{"$f":"Volumes!L125","v":0},{"$f":"Volumes!M125","v":0},{"$f":"Volumes!N125","v":0},{"$f":"Volumes!O125","v":0},{"$f":"Volumes!P125","v":0}]
[null,"HD 10-16 m3/h",null,null,{"$f":"Volumes!E126","v":0},{"$f":"Volumes!F126","v":0},{"$f":"Volumes!G126","v":0},{"$f":"Volumes!H126","v":0},{"$f":"Volumes!I126","v":0},{"$f":"Volumes!J126","v":0},{"$f":"Volumes!K126","v":0},{"$f":"Volumes!L126","v":0},{"$f":"Volumes!M126","v":0},{"$f":"Volumes!N126","v":0},{"$f":"Volumes!O126","v":0},{"$f":"Volumes!P126","v":0}]
[null,"HD 16-25 m3/h",null,null,{"$f":"Volumes!E127","v":0},{"$f":"Volumes!F127","v":0},{"$f":"Volumes!G127","v":0},{"$f":"Volumes!H127","v":0},{"$f":"Volumes!I127","v":0},{"$f":"Volumes!J127","v":0},{"$f":"Volumes!K127","v":0},{"$f":"Volumes!L127","v":0},{"$f":"Volumes!M127","v":0},{"$f":"Volumes!N127","v":0},{"$f":"Volumes!O127","v":0},{"$f":"Volumes!P127","v":0}]
[null,"HD 25-40 m3/h",null,null,{"$f":"Volumes!E128","v":0},{"$f":"Volumes!F128","v":0},{"$f":"Volumes!G128","v":0},{"$f":"Volumes!H128","v":0},{"$f":"Volumes!I128","v":0},{"$f":"Volumes!J128","v":0},{"$f":"Volumes!K128","v":1034},{"$f":"Volumes!L128","v":0},{"$f":"Volumes!M128","v":0},{"$f":"Volumes!N128","v":0},{"$f":"Volumes!O128","v":0},{"$f":"Volumes!P128","v":0}]
[null,"EHD 0-40 m3/h",null,null,{"$f":"Volumes!E129","v":0},{"$f":"Volumes!F129","v":0},{"$f":"Volumes!G129","v":0},{"$f":"Volumes!H129","v":0},{"$f":"Volumes!I129","v":0},{"$f":"Volumes!J129","v":0},{"$f":"Volumes!K129","v":0},{"$f":"Volumes!L129","v":0},{"$f":"Volumes!M129","v":0},{"$f":"Volumes!N129","v":0},{"$f":"Volumes!O129","v":0},{"$f":"Volumes!P129","v":0}]
[]
[null,"PAV"]
[null,"LD 0-10 m3/h",null,null,{"$f":"Volumes!E132","v":132025},{"$f":"Volumes!F132","v":180711.75},{"$f":"Volumes!G132","v":1828348.5455361151},{"$f":"Volumes!H132","v":57046.309352984827},{"$f":"Volumes!I132","v":143820},{"$f":"Volumes!J132","v":180205.84337409996},{"$f":"Volumes!K132","v":2085645.9330094492},{"$f":"Volumes!L132","v":191428.08737162795},{"$f":"Volumes!M132","v":97724},{"$f":"Volumes!N132","v":47847.09474435787},{"$f":"Volumes!O132","v":1814891.9142830216},{"$f":"Volumes!P132","v":0}]
[null,"LD 10-16 m3/h",null,null,{"$f":"Volumes!E133","v":2},{"$f":"Volumes!F133","v":0},{"$f":"Volumes!G133","v":7246.4546882009881},{"$f":"Volumes!H133","v":277.8956979638358},{"$f":"Volumes!I133","v":10},{"$f":"Volumes!J133","v":3.9841443959393112},{"$f":"Volumes!K133","v":8018.2532685564456},{"$f":"Volumes!L133","v":2343.9399464790472},{"$f":"Volumes!M133","v":685},{"$f":"Volumes!N133","v":417.51028994994761},{"$f":"Volumes!O133","v":4557.6466444163816},{"$f":"Volumes!P133","v":0}]
[null,"LD 16-25 m3/h",null,null,{"$f":"Volumes!E134","v":2299},{"$f":"Volumes!F134","v":2801},{"$f":"Volumes!G134","v":16275.454688200987},{"$f":"Volumes!H134","v":561.76764749678637},{"$f":"Volumes!I134","v":2283},{"$f":"Volumes!J134","v":3299.8675959367347},{"$f":"Volumes!K134","v":20234.506537112891},{"$f":"Volumes!L134","v":2536.6883102074053},{"$f":"Volumes!M134","v":1134},{"$f":"Volumes!N134","v":399.37366814239169},{"$f":"Volumes!O134","v":25805.661237747427},{"$f":"Volumes!P134","v":0}]
[null,"LD 25-40 m3/h ",null,null,{"$f":"Volumes!E135","v":720},{"$f":"Volumes!F135","v":649.25},{"$f":"Volumes!G135","v":6816.7271952259171},{"$f":"Volumes!H135","v":336.66217172679745},{"$f":"Volumes!I135","v":586},{"$f":"Volumes!J135","v":917.76777285001219},{"$f":"Volumes!K135","v":5016.583333333333},{"$f":"Volumes!L135","v":1069.5967027791669},{"$f":"Volumes!M135","v":416},{"$f":"Volumes!N135","v":282.79160594252039},{"$f":"Volumes!O135","v":8121.5614958854185},{"$f":"Volumes!P135","v":0}]
[null,"LD 40-65 m3/h ",null,null,{"$f":"Volumes!E136","v":240},{"$f":"Volumes!F136","v":198},{"$f":"Volumes!G136","v":1974.2314227903328},{"$f":"Volumes!H136","v":150.41086763943699},{"$f":"Volumes!I136","v":2},{"$f":"Volumes!J136","v":321.86417430084964},{"$f":"Volumes!K136","v":2904.1804046566431},{"$f":"Volumes!L136","v":473.40678410703072},{"$f":"Volumes!M136","v":152.84},{"$f":"Volumes!N136","v":83.5},{"$f":"Volumes!O136","v":2619.0938170742133},{"$f":"Volumes!P136","v":0}]
[null,"LD 65-100 m3/h ",null,null,{"$f":"Volumes!E137","v":186},{"$f":"Volumes!F137","v":265},{"$f":"Volumes!G137","v":3111.6377371702492},{"$f":"Volumes!H137","v":132.47302985553739},{"$f":"Volumes!I137","v":386},{"$f":"Volumes!J137","v":245.09091029047701},{"$f":"Volumes!K137","v":4309.1089230026164},{"$f":"Volumes!L137","v":310.59183963341809},{"$f":"Volumes!M137","v":146.655},{"$f":"Volumes!N137","v":178},{"$f":"Volumes!O137","v":2934.4663336130993},{"$f":"Volumes!P137","v":0}]
[null,"LD 100-160 m3/h",null,null,{"$f":"Volumes!E138","v":63},{"$f":"Volumes!F138","v":95},{"$f":"Volumes!G138","v":1870.0133124134595},{"$f":"Volumes!H138","v":60.772063349451329},{"$f":"Volumes!I138","v":125},{"$f":"Volumes!J138","v":203.20324300571809},{"$f":"Volumes!K138","v":1976.6768071653812},{"$f":"Volumes!L138","v":185.7959945629427},{"$f":"Volumes!M138","v":41.295000000000002},{"$f":"Volumes!N138","v":136.83333333333331},{"$f":"Volumes!O138","v":1442.2635212921048},{"$f":"Volumes!P138","v":0}]
[null,"LD 160-250 m3/h ",null,null,{"$f":"Volumes!E139","v":62},{"$f":"Volumes!F139","v":63},{"$f":"Volumes!G139","v":550.80608318173984},{"$f":"Volumes!H139","v":29.852932317470653},{"$f":"Volumes!I139","v":82},{"$f":"Volumes!J139","v":56.784495954156462},{"$f":"Volumes!K139","v":1315.5343138286819},{"$f":"Volumes!L139","v":62.901467549055127},{"$f":"Volumes!M139","v":17.970000000000002},{"$f":"Volumes!N139","v":374},{"$f":"Volumes!O139","v":613.5941743343318},{"$f":"Volumes!P139","v":0}]
[null,"LD 250-400 m3/h ",null,null,{"$f":"Volumes!E140","v":20},{"$f":"Volumes!F140","v":12},{"$f":"Volumes!G140","v":496.51998825829992},{"$f":"Volumes!H140","v":10.953079815417915},{"$f":"Volumes!I140","v":52},{"$f":"Volumes!J140","v":67.7259403717255},{"$f":"Volumes!K140","v":769.21096350691505},{"$f":"Volumes!L140","v":19.963679647042568},{"$f":"Volumes!M140","v":8.73},{"$f":"Volumes!N140","v":523.66666666666674},{"$f":"Volumes!O140","v":399.26357719957673},{"$f":"Volumes!P140","v":0}]
[null,"LD 400-650 m3/h ",null,null,{"$f":"Volumes!E141","v":8},{"$f":"Volumes!F141","v":0},{"$f":"Volumes!G141","v":134.49114453914305},{"$f":"Volumes!H141","v":0},{"$f":"Volumes!I141","v":20},{"$f":"Volumes!J141","v":16.927678709205342},{"$f":"Volumes!K141","v":315.64828900569262},{"$f":"Volumes!L141","v":0},{"$f":"Volumes!M141","v":1},{"$f":"Volumes!N141","v":0.33333333333333331},{"$f":"Volumes!O141","v":51.388510167926754},{"$f":"Volumes!P141","v":0}]
[null,"LD 650-1000 m3/h ",null,null,{"$f":"Volumes!E142","v":0},{"$f":"Volumes!F142","v":0},{"$f":"Volumes!G142","v":40.028547768774615},{"$f":"Volumes!H142","v":0},{"$f":"Volumes!I142","v":4},{"$f":"Volumes!J142","v":7.9695489301917215},{"$f":"Volumes!K142","v":185.71797008543075},{"$f":"Volumes!L142","v":0},{"$f":"Volumes!M142","v":0},{"$f":"Volumes!N142","v":2.5},{"$f":"Volumes!O142","v":17.378518096395492},{"$f":"Volumes!P142","v":0}]
[null,"LD 1000-1600 m3/h ",null,null,{"$f":"Volumes!E143","v":0},{"$f":"Volumes!F143","v":1},{"$f":"Volumes!G143","v":14.91764232253621},{"$f":"Volumes!H143","v":0},{"$f":"Volumes!I143","v":0},{"$f":"Volumes!J143","v":3.9812302774575627},{"$f":"Volumes!K143","v":80.827220747622249},{"$f":"Volumes!L143","v":0},{"$f":"Volumes!M143","v":0},{"$f":"Volumes!N143","v":242.66666666666663},{"$f":"Volumes!O143","v":0},{"$f":"Volumes!P143","v":0}]
[null,"LD 1600-2500 m3/h ",null,null,{"$f":"Volumes!E144","v":0},{"$f":"Volumes!F144","v":0},{"$f":"Volumes!G144","v":4.8067376806206568},{"$f":"Volumes!H144","v":0},{"$f":"Volumes!I144","v":0},{"$f":"Volumes!J144","v":1.9848757644538741},{"$f":"Volumes!K144","v":33.899927693682528},{"$f":"Volumes!L144","v":0},{"$f":"Volumes!M144","v":0},{"$f":"Volumes!N144","v":0},{"$f":"Volumes!O144","v":0},{"$f":"Volumes!P144","v":0}]
[null,"LD >2500 m3/h",null,null,{"$f":"Volumes!E145","v":0},{"$f":"Volumes!F145","v":0},{"$f":"Volumes!G145","v":1.4619664555760465},{"$f":"Volumes!H145","v":0},{"$f":"Volumes!I145","v":0},{"$f":"Volumes!J145","v":0},{"$f":"Volumes!K145","v":13.767606583826444},{"$f":"Volumes!L145","v":0},{"$f":"Volumes!M145","v":0},{"$f":"Volumes!N145","v":9.5},{"$f":"Volumes!O145","v":0},{"$f":"Volumes!P145","v":0}]
[]
[null,"HD 0-10 m3/h",null,null,{"$f":"Volumes!E147","v":0},{"$f":"Volumes!F147","v":0},{"$f":"Volumes!G147","v":17},{"$f":"Volumes!H147","v":0},{"$f":"Volumes!I147","v":0},{"$f":"Volumes!J147","v":0},{"$f":"Volumes!K147","v":0},{"$f":"Volumes!L147","v":0},{"$f":"Volumes!M147","v":0},{"$f":"Volumes!N147","v":0},{"$f":"Volumes!O147","v":0},{"$f":"Volumes!P147","v":0}]
[null,"HD 10-16 m3/h",null,null,{"$f":"Volumes!E148","v":0},{"$f":"Volumes!F148","v":0},{"$f":"Volumes!G148","v":1},{"$f":"Volumes!H148","v":0},{"$f":"Volumes!I148","v":0},{"$f":"Volumes!J148","v":0},{"$f":"Volumes!K148","v":0},{"$f":"Volumes!L148","v":0},{"$f":"Volumes!M148","v":0},{"$f":"Volumes!N148","v":0},{"$f":"Volumes!O148","v":0},{"$f":"Volumes!P148","v":0}]
[null,"HD 16-25 m3/h",null,null,{"$f":"Volumes!E149","v":0},{"$f":"Volumes!F149","v":0},{"$f":"Volumes!G149","v":4},{"$f":"Volumes!H149","v":0},{"$f":"Volumes!I149","v":0},{"$f":"Volumes!J149","v":0},{"$f":"Volumes!K149","v":0},{"$f":"Volumes!L149","v":0},{"$f":"Volumes!M149","v":1},{"$f":"Volumes!N149","v":0},{"$f":"Volumes!O149","v":0},{"$f":"Volumes!P149","v":0}]
[null,"HD 25-40 m3/h",null,null,{"$f":"Volumes!E150","v":0},{"$f":"Volumes!F150","v":0},{"$f":"Volumes!G150","v":4},{"$f":"Volumes!H150","v":0},{"$f":"Volumes!I150","v":0},{"$f":"Volumes!J150","v":0},{"$f":"Volumes!K150","v":0},{"$f":"Volumes!L150","v":1},{"$f":"Volumes!M150","v":0},{"$f":"Volumes!N150","v":0},{"$f":"Volumes!O150","v":0},{"$f":"Volumes!P150","v":0}]
[null,"HD 40-65 m3/h",null,null,{"$f":"Volumes!E151","v":0},{"$f":"Volumes!F151","v":0},{"$f":"Volumes!G151","v":65.495829192096352},{"$f":"Volumes!H151","v":0},{"$f":"Volumes!I151","v":0},{"$f":"Volumes!J151","v":0},{"$f":"Volumes!K151","v":8},{"$f":"Volumes!L151","v":0},{"$f":"Volumes!M151","v":1},{"$f":"Volumes!N151","v":0},{"$f":"Volumes!O151","v":85.385613099652957},{"$f":"Volumes!P151","v":0}]
[null,"HD 65-100 m3/h",null,null,{"$f":"Volumes!E152","v":3},{"$f":"Volumes!F152","v":23},{"$f":"Volumes!G152","v":167.27131501292442},{"$f":"Volumes!H152","v":0},{"$f":"Volumes!I152","v":2},{"$f":"Volumes!J152","v":0},{"$f":"Volumes!K152","v":10},{"$f":"Volumes!L152","v":1},{"$f":"Volumes!M152","v":9.16},{"$f":"Volumes!N152","v":0},{"$f":"Volumes!O152","v":284.94520779614663},{"$f":"Volumes!P152","v":0}]
[null,"HD 100-160 m3/h",null,null,{"$f":"Volumes!E153","v":2},{"$f":"Volumes!F153","v":10},{"$f":"Volumes!G153","v":216.21699325705541},{"$f":"Volumes!H153","v":0},{"$f":"Volumes!I153","v":2},{"$f":"Volumes!J153","v":3},{"$f":"Volumes!K153","v":7},{"$f":"Volumes!L153","v":3},{"$f":"Volumes!M153","v":14},{"$f":"Volumes!N153","v":0.5},{"$f":"Volumes!O153","v":349.40048876842144},{"$f":"Volumes!P153","v":0}]
[null,"HD 160-250 m3/h",null,null,{"$f":"Volumes!E154","v":23},{"$f":"Volumes!F154","v":38},{"$f":"Volumes!G154","v":159.19250959009821},{"$f":"Volumes!H154","v":2},{"$f":"Volumes!I154","v":7},{"$f":"Volumes!J154","v":0},{"$f":"Volumes!K154","v":20},{"$f":"Volumes!L154","v":12.981525711787508},{"$f":"Volumes!M154","v":21},{"$f":"Volumes!N154","v":2.5},{"$f":"Volumes!O154","v":484.34446182390207},{"$f":"Volumes!P154","v":0}]
[null,"HD 250-400 m3/h ",null,null,{"$f":"Volumes!E155","v":15},{"$f":"Volumes!F155","v":34},{"$f":"Volumes!G155","v":536.61898968533615},{"$f":"Volumes!H155","v":0},{"$f":"Volumes!I155","v":13},{"$f":"Volumes!J155","v":1},{"$f":"Volumes!K155","v":23},{"$f":"Volumes!L155","v":32.943456964654239},{"$f":"Volumes!M155","v":19.27},{"$f":"Volumes!N155","v":13},{"$f":"Volumes!O155","v":444.98170251593746},{"$f":"Volumes!P155","v":0}]
[null,"HD 400-650 m3/h ",null,null,{"$f":"Volumes!E156","v":9},{"$f":"Volumes!F156","v":15},{"$f":"Volumes!G156","v":241.24349051708791},{"$f":"Volumes!H156","v":41.830909695598386},{"$f":"Volumes!I156","v":16},{"$f":"Volumes!J156","v":8},{"$f":"Volumes!K156","v":40},{"$f":"Volumes!L156","v":68.859304587940372},{"$f":"Volumes!M156","v":8.8333333333333321},{"$f":"Volumes!N156","v":49},{"$f":"Volumes!O156","v":285.55691942551772},{"$f":"Volumes!P156","v":0}]
[null,"HD 650-1000 m3/h ",null,null,{"$f":"Volumes!E157","v":4},{"$f":"Volumes!F157","v":2},{"$f":"Volumes!G157","v":241.77242852339862},{"$f":"Volumes!H157","v":1.9922774290325564},{"$f":"Volumes!I157","v":5},{"$f":"Volumes!J157","v":2},{"$f":"Volumes!K157","v":34},{"$f":"Volumes!L157","v":55.940123999023378},{"$f":"Volumes!M157","v":5.0599999999999996},{"$f":"Volumes!N157","v":34.5},{"$f":"Volumes!O157","v":167.47720800646326},{"$f":"Volumes!P157","v":0}]
[null,"HD 1000-1600 m3/h ",null,null,{"$f":"Volumes!E158","v":0},{"$f":"Volumes!F158","v":2},{"$f":"Volumes!G158","v":138.52096442355059},{"$f":"Volumes!H158","v":25.839341587510695},{"$f":"Volumes!I158","v":5},{"$f":"Volumes!J158","v":0},{"$f":"Volumes!K158","v":21},{"$f":"Volumes!L158","v":60.929328320542794},{"$f":"Volumes!M158","v":6},{"$f":"Volumes!N158","v":35.666666666666671},{"$f":"Volumes!O158","v":55.820274658179962},{"$f":"Volumes!P158","v":0}]
[null,"HD 1600-2500 m3/h ",null,null,{"$f":"Volumes!E159","v":0},{"$f":"Volumes!F159","v":0},{"$f":"Volumes!G159","v":48.067376806206553},{"$f":"Volumes!H159","v":0},{"$f":"Volumes!I159","v":0},{"$f":"Volumes!J159","v":4},{"$f":"Volumes!K159","v":11},{"$f":"Volumes!L159","v":5.1506030205878961},{"$f":"Volumes!M159","v":5},{"$f":"Volumes!N159","v":7},{"$f":"Volumes!O159","v":16.906703544954187},{"$f":"Volumes!P159","v":0}]
[null,"HD >2500 m3/h",null,null,{"$f":"Volumes!E160","v":0},{"$f":"Volumes!F160","v":0},{"$f":"Volumes!G160","v":34.35621170603698},{"$f":"Volumes!H160","v":1.9920838563715826},{"$f":"Volumes!I160","v":0},{"$f":"Volumes!J160","v":2},{"$f":"Volumes!K160","v":8},{"$f":"Volumes!L160","v":0},{"$f":"Volumes!M160","v":3},{"$f":"Volumes!N160","v":70.833333333333329},{"$f":"Volumes!O160","v":3.1538821999090825},{"$f":"Volumes!P160","v":0}]
[]
[null,"EHD 0-40 m3/h",null,null,{"$f":"Volumes!E162","v":0},{"$f":"Volumes!F162","v":0},{"$f":"Volumes!G162","v":0},{"$f":"Volumes!H162","v":0},{"$f":"Volumes!I162","v":0},{"$f":"Volumes!J162","v":0},{"$f":"Volumes!K162","v":0},{"$f":"Volumes!L162","v":0},{"$f":"Volumes!M162","v":0},{"$f":"Volumes!N162","v":0},{"$f":"Volumes!O162","v":0},{"$f":"Volumes!P162","v":0}]
[null,"EHD >40 m3/h",null,null,{"$f":"Volumes!E163","v":0},{"$f":"Volumes!F163","v":13},{"$f":"Volumes!G163","v":0},{"$f":"Volumes!H163","v":0},{"$f":"Volumes!I163","v":0},{"$f":"Volumes!J163","v":0},{"$f":"Volumes!K163","v":0},{"$f":"Volumes!L163","v":0},{"$f":"Volumes!M163","v":0},{"$f":"Volumes!N163","v":0},{"$f":"Volumes!O163","v":3},{"$f":"Volumes!P163","v":0}]

{"sheet":"Volumes","index":14,"n_rows":163,"n_cols":17,"rows_kept":163,"cut":false,"hidden":false,"merged":[]}
[]
[null,"Volumes",null,null,"Cogas Infra & Beheer B.V.","DELTA Netwerkbedrijf B.V.","Stedin B.V.","Endinet Haarlemmermeer B.V.","Intergas Energie B.V.","Endinet Regio Eindhoven B.V.","Liander N.V.","Endinet Oost-Brabant N.V.","N.V. RENDO","Westland Energie Infrastructuur B.V.","Enexis B.V.","Zebra Gasnetwerk B.V.","Totaal"]
[]
[null,2006]
[]
[null,"Kleinverbruik"]
[null,"Vastrecht (TOVT)",null,null,129694,179514.83333333334,1745841.4496614861,56137.20878999999,141681.15,181132.37680548278,2079118.4,191404.34667999999,97187,46740.127990085137,1801032.4972025508,0,{"$f":"SUM(E7:P7)","v":6649483.3904629378}]
[null,"Capaciteitsafhankelijk tarief (TAVTc)",null,null,459144.69212685199,586130.83181883988,5526095.0071893884,183533.22251467541,491695.00153362495,620398.60089594335,6729316.9937642217,666373.64382672997,333510.05808776035,153843.90680520848,6170159.0143742105,0,{"$f":"SUM(E8:P8)","v":21920200.972937454}]
[null,null,null,null,null,null,null,null,null,null,null,null,null,null,null,0]
[null,"Profielgrootverbruik"]
[null,"Vastrecht (TOVT)",null,null,517,670.66666666666674,8926.915750475313,384.52136000000002,625.6,847.46179129395432,9807,1050.4796799999999,393,882.65967658153886,7995.9275576335067,0,{"$f":"SUM(E11:P11)","v":32101.232482650979}]
[null,"Capaciteitsafhankelijk tarief (TAVTc)",null,null,35015,45809.583333333336,804160.71244720172,27507.961900000002,54490,63448.920811366836,741665,69525.726250000007,26760,148910.95725320617,583540.06488684786,0,{"$f":"SUM(E12:P12)","v":2600833.9268819564}]
[]
[null,"Telemetriegrootverbruik"]
[null,"Vastrecht (TOVT)",null,null,106,152,2088,109.33730909090913,175,172.16442543003163,2629.2666666666669,333.17878181818031,80.67,1353.5484257357973,3722.1666666666665,0,{"$f":"SUM(E15:P15)","v":10921.332275408253}]
[null,"Capaciteitsafhankelijk tarief (TAVTc) lage druk",null,null,10617,11614,0,null,null,null,174789.65,null,10176,null,0,0,{"$f":"SUM(E16:P16)","v":207196.65}]
[null,"Capaciteitsafhankelijk tarief (TAVTc) hoge druk",null,null,23267,36755,0,null,null,null,522313.5,null,18527,null,0,0,{"$f":"SUM(E17:P17)","v":600862.5}]
[null,"Capaciteitsafhankelijk tarief (TAVTc) standaard",null,null,{"$f":"SUM(E16:E17)","v":33884},{"$f":"SUM(F16:F17)","v":48369},655657,31514.306928439313,50663,55830,{"$f":"SUM(K16:K17)","v":697103.15},87282.403137081594,{"$f":"SUM(M16:M17)","v":28703},343602.85324779456,697166,0,{"$f":"SUM(E18:P18)","v":2729774.7133133155}]
[]
[null,"EHD (>= 16 bar)"]
[null,"Vastrecht (TOVT)",null,null,null,13,0,null,null,null,null,null,null,null,1,2,{"$f":"SUM(E21:P21)","v":16}]
[null,"Capaciteitsafhankelijk tarief (TAVTc) EHD",null,null,null,79900,0,null,null,null,null,null,null,null,39838.706561740502,447622.45179063361,{"$f":"SUM(E22:P22)","v":567361.1583523741}]
[]
[null,2007]
[]
[null,"Kleinverbruik"]
[null,"Vastrecht (TOVT)",null,null,130213,180633.16666666666,1766657.5017162049,58040.129457626354,143410,181503.40531723533,2094967.1777159525,194844.68489657575,98087.761973578512,47462.845487244485,1829531.0427736097,0,{"$f":"SUM(E27:P27)","v":6725350.7160046939}]
[null,"Capaciteitsafhankelijk tarief (TAVTc)",null,null,459222.5,584928.54166666663,5631897.365645254,189861.03130583465,496777,621669.41494721011,6760327.5660675969,678748.98028402985,336511.62006480747,155214.94158966083,6264637.9607864767,0,{"$f":"SUM(E28:P28)","v":22179796.922357537}]
[]
[null,"Profielgrootverbruik"]
[null,"Vastrecht (TOVT)",null,null,534,670.41666666666663,8045.2714538185946,386.94576653318541,638,849.19771776240987,9945.514591739633,1045.1114667748386,395.69437321937329,761.92030222921187,7750.9631029654993,0,{"$f":"SUM(E31:P31)","v":31023.035441709413}]
[null,"Capaciteitsafhankelijk tarief (TAVTc)",null,null,37710,49770.833333333336,686907.22335623321,27459.262127043861,59460,63578.888512758102,764003.0421941746,68813.654429079092,26558.990740740741,128541.3671495879,547147.52930769406,0,{"$f":"SUM(E32:P32)","v":2459950.7911506449}]
[]
[null,"Telemetriegrootverbruik "]
[null,"Vastrecht (TOVT)",null,null,105,134,2042.8075667424941,103.83039863441279,177,176.67834059139309,2455.0769230769229,324.99077951619421,80,1209.1700350759979,3810.7158333333332,0,{"$f":"SUM(E35:P35)","v":10619.269876970749}]
[null,"Capaciteitsafhankelijk tarief (TAVTc) lage druk",null,null,10911,8357,0,null,null,null,152031.25,null,5511.666666666667,null,0,0,{"$f":"SUM(E36:P36)","v":176810.91666666666}]
[null,"Capaciteitsafhankelijk tarief (TAVTc) hoge druk",null,null,23051,35890,0,null,53458,null,515646.75,null,22520.916666666668,339775.88810278935,0,0,{"$f":"SUM(E37:P37)","v":990342.55476945592}]
[null,"Capaciteitsafhankelijk tarief (TAVTc) standaard",null,null,{"$f":"SUM(E36:E37)","v":33962},{"$f":"SUM(F36:F37)","v":44247},639986.06158888398,27081.151374021909,{"$f":"SUM(I36:I37)","v":53458},56274.257744492352,{"$f":"SUM(K36:K37)","v":667678},88329.637653866899,{"$f":"SUM(M36:M37)","v":28032.583333333336},{"$f":"SUM(N36:N37)","v":339775.88810278935},684512,0,{"$f":"SUM(E38:P38)","v":2663336.5797973881}]
[]
[null,"EHD (>= 16 bar)"]
[null,"Vastrecht (TOVT)",null,null,null,13,0,null,null,null,null,null,null,null,0,2,{"$f":"SUM(E41:P41)","v":15}]
[null,"Capaciteitsafhankelijk tarief (TAVTc) EHD",null,null,null,79900,0,null,null,null,null,null,null,null,59470,448099,{"$f":"SUM(E42:P42)","v":587469}]
[]
[null,2008]
[]
[null,"Kleinverbruik"]
[null,"Vastrecht (TOVT)",null,null,133137,182008.75,1826241.9374309892,58488.595826753037,144776,183544.45931375682,2112210.5439105886,195529.52912250193,98997.98,48463.769097448909,1838697.5532121065,0,{"$f":"SUM(E47:P47)","v":6822096.1179141449}]
[null,"Capaciteitsafhankelijk tarief (TAVTc)",null,null,464841.5,590015.16666666674,5778125.1200617515,193227.98044777708,499003,635250.29658021987,6815970.8262853958,687222.15201835276,338173.17,159826.58831793215,6172678.1748115141,0,{"$f":"SUM(E48:P48)","v":22334333.975189611}]
[]
[null,"Profielgrootverbruik"]
[null,"Vastrecht (TOVT)",null,null,574,683.08333333333337,8709.912910950372,385.79144918963823,623,778.22179420347766,10027.374657101818,1033.9964440765245,397.08,767.87868032886763,8773.7193368258668,0,{"$f":"SUM(E51:P51)","v":32754.058606009901}]
[null,"Capaciteitsafhankelijk tarief (TAVTc)",null,null,42560,51436.666666666657,720846.1649517779,28276.302962089499,57335,55084.916216148602,770291.43867622968,68953.13496254498,26371.25,106841.68867511049,683108.34231229033,0,{"$f":"SUM(E52:P52)","v":2611104.905422858}]
[]
[null,"Telemetriegrootverbruik"]
[null,"Vastrecht (TOVT)",null,null,106,118,1943.36632685627,96.368991026148123,177,171.98111105144858,2363.8336509907399,297.47183582805934,72.739999999999995,1103.6331666666667,1982,0,{"$f":"SUM(E55:P55)","v":8432.3950824193344}]
[null,"Capaciteitsafhankelijk tarief (TAVTc) lage druk",null,null,10515,7005,null,null,null,null,145563.5,null,3253,null,null,0,{"$f":"SUM(E56:P56)","v":166336.5}]
[null,"Capaciteitsafhankelijk tarief (TAVTc) hoge druk",null,null,21651,35846,null,null,56495,null,510114,null,24918,355811.67347660754,null,0,{"$f":"SUM(E57:P57)","v":1004835.6734766075}]
[null,"Capaciteitsafhankelijk tarief (TAVTc) standaard",null,null,{"$f":"SUM(E56:E57)","v":32166},{"$f":"SUM(F56:F57)","v":42851},626575.30303030298,26024.094313592283,{"$f":"SUM(I56:I57)","v":56495},55596.58365124806,{"$f":"SUM(K56:K57)","v":655677.5},92193.86077539892,{"$f":"SUM(M56:M57)","v":28171},{"$f":"SUM(N56:N57)","v":355811.67347660754},673404,0,{"$f":"SUM(E58:P58)","v":2644966.0152471499}]
[]
[null,"EHD (>= 16 bar)"]
[null,"Vastrecht (TOVT)",null,null,null,13,null,null,null,null,null,null,null,null,1,2,{"$f":"SUM(E61:P61)","v":16}]
[null,"Capaciteitsafhankelijk tarief (TAVTc) EHD",null,null,null,79900,null,null,null,null,null,null,null,null,61703,478990,{"$f":"SUM(E62:P62)","v":620593}]
[]
[null,"2009 Transportdienst"]
[]
[null,"Kleinverbruik"]
[null,"Vastrecht (TOVT)",null,null,135040,184162,{"$f":"'Aanpassing gegevens (sep 14)'!I137","v":1858709.2726986203},58327.400474510301,146239.91666666666,185102.18851558759,2118907.25,197314.92681096247,99960,48946.770308392726,1853309.5833333333,null,{"$f":"SUM(E67:P67)","v":6886019.3088080725}]
[null,"Capaciteitsafhankelijk tarief (TAVTc)",null,null,467691.5,604073.625,{"$f":"'Aanpassing gegevens (sep 14)'!I138","v":5823818.5081496947},192132.47677946283,500613.08333333331,628929.60531212005,6816990.1098443028,688447.71695238282,340481.5,161660.84883427003,6211958.333333333,null,{"$f":"SUM(E68:P68)","v":22436797.307538901}]
[]
[null,"Profielgrootverbruik"]
[null,"Vastrecht (TOVT)",null,null,535,582,8308.4867727082292,353.7735102489774,575.66666666666674,739.49465636788716,9701.1657855403719,985.09574033983495,370,795.24659960305485,8078.1052477609564,null,{"$f":"SUM(E71:P71)","v":31024.034979235978}]
[null,"Capaciteitsafhankelijk tarief (TAVTc)",null,null,37330,41655,751128.40522875811,23809.756727914933,51954.583333333328,49893.615369399617,728219.84494329384,64674.753002713282,24510,94003.501632748361,628448.03595485771,null,{"$f":"SUM(E72:P72)","v":2495627.4961930192}]
[]
[null,"Telemetriegrootverbruik "]
[null,"Vastrecht (TOVT)",null,null,100,175,{"$f":"'Aanpassing gegevens (sep 14)'!I141","v":2111.7272676776092},99.349265871126391,202.83333333333334,202.23637495605956,2398,299.50416538586131,90.81,1010.4740667885786,2082.6160185185186,0,{"$f":"SUM(E75:P75)","v":8772.5504925310888}]
[null,"Capaciteitsafhankelijk tarief (TAVTc) lage druk",null,null,9712,12131,0,0,0,0,133790.75,0,3854.9999984640003,0,0,0,{"$f":"SUM(E76:P76)","v":159488.74999846399}]
[null,"Capaciteitsafhankelijk tarief (TAVTc) hoge druk",null,null,21499,37063,0,0,0,0,505750.25,0,26108.633997536999,0,0,0,{"$f":"SUM(E77:P77)","v":590420.88399753696}]
[null,"Capaciteitsafhankelijk tarief (TAVTc) standaard",null,null,{"$f":"SUM(E76:E77)","v":31211},{"$f":"SUM(F76:F77)","v":49194},{"$f":"'Aanpassing gegevens (sep 14)'!I142","v":662945.27233115479},26459.960708187875,58639,60476.053081816521,{"$f":"SUM(K76:K77)","v":639541},96854.199084906591,{"$f":"SUM(M76:M77)","v":29963.633996001001},338804.83712984051,683855.48194444436,0,{"$f":"SUM(E78:P78)","v":2677944.4382763514}]
[]
[null,"Extra hoge druk (>= 16 bar)"]
[null,"Vastrecht (TOVT)",null,null,0,13,0,0,0,0,0,0,0,0,1,2,{"$f":"SUM(E81:P81)","v":16}]
[null,"Capaciteitsafhankelijk tarief (TAVTc)",null,null,0,71025.947625817455,0,0,0,0,0,0,0,0,60000,529268,{"$f":"SUM(E82:P82)","v":660293.9476258175}]
[]
[null,"2009 Aansluitdienst"]
[]
[null,"EAV"]
[null,"LD 0-10 m3/h",null,null,1927,1758,{"$f":"'Aanpassing gegevens (sep 14)'!I179","v":24572.158543426351},323,1415,2290,21465,1752,1129,868,18697.626415407522,null,{"$f":"SUM(E87:P87)","v":76196.784958833872}]
[null,"LD 10-16 m3/h",null,null,null,null,{"$f":"'Aanpassing gegevens (sep 14)'!I180","v":244.67993222336813},15,0,0,295,85,12,7,203.44832238343278,null,862.12825460680097]
[null,"LD 16-25 m3/h",null,null,22.990691971343296,41,{"$f":"'Aanpassing gegevens (sep 14)'!I181","v":228.23147929865922},12,22,35,153,23,12,2,231.55627118503438,null,782.77844245503684]
[null,"LD 25-40 m3/h ",null,null,6,8,{"$f":"'Aanpassing gegevens (sep 14)'!I182","v":97.165233423265178},10,8,9,186,27,3,6,148.54964556948104,null,508.71487899274621]
[null,"LD 40-65 m3/h ",null,null,7.0061950476330335,1,{"$f":"'Aanpassing gegevens (sep 14)'!I183","v":46.583753974737171},6,2,3,0,14,1,2,64.850408475874389,null,147.44035749824459]
[null,"LD 65-100 m3/h ",null,null,3,1,{"$f":"'Aanpassing gegevens (sep 14)'!I184","v":28.79172508920405},3,5,7,101,4,1,0,44.712686567164177,null,198.50441165636823]
[null,"LD 100-160 m3/h",null,null,null,1,{"$f":"'Aanpassing gegevens (sep 14)'!I185","v":25.283660690150889},0,3,2,23,2,null,3,21.547921568627451,null,80.83158225877834]
[null,"LD 160-250 m3/h ",null,null,null,null,{"$f":"'Aanpassing gegevens (sep 14)'!I186","v":0},3,0,0,8,0,null,null,10.752982456140352,null,21.752982456140352]
[null,"LD 250-400 m3/h ",null,null,null,null,{"$f":"'Aanpassing gegevens (sep 14)'!I187","v":0},0,null,2,11,2,null,1,8,null,24]
[null,"LD 400-650 m3/h ",null,null,null,null,null,0,null,0,5,0,null,null,null,null,5]
[null,"LD 650-1000 m3/h ",null,null,null,null,null,0,null,0,null,0,null,null,null,null,0]
[null,"LD 1000-1600 m3/h ",null,null,null,null,null,0,null,0,null,0,null,null,null,null,0]
[null,"LD 1600-2500 m3/h ",null,null,null,null,null,0,null,0,null,0,null,null,null,null,0]
[null,"LD >2500 m3/h",null,null,null,null,null,0,null,0,null,0,null,null,null,null,0]
[]
[null,"HD 0-10 m3/h",null,null,null,null,0,null,null,null,null,0,null,0,null,null,0]
[null,"HD 10-16 m3/h",null,null,null,null,0,null,null,null,null,0,null,0,null,null,0]
[null,"HD 16-25 m3/h",null,null,null,null,0,null,null,null,null,0,null,0,null,null,0]
[null,"HD 25-40 m3/h",null,null,null,null,0,null,null,null,null,0,null,0,null,null,0]
[null,"HD 40-65 m3/h",null,null,null,null,{"$f":"'Aanpassing gegevens (sep 14)'!I188","v":6.3152114222954419},null,null,null,null,0,null,0,14,null,20.315211422295441]
[null,"HD 65-100 m3/h",null,null,null,null,{"$f":"'Aanpassing gegevens (sep 14)'!I189","v":4.2781580584940881},null,null,null,1,0,null,0,19,null,24.278158058494089]
[null,"HD 100-160 m3/h",null,null,null,null,{"$f":"'Aanpassing gegevens (sep 14)'!I190","v":2.8780336029869322},null,null,null,null,0,null,null,28,null,30.878033602986932]
[null,"HD 160-250 m3/h",null,null,null,1,4,null,null,null,1,3,null,0,19,null,28]
[null,"HD 250-400 m3/h ",null,null,null,1,5,null,null,null,1,0,null,0,8,null,15]
[null,"HD 400-650 m3/h ",null,null,null,null,1,null,null,null,8,1,null,1,4,null,15]
[null,"HD 650-1000 m3/h ",null,null,null,1,3,null,null,null,null,0,null,5,8,null,17]
[null,"HD 1000-1600 m3/h ",null,null,null,null,5,null,null,null,null,0,null,1,0,null,6]
[null,"HD 1600-2500 m3/h ",null,null,null,null,0,null,null,null,null,1,null,2,0,null,3]
[null,"HD >2500 m3/h",null,null,null,null,1,null,null,null,null,0,null,null,21,null,22]
[]
[null,"EHD 0-40 m3/h",null,null,null,null,null,null,null,null,null,null,null,null,null,null,0]
[null,"EHD >40 m3/h",null,null,null,null,null,null,null,null,null,null,null,null,null,null,0]
[]
[null,"Meerlengte"]
[null,"LD 0-10 m3/h",null,null,544.16869613886854,998,{"$f":"'Aanpassing gegevens (sep 14)'!I191","v":14118.270855520053},715,null,226,16448,771,2508,1708,31174.32,null,{"$f":"SUM(E121:P121)","v":69210.759551658921}]
[null,"LD 10-16 m3/h",null,null,1202.7358888533695,null,{"$f":"'Aanpassing gegevens (sep 14)'!I192","v":2269.7514490282988},104,null,null,3444,292,null,153,2628.6642335766405,null,10094.151571458309]
[null,"LD 16-25 m3/h",null,null,1868.1116159034268,507,{"$f":"'Aanpassing gegevens (sep 14)'!I193","v":4664.6907603136724},84,null,30,1886,79,40,null,4575.8978102189803,null,13734.700186436079]
[null,"LD 25-40 m3/h ",null,null,248.00550696469065,null,{"$f":"'Aanpassing gegevens (sep 14)'!I194","v":1843.4887082204154},550,null,null,1441,114,null,135,3915.3649635036541,null,8246.8591786887609]
[null,"HD 0-10 m3/h",null,null,null,null,null,null,null,null,0,null,null,null,0,null,0]
[null,"HD 10-16 m3/h",null,null,null,null,null,null,null,null,0,null,null,0,0,null,0]
[null,"HD 16-25 m3/h",null,null,null,null,null,null,null,null,0,null,null,0,0,null,0]
[null,"HD 25-40 m3/h",null,null,null,null,null,null,null,null,1034,null,null,0,0,null,1034]
[null,"EHD 0-40 m3/h",null,null,null,null,null,null,null,null,null,null,null,null,null,null,0]
[]
[null,"PAV"]
[null,"LD 0-10 m3/h",null,null,132025,180711.75,{"$f":"'Aanpassing gegevens (sep 14)'!I147","v":1828348.5455361151},57046.309352984827,143820,180205.84337409996,2085645.9330094492,191428.08737162795,97724,47847.09474435787,1814891.9142830216,null,{"$f":"SUM(E132:P132)","v":6759694.4776716558}]
[null,"LD 10-16 m3/h",null,null,2,0,{"$f":"'Aanpassing gegevens (sep 14)'!I148","v":7246.4546882009881},277.8956979638358,10,3.9841443959393112,8018.2532685564456,2343.9399464790472,685,417.51028994994761,4557.6466444163816,null,23562.684679962586]
[null,"LD 16-25 m3/h",null,null,2299,2801,{"$f":"'Aanpassing gegevens (sep 14)'!I149","v":16275.454688200987},561.76764749678637,2283,3299.8675959367347,20234.506537112891,2536.6883102074053,1134,399.37366814239169,25805.661237747427,null,77630.319684844624]
[null,"LD 25-40 m3/h ",null,null,720,649.25,{"$f":"'Aanpassing gegevens (sep 14)'!I150","v":6816.7271952259171},336.66217172679745,586,917.76777285001219,5016.583333333333,1069.5967027791669,416,282.79160594252039,8121.5614958854185,null,24932.940277743168]
[null,"LD 40-65 m3/h ",null,null,240,198,{"$f":"'Aanpassing gegevens (sep 14)'!I151","v":1974.2314227903328},150.41086763943699,2,321.86417430084964,2904.1804046566431,473.40678410703072,152.84,83.5,2619.0938170742133,null,9119.527470568506]
[null,"LD 65-100 m3/h ",null,null,186,265,{"$f":"'Aanpassing gegevens (sep 14)'!I152","v":3111.6377371702492},132.47302985553739,386,245.09091029047701,4309.1089230026164,310.59183963341809,146.655,178,2934.4663336130993,null,12205.023773565399]
[null,"LD 100-160 m3/h",null,null,63,95,{"$f":"'Aanpassing gegevens (sep 14)'!I153","v":1870.0133124134595},60.772063349451329,125,203.20324300571809,1976.6768071653812,185.7959945629427,41.295000000000002,136.83333333333331,1442.2635212921048,null,6199.8532751223911]
[null,"LD 160-250 m3/h ",null,null,62,63,{"$f":"'Aanpassing gegevens (sep 14)'!I154","v":550.80608318173984},29.852932317470653,82,56.784495954156462,1315.5343138286819,62.901467549055127,17.970000000000002,374,613.5941743343318,null,3228.4434671654358]
[null,"LD 250-400 m3/h ",null,null,20,12,{"$f":"'Aanpassing gegevens (sep 14)'!I155","v":496.51998825829992},10.953079815417915,52,67.7259403717255,769.21096350691505,19.963679647042568,8.73,523.66666666666674,399.26357719957673,null,2380.0338954656445]
[null,"LD 400-650 m3/h ",null,null,8,0,{"$f":"'Aanpassing gegevens (sep 14)'!I156","v":134.49114453914305},0,20,16.927678709205342,315.64828900569262,0,1,0.33333333333333331,51.388510167926754,null,547.78895575530112]
[null,"LD 650-1000 m3/h ",null,null,0,0,{"$f":"'Aanpassing gegevens (sep 14)'!I157","v":40.028547768774615},0,4,7.9695489301917215,185.71797008543075,0,0,2.5,17.378518096395492,null,257.59458488079258]
[null,"LD 1000-1600 m3/h ",null,null,0,1,{"$f":"'Aanpassing gegevens (sep 14)'!I158","v":14.91764232253621},0,null,3.9812302774575627,80.827220747622249,0,null,242.66666666666663,0,null,343.39276001428266]
[null,"LD 1600-2500 m3/h ",null,null,null,null,{"$f":"'Aanpassing gegevens (sep 14)'!I159","v":4.8067376806206568},0,null,1.9848757644538741,33.899927693682528,0,null,0,0,null,40.69154113875706]
[null,"LD >2500 m3/h",null,null,null,null,{"$f":"'Aanpassing gegevens (sep 14)'!I160","v":1.4619664555760465},0,null,0,13.767606583826444,0,null,9.5,0,null,24.729573039402489]
[]
[null,"HD 0-10 m3/h",null,null,null,null,{"$f":"'Aanpassing gegevens (sep 14)'!I161","v":17},0,null,0,null,0,null,0,null,null,17]
[null,"HD 10-16 m3/h",null,null,null,null,{"$f":"'Aanpassing gegevens (sep 14)'!I162","v":1},0,null,0,null,0,null,0,null,null,1]
[null,"HD 16-25 m3/h",null,null,null,null,{"$f":"'Aanpassing gegevens (sep 14)'!I163","v":4},0,null,0,null,0,1,0,null,null,5]
[null,"HD 25-40 m3/h",null,null,null,null,{"$f":"'Aanpassing gegevens (sep 14)'!I164","v":4},0,null,0,null,1,null,0,null,null,5]
[null,"HD 40-65 m3/h",null,null,null,0,{"$f":"'Aanpassing gegevens (sep 14)'!I165","v":65.495829192096352},0,null,0,8,0,1,0,85.385613099652957,null,159.88144229174929]
[null,"HD 65-100 m3/h",null,null,3,23,{"$f":"'Aanpassing gegevens (sep 14)'!I166","v":167.27131501292442},0,2,0,10,1,9.16,0,284.94520779614663,null,500.37652280907105]
[null,"HD 100-160 m3/h",null,null,2,10,{"$f":"'Aanpassing gegevens (sep 14)'!I167","v":216.21699325705541},0,2,3,7,3,14,0.5,349.40048876842144,null,607.11748202547687]
[null,"HD 160-250 m3/h",null,null,23,38,{"$f":"'Aanpassing gegevens (sep 14)'!I168","v":159.19250959009821},2,7,0,20,12.981525711787508,21,2.5,484.34446182390207,null,770.0184971257878]
[null,"HD 250-400 m3/h ",null,null,15,34,{"$f":"'Aanpassing gegevens (sep 14)'!I169","v":536.61898968533615},0,13,1,23,32.943456964654239,19.27,13,444.98170251593746,null,1132.8141491659278]
[null,"HD 400-650 m3/h ",null,null,9,15,{"$f":"'Aanpassing gegevens (sep 14)'!I170","v":241.24349051708791},41.830909695598386,16,8,40,68.859304587940372,8.8333333333333321,49,285.55691942551772,null,783.32395755947778]
[null,"HD 650-1000 m3/h ",null,null,4,2,{"$f":"'Aanpassing gegevens (sep 14)'!I171","v":241.77242852339862},1.9922774290325564,5,2,34,55.940123999023378,5.0599999999999996,34.5,167.47720800646326,null,553.74203795791789]
[null,"HD 1000-1600 m3/h ",null,null,null,2,{"$f":"'Aanpassing gegevens (sep 14)'!I172","v":138.52096442355059},25.839341587510695,5,0,21,60.929328320542794,6,35.666666666666671,55.820274658179962,null,350.77657565645075]
[null,"HD 1600-2500 m3/h ",null,null,null,null,{"$f":"'Aanpassing gegevens (sep 14)'!I173","v":48.067376806206553},0,null,4,11,5.1506030205878961,5,7,16.906703544954187,null,97.124683371748631]
[null,"HD >2500 m3/h",null,null,null,null,{"$f":"'Aanpassing gegevens (sep 14)'!I174","v":34.35621170603698},1.9920838563715826,null,2,8,0,3,70.833333333333329,3.1538821999090825,null,123.33551109565097]
[]
[null,"EHD 0-40 m3/h",null,null,null,null,null,null,null,null,null,null,null,null,null,null,0]
[null,"EHD >40 m3/h",null,null,null,13,null,null,null,null,null,null,null,null,3,null,16]

{"sheet":"ORV","index":15,"n_rows":98,"n_cols":16,"rows_kept":98,"cut":false,"hidden":false,"merged":[]}
[]
[null,"ORV Lokale Heffingen Transportdienst en Aansluitdienst",null,null,"Cogas Infra & Beheer B.V.","DELTA Netwerkbedrijf B.V.","Stedin B.V.","Endinet Haarlemmermeer B.V.","Intergas Energie B.V.","Endinet Regio Eindhoven B.V.","Liander N.V.","Endinet Oost-Brabant N.V.","N.V. RENDO","Westland Energie Infrastructuur B.V.","Enexis B.V.","Zebra Gasnetwerk B.V."]
[]
[]
[null,"ORV Lokale Heffingen 2006"]
[]
[null,"OPEX Transportdienst"]
[null,"Precario","€ '000,  prijspeil 2006",null,{"$f":"'Kosten TD'!E14+'Kosten TD'!E27","v":0},{"$f":"'Kosten TD'!F14+'Kosten TD'!F27","v":281.74137999999999},{"$f":"'Kosten TD'!G14+'Kosten TD'!G27","v":12426.632999999998},{"$f":"'Kosten TD'!H14+'Kosten TD'!H27","v":0},{"$f":"'Kosten TD'!I14+'Kosten TD'!I27","v":0},{"$f":"'Kosten TD'!J14+'Kosten TD'!J27","v":0},{"$f":"'Kosten TD'!K14+'Kosten TD'!K27","v":6290.4089999999997},{"$f":"'Kosten TD'!L14+'Kosten TD'!L27","v":0},{"$f":"'Kosten TD'!M14+'Kosten TD'!M27","v":80.144999999999996},{"$f":"'Kosten TD'!N14+'Kosten TD'!N27","v":0},{"$f":"'Kosten TD'!O14+'Kosten TD'!O27","v":0},{"$f":"'Kosten TD'!P14+'Kosten TD'!P27","v":0}]
[null,"Gedoogbelasting","€ '000,  prijspeil 2006",null,{"$f":"'Kosten TD'!E15+'Kosten TD'!E28","v":3.4448599999999998},{"$f":"'Kosten TD'!F15+'Kosten TD'!F28","v":0},{"$f":"'Kosten TD'!G15+'Kosten TD'!G28","v":13},{"$f":"'Kosten TD'!H15+'Kosten TD'!H28","v":0},{"$f":"'Kosten TD'!I15+'Kosten TD'!I28","v":0},{"$f":"'Kosten TD'!J15+'Kosten TD'!J28","v":0},{"$f":"'Kosten TD'!K15+'Kosten TD'!K28","v":0},{"$f":"'Kosten TD'!L15+'Kosten TD'!L28","v":0},{"$f":"'Kosten TD'!M15+'Kosten TD'!M28","v":0},{"$f":"'Kosten TD'!N15+'Kosten TD'!N28","v":0},{"$f":"'Kosten TD'!O15+'Kosten TD'!O28","v":534},{"$f":"'Kosten TD'!P15+'Kosten TD'!P28","v":0}]
[]
[null,"CAPEX Transportdienst (t.b.v. productiviteit TD)"]
[null,"Eindstand GAW Precario Afkoop","€ '000,  prijspeil 2006",null,2915.8061509714289,null,null,null,12042.699966315791,null,null,null,{"$f":"17913.4785420816+'Aanpassing gegevens (sep 14)'!G65","v":22391.848589281199}]
[null,"Afschrijvingen Precario Afkoop","€ '000,  prijspeil 2006",null,728.95153774285689,null,null,null,752.66874789473673,null,null,null,{"$f":"1492.7898785068+'Aanpassing gegevens (sep 14)'!G66","v":1865.9873824401}]
[null,"CAPEX (o.b.v. WACC NG4R t.b.v. productiviteit TD)","€ '000,  prijspeil 2006",null,{"$f":"WACC2011_2013*E12+E13","v":909.73151910308547},0,0,0,1499.3161458063159,0,0,0,3254.281994975534,0,0,0]
[]
[null,"ORV Kosten Lokale Heffingen Transportdienst (incl. EHD)","€ '000,  prijspeil 2006",null,{"$f":"E8+E9+E14","v":913.17637910308542},{"$f":"F8+F9+F14","v":281.74137999999999},12439.632999999998,0,1499.3161458063159,0,6290.4089999999997,0,3334.4269949755339,0,534,0]
[]
[]
[null,"ORV Lokale Heffingen 2007"]
[]
[null,"OPEX Transportdienst"]
[null,"Precario","€ '000,  prijspeil 2007",null,{"$f":"'Kosten TD'!E54+'Kosten TD'!E67","v":0},{"$f":"'Kosten TD'!F54+'Kosten TD'!F67","v":274.63740999999999},{"$f":"'Kosten TD'!G54+'Kosten TD'!G67","v":8265.3365299999987},{"$f":"'Kosten TD'!H54+'Kosten TD'!H67","v":0},{"$f":"'Kosten TD'!I54+'Kosten TD'!I67","v":0},{"$f":"'Kosten TD'!J54+'Kosten TD'!J67","v":0},{"$f":"'Kosten TD'!K54+'Kosten TD'!K67","v":7677.0672563938206},{"$f":"'Kosten TD'!L54+'Kosten TD'!L67","v":0},{"$f":"'Kosten TD'!M54+'Kosten TD'!M67","v":81.473519999999994},{"$f":"'Kosten TD'!N54+'Kosten TD'!N67","v":6.9810699999999999},{"$f":"'Kosten TD'!O54+'Kosten TD'!O67","v":612},{"$f":"'Kosten TD'!P54+'Kosten TD'!P67","v":0}]
[null,"Gedoogbelasting","€ '000,  prijspeil 2007",null,{"$f":"'Kosten TD'!E55+'Kosten TD'!E68","v":0},{"$f":"'Kosten TD'!F55+'Kosten TD'!F68","v":0},{"$f":"'Kosten TD'!G55+'Kosten TD'!G68","v":3897.0644700000003},{"$f":"'Kosten TD'!H55+'Kosten TD'!H68","v":0},{"$f":"'Kosten TD'!I55+'Kosten TD'!I68","v":0},{"$f":"'Kosten TD'!J55+'Kosten TD'!J68","v":0},{"$f":"'Kosten TD'!K55+'Kosten TD'!K68","v":0},{"$f":"'Kosten TD'!L55+'Kosten TD'!L68","v":0},{"$f":"'Kosten TD'!M55+'Kosten TD'!M68","v":0},{"$f":"'Kosten TD'!N55+'Kosten TD'!N68","v":0},{"$f":"'Kosten TD'!O55+'Kosten TD'!O68","v":0},{"$f":"'Kosten TD'!P55+'Kosten TD'!P68","v":0}]
[]
[null,"CAPEX Transportdienst (t.b.v. productiviteit TD)"]
[null,"Eindstand GAW Precario Afkoop","€ '000,  prijspeil 2007",null,2217.4705778137718,null,null,null,11448.091655478949,null,null,null,{"$f":"16650.5783048648+'Aanpassing gegevens (sep 14)'!G67","v":20813.223263736902}]
[null,"Afschrijvingen Precario Afkoop","€ '000,  prijspeil 2007",null,739.15685927125685,null,null,null,763.20611036526293,null,null,null,{"$f":"1513.68893680589+'Aanpassing gegevens (sep 14)'!G68","v":1892.1112057942601}]
[null,"CAPEX (o.b.v. WACC NG4R t.b.v. productiviteit TD)","€ '000,  prijspeil 2007",null,{"$f":"WACC2011_2013*E26+E27","v":876.64003509571069},0,0,0,1472.9877930049579,0,0,0,3182.5310481459483,0,0,0]
[]
[null,"ORV Kosten Lokale Heffingen Transportdienst (incl. EHD)","€ '000,  prijspeil 2007",null,{"$f":"E22+E23+E28","v":876.64003509571069},{"$f":"F22+F23+F28","v":274.63740999999999},12162.400999999998,0,1472.9877930049579,0,7677.0672563938206,0,3264.0045681459483,6.9810699999999999,612,0]
[]
[]
[null,"ORV Lokale Heffingen 2008"]
[]
[null,"OPEX Transportdienst"]
[null,"Precario","€ '000,  prijspeil 2008",null,{"$f":"'Kosten TD'!E93+'Kosten TD'!E107","v":0},{"$f":"'Kosten TD'!F93+'Kosten TD'!F107","v":275.41828999999996},{"$f":"'Kosten TD'!G93+'Kosten TD'!G107","v":12264.064},{"$f":"'Kosten TD'!H93+'Kosten TD'!H107","v":0},{"$f":"'Kosten TD'!I93+'Kosten TD'!I107","v":0},{"$f":"'Kosten TD'!J93+'Kosten TD'!J107","v":0},{"$f":"'Kosten TD'!K93+'Kosten TD'!K107","v":7595.8040000000001},{"$f":"'Kosten TD'!L93+'Kosten TD'!L107","v":0},{"$f":"'Kosten TD'!M93+'Kosten TD'!M107","v":91.785780000000003},{"$f":"'Kosten TD'!N93+'Kosten TD'!N107","v":3.3479999999999999},{"$f":"'Kosten TD'!O93+'Kosten TD'!O107","v":617},{"$f":"'Kosten TD'!P93+'Kosten TD'!P107","v":0}]
[null,"Gedoogbelasting","€ '000,  prijspeil 2008",null,{"$f":"'Kosten TD'!E94+'Kosten TD'!E108","v":0},{"$f":"'Kosten TD'!F94+'Kosten TD'!F108","v":0},{"$f":"'Kosten TD'!G94+'Kosten TD'!G108","v":0},{"$f":"'Kosten TD'!H94+'Kosten TD'!H108","v":0},{"$f":"'Kosten TD'!I94+'Kosten TD'!I108","v":0},{"$f":"'Kosten TD'!J94+'Kosten TD'!J108","v":0},{"$f":"'Kosten TD'!K94+'Kosten TD'!K108","v":0},{"$f":"'Kosten TD'!L94+'Kosten TD'!L108","v":0},{"$f":"'Kosten TD'!M94+'Kosten TD'!M108","v":0},{"$f":"'Kosten TD'!N94+'Kosten TD'!N108","v":0},{"$f":"'Kosten TD'!O94+'Kosten TD'!O108","v":0},{"$f":"'Kosten TD'!P94+'Kosten TD'!P108","v":0}]
[]
[null,"CAPEX Transportdienst (t.b.v. productiviteit TD)"]
[null,"Eindstand GAW Precario Afkoop","€ '000,  prijspeil 2008",null,1494.5751694464823,null,null,null,10802.419286109935,null,null,null,{"$f":"15303.3951511076+'Aanpassing gegevens (sep 14)'!G69","v":19129.244290580002}]
[null,"Afschrijvingen Precario Afkoop","€ '000,  prijspeil 2008",null,747.28758472324057,null,null,null,771.60137757928067,null,null,null,{"$f":"1530.33951511076+'Aanpassing gegevens (sep 14)'!G70","v":1912.924429058}]
[null,"CAPEX (o.b.v. WACC NG4R t.b.v. productiviteit TD)","€ '000,  prijspeil 2008",null,{"$f":"WACC2011_2013*E40+E41","v":839.95124522892252},0,0,0,1441.3513733180966,0,0,0,3098.93757507396,0,0,0]
[]
[null,"ORV Kosten Lokale Heffingen Transportdienst (incl. EHD)","€ '000,  prijspeil 2008",null,{"$f":"E36+E37+E42","v":839.95124522892252},{"$f":"F36+F37+F42","v":275.41828999999996},12264.064,0,1441.3513733180966,0,7595.8040000000001,0,3190.7233550739602,3.3479999999999999,617,0]
[]
[]
[null,"ORV Lokale Heffingen 2009 (t.b.v. productiviteit TD)"]
[]
[null,"OPEX Transportdienst"]
[null,"Precario","€ '000,  prijspeil 2009",null,{"$f":"'Kosten TD'!E134+'Kosten TD'!E148","v":0},{"$f":"'Kosten TD'!F134+'Kosten TD'!F148","v":272.9171},{"$f":"'Kosten TD'!G134+'Kosten TD'!G148","v":12940.404},{"$f":"'Kosten TD'!H134+'Kosten TD'!H148","v":0},{"$f":"'Kosten TD'!I134+'Kosten TD'!I148","v":0},{"$f":"'Kosten TD'!J134+'Kosten TD'!J148","v":0},{"$f":"'Kosten TD'!K134+'Kosten TD'!K148","v":7004.6940313149589},{"$f":"'Kosten TD'!L134+'Kosten TD'!L148","v":0},{"$f":"'Kosten TD'!M134+'Kosten TD'!M148","v":90.128839999999997},{"$f":"'Kosten TD'!N134+'Kosten TD'!N148","v":0},{"$f":"'Kosten TD'!O134+'Kosten TD'!O148","v":611},{"$f":"'Kosten TD'!P134+'Kosten TD'!P148","v":0}]
[null,"Gedoogbelasting","€ '000,  prijspeil 2009",null,{"$f":"'Kosten TD'!E135+'Kosten TD'!E149","v":0},{"$f":"'Kosten TD'!F135+'Kosten TD'!F149","v":0},{"$f":"'Kosten TD'!G135+'Kosten TD'!G149","v":0},{"$f":"'Kosten TD'!H135+'Kosten TD'!H149","v":0},{"$f":"'Kosten TD'!I135+'Kosten TD'!I149","v":0},{"$f":"'Kosten TD'!J135+'Kosten TD'!J149","v":0},{"$f":"'Kosten TD'!K135+'Kosten TD'!K149","v":0},{"$f":"'Kosten TD'!L135+'Kosten TD'!L149","v":0},{"$f":"'Kosten TD'!M135+'Kosten TD'!M149","v":0},{"$f":"'Kosten TD'!N135+'Kosten TD'!N149","v":2.4940000000000002},{"$f":"'Kosten TD'!O135+'Kosten TD'!O149","v":0},{"$f":"'Kosten TD'!P135+'Kosten TD'!P149","v":0}]
[]
[null,"CAPEX Transportdienst (t.b.v. productiviteit)"]
[null,"Eindstand GAW Precario Afkoop","€ '000,  prijspeil 2009",null,771.20078743438546,null,null,null,10351.804081603637,null,null,null,{"$f":"14213.7934163487+'Aanpassing gegevens (sep 14)'!G71","v":17767.242097090701}]
[null,"Afschrijvingen Precario Afkoop","€ '000,  prijspeil 2009",null,771.20078743438432,null,null,null,796.29262166181763,null,null,null,{"$f":"1579.3103795943+'Aanpassing gegevens (sep 14)'!G72","v":1974.1380107878499}]
[null,"CAPEX (o.b.v. WACC NG4R t.b.v. productiviteit TD)","€ '000,  prijspeil 2009",null,{"$f":"WACC2011_2013*E54+E55","v":819.01523625531627},0,0,0,1438.1044747212432,0,0,0,3075.7070208074733,0,0,0]
[]
[null,"ORV Kosten Lokale Heffingen Transportdienst (incl. EHD)","€ '000,  prijspeil 2009",null,{"$f":"E50+E51+E56","v":819.01523625531627},{"$f":"F50+F51+F56","v":272.9171},12940.404,0,1438.1044747212432,0,7004.6940313149589,0,3165.8358608074732,2.4940000000000002,611,0]
[]
[]
[null,"ORV Lokale Heffingen 2009 (t.b.v. eindinkomsten)"]
[]
[null,"Transportdienst (incl. EHD)"]
[null,"OPEX Precario","€ '000,  prijspeil 2009",null,{"$f":"E50+'Kosten TD'!E180+'Kosten TD'!E194","v":0},{"$f":"F50+'Kosten TD'!F180+'Kosten TD'!F194","v":272.9171},{"$f":"G50+'Kosten TD'!G180+'Kosten TD'!G194","v":12940.404},{"$f":"H50+'Kosten TD'!H180+'Kosten TD'!H194","v":0},{"$f":"I50+'Kosten TD'!I180+'Kosten TD'!I194","v":0},{"$f":"J50+'Kosten TD'!J180+'Kosten TD'!J194","v":0},{"$f":"K50+'Kosten TD'!K180+'Kosten TD'!K194","v":7004.6940313149589},{"$f":"L50+'Kosten TD'!L180+'Kosten TD'!L194","v":0},{"$f":"M50+'Kosten TD'!M180+'Kosten TD'!M194","v":90.128839999999997},{"$f":"N50+'Kosten TD'!N180+'Kosten TD'!N194","v":0},{"$f":"O50+'Kosten TD'!O180+'Kosten TD'!O194","v":611},{"$f":"P50+'Kosten TD'!P180+'Kosten TD'!P194","v":0}]
[null,"OPEX Gedoogbelasting","€ '000,  prijspeil 2009",null,{"$f":"E51+'Kosten TD'!E181+'Kosten TD'!E195","v":0},{"$f":"F51+'Kosten TD'!F181+'Kosten TD'!F195","v":0},{"$f":"G51+'Kosten TD'!G181+'Kosten TD'!G195","v":0},{"$f":"H51+'Kosten TD'!H181+'Kosten TD'!H195","v":0},{"$f":"I51+'Kosten TD'!I181+'Kosten TD'!I195","v":0},{"$f":"J51+'Kosten TD'!J181+'Kosten TD'!J195","v":0},{"$f":"K51+'Kosten TD'!K181+'Kosten TD'!K195","v":0},{"$f":"L51+'Kosten TD'!L181+'Kosten TD'!L195","v":0},{"$f":"M51+'Kosten TD'!M181+'Kosten TD'!M195","v":0},{"$f":"N51+'Kosten TD'!N181+'Kosten TD'!N195","v":2.4940000000000002},{"$f":"O51+'Kosten TD'!O181+'Kosten TD'!O195","v":0},{"$f":"P51+'Kosten TD'!P181+'Kosten TD'!P195","v":0}]
[null,"CAPEX (o.b.v. WACC NG4R)","€ '000,  prijspeil 2009",null,{"$f":"E56","v":819.01523625531627},{"$f":"F56","v":0},0,0,1438.1044747212432,0,0,0,3075.7070208074733,0,0,0]
[]
[null,"ORV Kosten Lokale Heffingen Transportdienst (incl. EHD)","€ '000,  prijspeil 2009",null,{"$f":"SUM(E64:E66)","v":819.01523625531627},272.9171,12940.404,0,1438.1044747212432,0,7004.6940313149589,0,3165.8358608074732,2.4940000000000002,611,0]
[]
[null,"Aansluitdienst (uitsluitend OPEX)"]
[null,"Precario","€ '000,  prijspeil 2009",null,{"$f":"'Kosten AD'!E13+'Kosten AD'!E27+'Kosten AD'!E40","v":0},{"$f":"'Kosten AD'!F13+'Kosten AD'!F27+'Kosten AD'!F40","v":0},{"$f":"'Kosten AD'!G13+'Kosten AD'!G27+'Kosten AD'!G40","v":0},{"$f":"'Kosten AD'!H13+'Kosten AD'!H27+'Kosten AD'!H40","v":0},{"$f":"'Kosten AD'!I13+'Kosten AD'!I27+'Kosten AD'!I40","v":0},{"$f":"'Kosten AD'!J13+'Kosten AD'!J27+'Kosten AD'!J40","v":0},{"$f":"'Kosten AD'!K13+'Kosten AD'!K27+'Kosten AD'!K40","v":0},{"$f":"'Kosten AD'!L13+'Kosten AD'!L27+'Kosten AD'!L40","v":0},{"$f":"'Kosten AD'!M13+'Kosten AD'!M27+'Kosten AD'!M40","v":0},{"$f":"'Kosten AD'!N13+'Kosten AD'!N27+'Kosten AD'!N40","v":0},{"$f":"'Kosten AD'!O13+'Kosten AD'!O27+'Kosten AD'!O40","v":0},{"$f":"'Kosten AD'!P13+'Kosten AD'!P27+'Kosten AD'!P40","v":0}]
[null,"Gedoogbelasting","€ '000,  prijspeil 2009",null,{"$f":"'Kosten AD'!E14+'Kosten AD'!E28+'Kosten AD'!E41","v":6},{"$f":"'Kosten AD'!F14+'Kosten AD'!F28+'Kosten AD'!F41","v":0},{"$f":"'Kosten AD'!G14+'Kosten AD'!G28+'Kosten AD'!G41","v":0},{"$f":"'Kosten AD'!H14+'Kosten AD'!H28+'Kosten AD'!H41","v":0},{"$f":"'Kosten AD'!I14+'Kosten AD'!I28+'Kosten AD'!I41","v":0},{"$f":"'Kosten AD'!J14+'Kosten AD'!J28+'Kosten AD'!J41","v":0},{"$f":"'Kosten AD'!K14+'Kosten AD'!K28+'Kosten AD'!K41","v":0},{"$f":"'Kosten AD'!L14+'Kosten AD'!L28+'Kosten AD'!L41","v":0},{"$f":"'Kosten AD'!M14+'Kosten AD'!M28+'Kosten AD'!M41","v":0},{"$f":"'Kosten AD'!N14+'Kosten AD'!N28+'Kosten AD'!N41","v":0},{"$f":"'Kosten AD'!O14+'Kosten AD'!O28+'Kosten AD'!O41","v":0},{"$f":"'Kosten AD'!P14+'Kosten AD'!P28+'Kosten AD'!P41","v":0}]
[]
[null,"ORV Kosten Lokale Heffingen Aansluitdienst","€ '000,  prijspeil 2009",null,{"$f":"E71+E72","v":6},{"$f":"F71+F72","v":0},0,0,0,0,0,0,0,0,0,0]
[]
[]
[null,"Geschatte kosten ORV Lokale Heffingen 2013 (obv ORV 2010)"]
[]
[null,"Transportdienst"]
[null,"ORV Kosten Lokale Heffingen 2009 (in prijspeil 2010)","€ '000,  prijspeil 2010",null,{"$f":"E68*(1+CPIv2009n2010)","v":821.47228196408207},273.73585129999998,12979.225211999999,0,1442.4187881454068,0,7025.708113408903,0,3175.3333683898954,2.5014819999999998,612.83299999999997,0]
[null,"Geschatte ORV Kosten Lokale Heffingen Transportdienst 2013","€ '000,  prijspeil 2010",null,{"$f":"E80","v":821.47228196408207},{"$f":"F80","v":273.73585129999998},12979.225211999999,0,1442.4187881454068,0,7025.708113408903,0,3175.3333683898954,2.5014819999999998,612.83299999999997,0]
[]
[null,"Aansluitdienst"]
[null,"ORV Kosten Lokale Heffingen 2009 (in prijspeil 2010)","€ '000,  prijspeil 2010",null,{"$f":"E74*(1+CPIv2009n2010)","v":6.0179999999999989},0,0,0,0,0,0,0,0,0,0,0]
[null,"Geschatte ORV Kosten Lokale Heffingen Aansluitdienst 2013","€ '000,  prijspeil 2010",null,{"$f":"E84","v":6.0179999999999989},0,0,0,0,0,0,0,0,0,0,0]
[]
[]
[null,"Significantietoets ORV Lokale Heffingen (o.b.v. kosten 2009)"]
[]
[null,"OPEX TD (incl. EHD) en AD","€ '000,  prijspeil 2009",null,{"$f":"SUM(E64:E65, E71:E72)","v":6},272.9171,12940.404,0,0,0,7004.6940313149589,0,90.128839999999997,2.4940000000000002,611,0]
[null,"CAPEX (o.b.v. WACC2009 t.b.v. significantietoets)","€ '000,  prijspeil 2009",null,{"$f":"WACC2009*E54+E55","v":813.6168307432755},0,0,0,1365.6418461500177,0,0,0,2951.3363261278382,0,0,0]
[null,"Kosten ORV Lokale Heffingen in 2009","€ '000,  prijspeil 2009",null,{"$f":"SUM(E90:E91)","v":819.6168307432755},{"$f":"SUM(F90:F91)","v":272.9171},12940.404,0,1365.6418461500177,0,7004.6940313149589,0,3041.4651661278381,2.4940000000000002,611,0]
[]
[null,"Totale sectorkosten (TD + AD) 2009 (excl. ORV; o.b.v. WACC2009)","€ '000,  prijspeil 2009",{"$f":"'Kosten TD'!D217+'Kosten AD'!D67-SUM(E92:P92)","v":999537.82820314215}]
[null,"Gemiddeld aandeel kosten ORV L.H. in totale efficiënte kosten (incl. ORV)","%",{"$f":"SUM(E92:P92)/(D94+SUM(E92:P92))","v":2.5407891040863443E-2}]
[]
[null,"Kosten ORV Lokale Heffingen als % van efficiënte kosten plus ORV","%",null,{"$f":"E92/($D$94*(SO!E86/SO!$Q$86)+E92)","v":4.0773443113013258E-2},{"$f":"F92/($D$94*(SO!F86/SO!$Q$86)+F92)","v":9.9429514190524787E-3},{"$f":"G92/($D$94*(SO!G86/SO!$Q$86)+G92)","v":4.7224365606302512E-2},{"$f":"H92/($D$94*(SO!H86/SO!$Q$86)+H92)","v":0},{"$f":"I92/($D$94*(SO!I86/SO!$Q$86)+I92)","v":5.8927531019113237E-2},{"$f":"J92/($D$94*(SO!J86/SO!$Q$86)+J92)","v":0},{"$f":"K92/($D$94*(SO!K86/SO!$Q$86)+K92)","v":2.3118726618023732E-2},{"$f":"L92/($D$94*(SO!L86/SO!$Q$86)+L92)","v":0},{"$f":"M92/($D$94*(SO!M86/SO!$Q$86)+M92)","v":0.17629519742698224},{"$f":"N92/($D$94*(SO!N86/SO!$Q$86)+N92)","v":1.3148556719078556E-4},{"$f":"O92/($D$94*(SO!O86/SO!$Q$86)+O92)","v":2.2586291210653356E-3},{"$f":"P92/($D$94*(SO!P86/SO!$Q$86)+P92)","v":0}]
[null,"Significantietoets (één netbeheerder >1% afwijking)",null,null,{"$f":"IF(ABS(E97-$D$95)>1%, \"ja\", \"nee\")","v":"ja"},"ja","ja","ja","ja","ja","nee","ja","ja","ja","ja","ja"]

{"sheet":"CPI&WACC","index":16,"n_rows":27,"n_cols":9,"rows_kept":27,"cut":false,"hidden":false,"merged":[[4,6,4,7]]}
[]
[null,"CPI en WACC"]
[]
[null,"Jaarlijkse cpi en reële WACC"]
[]
[null,null,"CPI","WACC"]
[null,2004,2.1000000000000001E-2,6.8000000000000005E-2]
[null,2005,1.0999999999999999E-2,6.8000000000000005E-2]
[null,2006,1.7999999999999999E-2,6.8000000000000005E-2]
[null,2007,1.4E-2,6.8000000000000005E-2]
[null,2008,1.0999999999999999E-2,5.5E-2]
[null,2009,3.2000000000000001E-2,5.5E-2]
[null,2010,3.0000000000000001E-3,5.5E-2]
[null,"2011-2013",null,6.2E-2]
[]
[]
[]
[null,"cpi-tabel"]
[]
[null,"naar\\van",2003,2004,2005,2006,2007,2008,2009]
[null,2004,{"$f":"C7","v":2.1000000000000001E-2}]
[null,2005,{"$f":"((1+C21)*(1+C8)-1)","v":3.2230999999999899E-2},{"$f":"C8","v":1.0999999999999999E-2}]
[null,2006,5.0811157999999912E-2,{"$f":"((1+D22)*(1+C9)-1)","v":2.9197999999999835E-2},{"$f":"C9","v":1.7999999999999999E-2}]
[null,2007,6.5522514211999949E-2,{"$f":"((1+D23)*(1+C10)-1)","v":4.3606771999999738E-2},{"$f":"((1+E23)*(1+C10)-1)","v":3.2251999999999947E-2},{"$f":"C10","v":1.4E-2}]
[null,2008,7.7243261868331858E-2,{"$f":"((1+D24)*(1+C11)-1)","v":5.5086446491999563E-2},{"$f":"((1+E24)*(1+C11)-1)","v":4.3606771999999738E-2},{"$f":"((1+F24)*(1+C11)-1)","v":2.5153999999999899E-2},{"$f":"C11","v":1.0999999999999999E-2}]
[null,2009,0.11171504624811845,{"$f":"((1+D25)*(1+C12)-1)","v":8.8849212779743558E-2},{"$f":"((1+E25)*(1+C12)-1)","v":7.7002188703999774E-2},{"$f":"((1+F25)*(1+C12)-1)","v":5.795892799999991E-2},{"$f":"(1+G25)*(1+C12)-1","v":4.3351999999999835E-2},{"$f":"C12","v":3.2000000000000001E-2}]
[null,2010,0.11505019138686268,{"$f":"((1+D26)*(1+C13)-1)","v":9.2115760418082671E-2},{"$f":"((1+E26)*(1+C13)-1)","v":8.0233195270111635E-2},{"$f":"((1+F26)*(1+C13)-1)","v":6.113280478399985E-2},{"$f":"(1+G26)*(1+C13)-1","v":4.6482055999999661E-2},{"$f":"(1+H26)*(1+C13)-1","v":3.5096000000000016E-2},{"$f":"C13","v":3.0000000000000001E-3}]

{"sheet":"X-factorberekening na fusies","index":17,"n_rows":24,"n_cols":21,"rows_kept":24,"cut":false,"hidden":false,"merged":[[1,1,1,3]]}
[]
[null,"Bijlage 1: overzicht van de gehanteerde gegevens (op hoofdlijnen) om te komen tot vaststelling van de (gewijzigde) x-factor NG4R",null,null,"Cogas Infra & Beheer B.V.","DELTA Netwerkbedrijf B.V.","Stedin B.V.","Liander N.V. (gefuseerd bedrijf)","Endinet B.V. (gefuseerd bedrijf)","N.V. RENDO","Enexis B.V. (gefuseerd bedrijf)","Westland Energie Infrastructuur B.V.","Zebra Gasnetwerk B.V.","Totaal",null,"Intergas Energie B.V.","Enexis B.V.","Endinet Haarlemmermeer B.V.","Endinet Regio Eindhoven B.V.","Liander N.V.","Endinet Oost-Brabant N.V."]
[]
[null,"Begininkomsten 2010"]
[]
[null,"Begininkomsten 2010 Transportdienst","€","prijspeil 2010",{"$f":"SUMPRODUCT('Wegingsfactor TD'!E47:E62,Rekenvolumes!E27:E42)","v":15859727.667872662},{"$f":"SUMPRODUCT('Wegingsfactor TD'!F47:F62,Rekenvolumes!F27:F42)","v":22101116.31461326},{"$f":"SUMPRODUCT('Wegingsfactor TD'!G47:G62,Rekenvolumes!G27:G42)","v":203294537.73793894},{"$f":"T6+R6","v":229828602.34102061},{"$f":"U6+S6","v":42085932.646276072},{"$f":"SUMPRODUCT('Wegingsfactor TD'!M47:M62,Rekenvolumes!M27:M42)","v":12882447.50769523},{"$f":"P6+Q6","v":218837981.69997656},{"$f":"SUMPRODUCT('Wegingsfactor TD'!N47:N62,Rekenvolumes!N27:N42)","v":13987900.140170839},{"$f":"SUMPRODUCT('Wegingsfactor TD'!P47:P62,Rekenvolumes!P27:P42)","v":9673806.0199826322},{"$f":"SUM(E6:M6)","v":768552052.07554674},null,{"$f":"SUMPRODUCT('Wegingsfactor TD'!I47:I62,Rekenvolumes!I27:I42)","v":17430029.524764352},{"$f":"SUMPRODUCT('Wegingsfactor TD'!O47:O62,Rekenvolumes!O27:O42)","v":201407952.1752122},{"$f":"SUMPRODUCT('Wegingsfactor TD'!H47:H62,Rekenvolumes!H27:H42)","v":6309924.8436968895},{"$f":"SUMPRODUCT('Wegingsfactor TD'!J47:J62,Rekenvolumes!J27:J42)","v":19637621.803487066},{"$f":"SUMPRODUCT('Wegingsfactor TD'!K47:K62,Rekenvolumes!K27:K42)","v":223518677.49732372},{"$f":"SUMPRODUCT('Wegingsfactor TD'!L47:L62,Rekenvolumes!L27:L42)","v":22448310.842789009}]
[null,"Begininkomsten 2010 Aansluitdienst","€","prijspeil 2010",{"$f":"SUMPRODUCT('Wegingsfactor AD'!E7:E83,Rekenvolumes!E45:E121)","v":5114961.471210761},{"$f":"SUMPRODUCT('Wegingsfactor AD'!F7:F83,Rekenvolumes!F45:F121)","v":6090845.7918243008},{"$f":"SUMPRODUCT('Wegingsfactor AD'!G7:G83,Rekenvolumes!G45:G121)","v":60957625.528990306},{"$f":"T7+R7","v":70272943.470884815},{"$f":"U7+S7","v":14227320.770896211},{"$f":"SUMPRODUCT('Wegingsfactor AD'!M7:M83,Rekenvolumes!M45:M121)","v":3919018.747416527},{"$f":"P7+Q7","v":61198387.802717298},{"$f":"SUMPRODUCT('Wegingsfactor AD'!N7:N83,Rekenvolumes!N45:N121)","v":1562354.3374754789},{"$f":"SUMPRODUCT('Wegingsfactor AD'!P7:P83,Rekenvolumes!P45:P121)","v":0},{"$f":"SUM(E7:M7)","v":223343457.92141569},null,{"$f":"SUMPRODUCT('Wegingsfactor AD'!I7:I83,Rekenvolumes!I45:I121)","v":7204092.4940785002},{"$f":"SUMPRODUCT('Wegingsfactor AD'!O7:O83,Rekenvolumes!O45:O121)","v":53994295.308638796},{"$f":"SUMPRODUCT('Wegingsfactor AD'!H7:H83,Rekenvolumes!H45:H121)","v":1805002.573680127},{"$f":"SUMPRODUCT('Wegingsfactor AD'!J7:J83,Rekenvolumes!J45:J121)","v":7801027.0860241884},{"$f":"SUMPRODUCT('Wegingsfactor AD'!K7:K83,Rekenvolumes!K45:K121)","v":68467940.897204682},{"$f":"SUMPRODUCT('Wegingsfactor AD'!L7:L83,Rekenvolumes!L45:L121)","v":6426293.6848720238}]
[null,"Begininkomsten 2010 Totaal","€","prijspeil 2010",{"$f":"SUM(E6:E7)","v":20974689.139083423},{"$f":"SUM(F6:F7)","v":28191962.10643756},264252163.26692924,{"$f":"SUM(H6:H7)","v":300101545.81190544},{"$f":"SUM(I6:I7)","v":56313253.417172283},16801466.255111758,{"$f":"SUM(K6:K7)","v":280036369.50269389},15550254.477646317,9673806.0199826322,991895509.99696243,null,{"$f":"SUM(P6:P7)","v":24634122.018842854},255402247.48385102,8114927.4173770165,27438648.889511254,291986618.39452839,28874604.527661033]
[]
[null,"Eindinkomsten 2013"]
[]
[null,"Eindinkomsten 2013","€","prijspeil 2010",{"$f":"Eindinkomsten!E33","v":20755640.166593075},{"$f":"Eindinkomsten!F33","v":27941179.642524451},{"$f":"Eindinkomsten!G33","v":282432842.35587114},{"$f":"T12+R12","v":318137781.86676228},{"$f":"U12+S12","v":57598474.770204455},{"$f":"Eindinkomsten!M33","v":17704458.190822653},{"$f":"P12+Q12","v":299106753.02432656},{"$f":"Eindinkomsten!N33","v":17893869.249438513},{"$f":"Eindinkomsten!P33","v":4820968.0852741757},{"$f":"Eindinkomsten!Q33","v":1046391967.3518173},null,{"$f":"Eindinkomsten!I33","v":23390137.195246115},{"$f":"Eindinkomsten!O33","v":275716615.82908046},{"$f":"Eindinkomsten!H33","v":8702286.8234618418},{"$f":"Eindinkomsten!J33","v":27166747.195942335},{"$f":"Eindinkomsten!K33","v":309435495.04330045},{"$f":"Eindinkomsten!L33","v":30431727.574262124}]
[]
[null,"x-factor vierde reguleringsperiode"]
[]
[null,"x-factor onafgerond",null,null,{"$f":"100*(1-(E12/E8)^(1/3))","v":0.34933528950518156},0.29740128785783471,-2.2426777371445716,{"$f":"100*(1-(H12/H8)^(1/3))","v":-1.964502696243775},{"$f":"100*(1-(I12/I8)^(1/3))","v":-0.75504194681537129},-1.7603250406265536,{"$f":"100*(1-(K12/K8)^(1/3))","v":-2.2203255822667689},-4.7905821463679166,20.717203458384837,-1.7988388335893557,null,{"$f":"100*(1-(P12/P8)^(1/3))","v":1.7124385255724017},-2.5839477873940808,-2.3566942283159698,0.33141185065652667,-1.9535597089984202,-1.7661912947380731]
[null,"x-factor",null,null,{"$f":"IF(E16>0,ROUNDDOWN(E16,1),ROUNDUP(E16,1))","v":0.3},{"$f":"IF(F16>0,ROUNDDOWN(F16,1),ROUNDUP(F16,1))","v":0.2},-2.3000000000000003,{"$f":"IF(H16>0,ROUNDDOWN(H16,1),ROUNDUP(H16,1))","v":-2},{"$f":"IF(I16>0,ROUNDDOWN(I16,1),ROUNDUP(I16,1))","v":-0.79999999999999993},-1.8,{"$f":"IF(K16>0,ROUNDDOWN(K16,1),ROUNDUP(K16,1))","v":-2.3000000000000003},-4.8,20.7,-1.8,null,{"$f":"IF(P16>0,ROUNDDOWN(P16,1),ROUNDUP(P16,1))","v":1.7},-2.6,-2.4,0.3,-2,-1.8]
[]
[null,{"$f":"SO!B169","v":"Samengestelde Output 2010"},null,null,{"$f":"SO!E169","v":18049980.233812846},{"$f":"SO!F169","v":25059868.399370316},{"$f":"SO!G169","v":244058404.3944627},{"$f":"T19+R19","v":281790673.7082482},{"$f":"U19+S19","v":52169987.536166802},{"$f":"SO!M169","v":13159797.441195995},{"$f":"P19+Q19","v":269055268.89243007},{"$f":"SO!N169","v":16205158.854572399},{"$f":"SO!P169","v":4366605.9895585477},{"$f":"SUM(E19:M19)","v":923915745.4498179},null,{"$f":"SO!I169","v":19879210.349126369},{"$f":"SO!O169","v":249176058.54330367},{"$f":"SO!H169","v":7882121.8257502355},{"$f":"SO!J169","v":24606360.988983441},{"$f":"SO!K169","v":273908551.88249797},{"$f":"SO!L169","v":27563626.547183361}]
[]
[null,"Productiviteitsverandering TD 2011-2013",null,{"$f":"'Productiviteit TD'!D42","v":3.400322495354176E-4}]
[]
[]
[null,"WACC 2011-2013",null,{"$f":"WACC2011_2013","v":6.2E-2}]

{"sheet":"Bijlage1_Overzicht X","index":18,"n_rows":22,"n_cols":14,"rows_kept":22,"cut":false,"hidden":false,"merged":[[1,1,1,3]]}
[]
[null,"Bijlage 1: overzicht van de gehanteerde gegevens (op hoofdlijnen) om te komen tot vaststelling van de (gewijzigde) x-factor NG4R",null,null,"Totaal / algemeen","Cogas Infra & Beheer B.V.","DELTA Netwerkbedrijf B.V.","Stedin B.V.","Liander N.V. \n(gefuseerd bedrijf)","Endinet B.V. \n(gefuseerd bedrijf)","N.V. RENDO","Enexis B.V.\n(gefuseerd bedrijf)","Westland Energie \nInfrastructuur B.V.","Zebra Gasnetwerk B.V."]
[]
[null,"Begininkomsten 2010"]
[]
[null,"Begininkomsten 2010 Transportdienst","€","pp 2010",{"$f":"'X-factorberekening na fusies'!N6","v":768552052.07554674},{"$f":"'X-factorberekening na fusies'!E6","v":15859727.667872662},{"$f":"'X-factorberekening na fusies'!F6","v":22101116.31461326},{"$f":"'X-factorberekening na fusies'!G6","v":203294537.73793894},{"$f":"'X-factorberekening na fusies'!H6","v":229828602.34102061},{"$f":"'X-factorberekening na fusies'!I6","v":42085932.646276072},{"$f":"'X-factorberekening na fusies'!J6","v":12882447.50769523},{"$f":"'X-factorberekening na fusies'!K6","v":218837981.69997656},{"$f":"'X-factorberekening na fusies'!L6","v":13987900.140170839},{"$f":"'X-factorberekening na fusies'!M6","v":9673806.0199826322}]
[null,"Begininkomsten 2010 Aansluitdienst","€","pp 2010",{"$f":"'X-factorberekening na fusies'!N7","v":223343457.92141569},{"$f":"'X-factorberekening na fusies'!E7","v":5114961.471210761},{"$f":"'X-factorberekening na fusies'!F7","v":6090845.7918243008},{"$f":"'X-factorberekening na fusies'!G7","v":60957625.528990306},{"$f":"'X-factorberekening na fusies'!H7","v":70272943.470884815},{"$f":"'X-factorberekening na fusies'!I7","v":14227320.770896211},{"$f":"'X-factorberekening na fusies'!J7","v":3919018.747416527},{"$f":"'X-factorberekening na fusies'!K7","v":61198387.802717298},{"$f":"'X-factorberekening na fusies'!L7","v":1562354.3374754789},{"$f":"'X-factorberekening na fusies'!M7","v":0}]
[null,"Begininkomsten 2010 Totaal","€","pp 2010",{"$f":"'X-factorberekening na fusies'!N8","v":991895509.99696243},{"$f":"'X-factorberekening na fusies'!E8","v":20974689.139083423},{"$f":"'X-factorberekening na fusies'!F8","v":28191962.10643756},{"$f":"'X-factorberekening na fusies'!G8","v":264252163.26692924},{"$f":"'X-factorberekening na fusies'!H8","v":300101545.81190544},{"$f":"'X-factorberekening na fusies'!I8","v":56313253.417172283},{"$f":"'X-factorberekening na fusies'!J8","v":16801466.255111758},{"$f":"'X-factorberekening na fusies'!K8","v":280036369.50269389},{"$f":"'X-factorberekening na fusies'!L8","v":15550254.477646317},{"$f":"'X-factorberekening na fusies'!M8","v":9673806.0199826322}]
[]
[null,"Eindinkomsten 2013"]
[]
[null,"Eindinkomsten 2013","€","pp 2010",{"$f":"'X-factorberekening na fusies'!N12","v":1046391967.3518173},{"$f":"'X-factorberekening na fusies'!E12","v":20755640.166593075},{"$f":"'X-factorberekening na fusies'!F12","v":27941179.642524451},{"$f":"'X-factorberekening na fusies'!G12","v":282432842.35587114},{"$f":"'X-factorberekening na fusies'!H12","v":318137781.86676228},{"$f":"'X-factorberekening na fusies'!I12","v":57598474.770204455},{"$f":"'X-factorberekening na fusies'!J12","v":17704458.190822653},{"$f":"'X-factorberekening na fusies'!K12","v":299106753.02432656},{"$f":"'X-factorberekening na fusies'!L12","v":17893869.249438513},{"$f":"'X-factorberekening na fusies'!M12","v":4820968.0852741757}]
[]
[null,"x-factor vierde reguleringsperiode"]
[]
[null,"x-factor",null,null,null,{"$f":"'X-factorberekening na fusies'!E17","v":0.3},{"$f":"'X-factorberekening na fusies'!F17","v":0.2},{"$f":"'X-factorberekening na fusies'!G17","v":-2.3000000000000003},{"$f":"'X-factorberekening na fusies'!H17","v":-2},{"$f":"'X-factorberekening na fusies'!I17","v":-0.79999999999999993},{"$f":"'X-factorberekening na fusies'!J17","v":-1.8},{"$f":"'X-factorberekening na fusies'!K17","v":-2.3000000000000003},{"$f":"'X-factorberekening na fusies'!L17","v":-4.8},{"$f":"'X-factorberekening na fusies'!M17","v":20.7}]
[]
[null,{"$f":"SO!B169","v":"Samengestelde Output 2010"},null,null,{"$f":"'X-factorberekening na fusies'!N19","v":923915745.4498179},{"$f":"'X-factorberekening na fusies'!E19","v":18049980.233812846},{"$f":"'X-factorberekening na fusies'!F19","v":25059868.399370316},{"$f":"'X-factorberekening na fusies'!G19","v":244058404.3944627},{"$f":"'X-factorberekening na fusies'!H19","v":281790673.7082482},{"$f":"'X-factorberekening na fusies'!I19","v":52169987.536166802},{"$f":"'X-factorberekening na fusies'!J19","v":13159797.441195995},{"$f":"'X-factorberekening na fusies'!K19","v":269055268.89243007},{"$f":"'X-factorberekening na fusies'!L19","v":16205158.854572399},{"$f":"'X-factorberekening na fusies'!M19","v":4366605.9895585477}]
[]
[null,"Productiviteitsverandering TD 2011-2013",null,null,{"$f":"'X-factorberekening na fusies'!D21","v":3.400322495354176E-4}]
[]
[null,"WACC 2011-2013",null,null,{"$f":"'X-factorberekening na fusies'!D24","v":6.2E-2}]

{"sheet":"Bijlage 2_rekenvolumina","index":19,"n_rows":104,"n_cols":24,"rows_kept":104,"cut":false,"hidden":false,"merged":[]}
[]
[null,"Bijlage 2: Rekenvolumina",null,null,"Cogas Infra & Beheer B.V.","DELTA Netwerkbedrijf B.V.","Stedin B.V.","Liander N.V. \n(gefuseerd bedrijf)","Endinet B.V. \n(gefuseerd bedrijf)","N.V. RENDO","Enexis B.V.\n(gefuseerd bedrijf)","Westland Energie \nInfrastructuur B.V.","Zebra Gasnetwerk B.V.",null,null,null,"Intergas Energie B.V.","Enexis B.V.",null,"Endinet Haarlemmermeer B.V.","Liander N.V.",null,"Endinet Regio Eindhoven B.V.","Endinet Oost-Brabant N.V."]
[]
[null,"Rekenvolumina 2011-2013 - Transportdienst"]
[]
[null,"Kleinverbruik"]
[null,"Vastrecht (TOVT)",null,null,{"$f":"Volumes!E67","v":135040},{"$f":"Volumes!F67","v":184162},{"$f":"Volumes!G67","v":1858709.2726986203},{"$f":"T7+U7","v":2177234.6504745102},{"$f":"W7+X7","v":382417.11532655009},{"$f":"Volumes!M67","v":99960},{"$f":"Q7+R7","v":1999549.5},{"$f":"Volumes!N67","v":48946.770308392726},{"$f":"Volumes!P67","v":0},null,null,null,{"$f":"Volumes!I67","v":146239.91666666666},{"$f":"Volumes!O67","v":1853309.5833333333},null,{"$f":"Volumes!H67","v":58327.400474510301},{"$f":"Volumes!K67","v":2118907.25},null,{"$f":"Volumes!J67","v":185102.18851558759},{"$f":"Volumes!L67","v":197314.92681096247}]
[null,"Capaciteitsafhankelijk tarief (TAVTc)",null,null,{"$f":"Volumes!E68","v":467691.5},{"$f":"Volumes!F68","v":604073.625},{"$f":"Volumes!G68","v":5823818.5081496947},{"$f":"T8+U8","v":7009122.5866237655},{"$f":"W8+X8","v":1317377.3222645028},{"$f":"Volumes!M68","v":340481.5},{"$f":"Q8+R8","v":6712571.416666666},{"$f":"Volumes!N68","v":161660.84883427003},{"$f":"Volumes!P68","v":0},null,null,null,{"$f":"Volumes!I68","v":500613.08333333331},{"$f":"Volumes!O68","v":6211958.333333333},null,{"$f":"Volumes!H68","v":192132.47677946283},{"$f":"Volumes!K68","v":6816990.1098443028},null,{"$f":"Volumes!J68","v":628929.60531212005},{"$f":"Volumes!L68","v":688447.71695238282}]
[]
[null,"Profielgrootverbruik"]
[null,"Vastrecht (TOVT)",null,null,{"$f":"Volumes!E71","v":535},{"$f":"Volumes!F71","v":582},{"$f":"Volumes!G71","v":8308.4867727082292},{"$f":"T11+U11","v":10054.939295789349},{"$f":"W11+X11","v":1724.590396707722},{"$f":"Volumes!M71","v":370},{"$f":"Q11+R11","v":8653.7719144276234},{"$f":"Volumes!N71","v":795.24659960305485},{"$f":"Volumes!P71","v":0},null,null,null,{"$f":"Volumes!I71","v":575.66666666666674},{"$f":"Volumes!O71","v":8078.1052477609564},null,{"$f":"Volumes!H71","v":353.7735102489774},{"$f":"Volumes!K71","v":9701.1657855403719},null,{"$f":"Volumes!J71","v":739.49465636788716},{"$f":"Volumes!L71","v":985.09574033983495}]
[null,"Capaciteitsafhankelijk tarief (TAVTc)",null,null,{"$f":"Volumes!E72","v":37330},{"$f":"Volumes!F72","v":41655},{"$f":"Volumes!G72","v":751128.40522875811},{"$f":"T12+U12","v":752029.60167120874},{"$f":"W12+X12","v":114568.36837211289},{"$f":"Volumes!M72","v":24510},{"$f":"Q12+R12","v":680402.61928819108},{"$f":"Volumes!N72","v":94003.501632748361},{"$f":"Volumes!P72","v":0},null,null,null,{"$f":"Volumes!I72","v":51954.583333333328},{"$f":"Volumes!O72","v":628448.03595485771},null,{"$f":"Volumes!H72","v":23809.756727914933},{"$f":"Volumes!K72","v":728219.84494329384},null,{"$f":"Volumes!J72","v":49893.615369399617},{"$f":"Volumes!L72","v":64674.753002713282}]
[]
[null,"Telemetriegrootverbruik (< 16 bar)"]
[null,"Vastrecht (TOVT)",null,null,{"$f":"Volumes!E75","v":100},{"$f":"Volumes!F75","v":175},{"$f":"Volumes!G75","v":2111.7272676776092},{"$f":"T15+U15","v":2497.3492658711266},{"$f":"W15+X15","v":501.74054034192091},{"$f":"Volumes!M75","v":90.81},{"$f":"Q15+R15","v":2285.449351851852},{"$f":"Volumes!N75","v":1010.4740667885786},{"$f":"Volumes!P75","v":0},null,null,null,{"$f":"Volumes!I75","v":202.83333333333334},{"$f":"Volumes!O75","v":2082.6160185185186},null,{"$f":"Volumes!H75","v":99.349265871126391},{"$f":"Volumes!K75","v":2398},null,{"$f":"Volumes!J75","v":202.23637495605956},{"$f":"Volumes!L75","v":299.50416538586131}]
[null,"Capaciteitsafhankelijk tarief (TAVTc) lage druk",null,null,{"$f":"Volumes!E76","v":9712},{"$f":"Volumes!F76","v":12131},{"$f":"Volumes!G76","v":0},{"$f":"T16+U16","v":133790.75},{"$f":"W16+X16","v":0},{"$f":"Volumes!M76","v":3854.9999984640003},{"$f":"Q16+R16","v":0},{"$f":"Volumes!N76","v":0},{"$f":"Volumes!P76","v":0},null,null,null,{"$f":"Volumes!I76","v":0},{"$f":"Volumes!O76","v":0},null,{"$f":"Volumes!H76","v":0},{"$f":"Volumes!K76","v":133790.75},null,{"$f":"Volumes!J76","v":0},{"$f":"Volumes!L76","v":0}]
[null,"Capaciteitsafhankelijk tarief (TAVTc) hoge druk",null,null,{"$f":"Volumes!E77","v":21499},{"$f":"Volumes!F77","v":37063},{"$f":"Volumes!G77","v":0},{"$f":"T17+U17","v":505750.25},{"$f":"W17+X17","v":0},{"$f":"Volumes!M77","v":26108.633997536999},{"$f":"Q17+R17","v":0},{"$f":"Volumes!N77","v":0},{"$f":"Volumes!P77","v":0},null,null,null,{"$f":"Volumes!I77","v":0},{"$f":"Volumes!O77","v":0},null,{"$f":"Volumes!H77","v":0},{"$f":"Volumes!K77","v":505750.25},null,{"$f":"Volumes!J77","v":0},{"$f":"Volumes!L77","v":0}]
[null,"Capaciteitsafhankelijk tarief (TAVTc) standaard",null,null,{"$f":"Volumes!E78","v":31211},{"$f":"Volumes!F78","v":49194},{"$f":"Volumes!G78","v":662945.27233115479},{"$f":"T18+U18","v":666000.96070818789},{"$f":"W18+X18","v":157330.2521667231},{"$f":"Volumes!M78","v":29963.633996001001},{"$f":"Q18+R18","v":742494.48194444436},{"$f":"Volumes!N78","v":338804.83712984051},{"$f":"Volumes!P78","v":0},null,null,null,{"$f":"Volumes!I78","v":58639},{"$f":"Volumes!O78","v":683855.48194444436},null,{"$f":"Volumes!H78","v":26459.960708187875},{"$f":"Volumes!K78","v":639541},null,{"$f":"Volumes!J78","v":60476.053081816521},{"$f":"Volumes!L78","v":96854.199084906591}]
[]
[null,"Extra hoge druk (>= 16 bar)"]
[null,"Vastrecht (TOVT)",null,null,{"$f":"Volumes!E81","v":0},{"$f":"Volumes!F81","v":13},{"$f":"Volumes!G81","v":0},{"$f":"T21+U21","v":0},{"$f":"W21+X21","v":0},{"$f":"Volumes!M81","v":0},{"$f":"Q21+R21","v":1},{"$f":"Volumes!N81","v":0},{"$f":"Volumes!P81","v":2},null,null,null,{"$f":"Volumes!I81","v":0},{"$f":"Volumes!O81","v":1},null,{"$f":"Volumes!H81","v":0},{"$f":"Volumes!K81","v":0},null,{"$f":"Volumes!J81","v":0},{"$f":"Volumes!L81","v":0}]
[null,"Capaciteitsafhankelijk tarief (TAVTc)",null,null,{"$f":"Volumes!E82","v":0},{"$f":"Volumes!F82","v":71025.947625817455},{"$f":"Volumes!G82","v":0},{"$f":"T22+U22","v":0},{"$f":"W22+X22","v":0},{"$f":"Volumes!M82","v":0},{"$f":"Q22+R22","v":60000},{"$f":"Volumes!N82","v":0},{"$f":"Volumes!P82","v":529268},null,null,null,{"$f":"Volumes!I82","v":0},{"$f":"Volumes!O82","v":60000},null,{"$f":"Volumes!H82","v":0},{"$f":"Volumes!K82","v":0},null,{"$f":"Volumes!J82","v":0},{"$f":"Volumes!L82","v":0}]
[]
[]
[null,"Rekenvolumina 2011-2013 - Aansluitdienst"]
[]
[null,"EAV"]
[null,"LD 0-10 m3/h",null,null,{"$f":"Volumes!E87","v":1927},{"$f":"Volumes!F87","v":1758},{"$f":"Volumes!G87","v":24572.158543426351},{"$f":"T28+U28","v":21788},{"$f":"W28+X28","v":4042},{"$f":"Volumes!M87","v":1129},{"$f":"Q28+R28","v":20112.626415407522},{"$f":"Volumes!N87","v":868},{"$f":"Volumes!P87","v":0},null,null,null,{"$f":"Volumes!I87","v":1415},{"$f":"Volumes!O87","v":18697.626415407522},null,{"$f":"Volumes!H87","v":323},{"$f":"Volumes!K87","v":21465},null,{"$f":"Volumes!J87","v":2290},{"$f":"Volumes!L87","v":1752}]
[null,"LD 10-16 m3/h",null,null,{"$f":"Volumes!E88","v":0},{"$f":"Volumes!F88","v":0},{"$f":"Volumes!G88","v":244.67993222336813},310,85,{"$f":"Volumes!M88","v":12},203.44832238343278,{"$f":"Volumes!N88","v":7},{"$f":"Volumes!P88","v":0},null,null,null,{"$f":"Volumes!I88","v":0},{"$f":"Volumes!O88","v":203.44832238343278},null,{"$f":"Volumes!H88","v":15},{"$f":"Volumes!K88","v":295},null,{"$f":"Volumes!J88","v":0},{"$f":"Volumes!L88","v":85}]
[null,"LD 16-25 m3/h",null,null,{"$f":"Volumes!E89","v":22.990691971343296},{"$f":"Volumes!F89","v":41},{"$f":"Volumes!G89","v":228.23147929865922},165,58,{"$f":"Volumes!M89","v":12},253.55627118503438,{"$f":"Volumes!N89","v":2},{"$f":"Volumes!P89","v":0},null,null,null,{"$f":"Volumes!I89","v":22},{"$f":"Volumes!O89","v":231.55627118503438},null,{"$f":"Volumes!H89","v":12},{"$f":"Volumes!K89","v":153},null,{"$f":"Volumes!J89","v":35},{"$f":"Volumes!L89","v":23}]
[null,"LD 25-40 m3/h ",null,null,{"$f":"Volumes!E90","v":6},{"$f":"Volumes!F90","v":8},{"$f":"Volumes!G90","v":97.165233423265178},196,36,{"$f":"Volumes!M90","v":3},156.54964556948104,{"$f":"Volumes!N90","v":6},{"$f":"Volumes!P90","v":0},null,null,null,{"$f":"Volumes!I90","v":8},{"$f":"Volumes!O90","v":148.54964556948104},null,{"$f":"Volumes!H90","v":10},{"$f":"Volumes!K90","v":186},null,{"$f":"Volumes!J90","v":9},{"$f":"Volumes!L90","v":27}]
[null,"LD 40-65 m3/h ",null,null,{"$f":"Volumes!E91","v":7.0061950476330335},{"$f":"Volumes!F91","v":1},{"$f":"Volumes!G91","v":46.583753974737171},6,17,{"$f":"Volumes!M91","v":1},66.850408475874389,{"$f":"Volumes!N91","v":2},{"$f":"Volumes!P91","v":0},null,null,null,{"$f":"Volumes!I91","v":2},{"$f":"Volumes!O91","v":64.850408475874389},null,{"$f":"Volumes!H91","v":6},{"$f":"Volumes!K91","v":0},null,{"$f":"Volumes!J91","v":3},{"$f":"Volumes!L91","v":14}]
[null,"LD 65-100 m3/h ",null,null,{"$f":"Volumes!E92","v":3},{"$f":"Volumes!F92","v":1},{"$f":"Volumes!G92","v":28.79172508920405},104,11,{"$f":"Volumes!M92","v":1},49.712686567164177,{"$f":"Volumes!N92","v":0},{"$f":"Volumes!P92","v":0},null,null,null,{"$f":"Volumes!I92","v":5},{"$f":"Volumes!O92","v":44.712686567164177},null,{"$f":"Volumes!H92","v":3},{"$f":"Volumes!K92","v":101},null,{"$f":"Volumes!J92","v":7},{"$f":"Volumes!L92","v":4}]
[null,"LD 100-160 m3/h",null,null,{"$f":"Volumes!E93","v":0},{"$f":"Volumes!F93","v":1},{"$f":"Volumes!G93","v":25.283660690150889},23,4,{"$f":"Volumes!M93","v":0},24.547921568627451,{"$f":"Volumes!N93","v":3},{"$f":"Volumes!P93","v":0},null,null,null,{"$f":"Volumes!I93","v":3},{"$f":"Volumes!O93","v":21.547921568627451},null,{"$f":"Volumes!H93","v":0},{"$f":"Volumes!K93","v":23},null,{"$f":"Volumes!J93","v":2},{"$f":"Volumes!L93","v":2}]
[null,"LD 160-250 m3/h ",null,null,{"$f":"Volumes!E94","v":0},{"$f":"Volumes!F94","v":0},{"$f":"Volumes!G94","v":0},11,0,{"$f":"Volumes!M94","v":0},10.752982456140352,{"$f":"Volumes!N94","v":0},{"$f":"Volumes!P94","v":0},null,null,null,{"$f":"Volumes!I94","v":0},{"$f":"Volumes!O94","v":10.752982456140352},null,{"$f":"Volumes!H94","v":3},{"$f":"Volumes!K94","v":8},null,{"$f":"Volumes!J94","v":0},{"$f":"Volumes!L94","v":0}]
[null,"LD 250-400 m3/h ",null,null,{"$f":"Volumes!E95","v":0},{"$f":"Volumes!F95","v":0},{"$f":"Volumes!G95","v":0},11,4,{"$f":"Volumes!M95","v":0},8,{"$f":"Volumes!N95","v":1},{"$f":"Volumes!P95","v":0},null,null,null,{"$f":"Volumes!I95","v":0},{"$f":"Volumes!O95","v":8},null,{"$f":"Volumes!H95","v":0},{"$f":"Volumes!K95","v":11},null,{"$f":"Volumes!J95","v":2},{"$f":"Volumes!L95","v":2}]
[null,"LD 400-650 m3/h ",null,null,{"$f":"Volumes!E96","v":0},{"$f":"Volumes!F96","v":0},{"$f":"Volumes!G96","v":0},5,0,{"$f":"Volumes!M96","v":0},0,{"$f":"Volumes!N96","v":0},{"$f":"Volumes!P96","v":0},null,null,null,{"$f":"Volumes!I96","v":0},{"$f":"Volumes!O96","v":0},null,{"$f":"Volumes!H96","v":0},{"$f":"Volumes!K96","v":5},null,{"$f":"Volumes!J96","v":0},{"$f":"Volumes!L96","v":0}]
[null,"LD 650-1000 m3/h ",null,null,{"$f":"Volumes!E97","v":0},{"$f":"Volumes!F97","v":0},{"$f":"Volumes!G97","v":0},0,0,{"$f":"Volumes!M97","v":0},0,{"$f":"Volumes!N97","v":0},{"$f":"Volumes!P97","v":0},null,null,null,{"$f":"Volumes!I97","v":0},{"$f":"Volumes!O97","v":0},null,{"$f":"Volumes!H97","v":0},{"$f":"Volumes!K97","v":0},null,{"$f":"Volumes!J97","v":0},{"$f":"Volumes!L97","v":0}]
[null,"LD 1000-1600 m3/h ",null,null,{"$f":"Volumes!E98","v":0},{"$f":"Volumes!F98","v":0},{"$f":"Volumes!G98","v":0},0,0,{"$f":"Volumes!M98","v":0},0,{"$f":"Volumes!N98","v":0},{"$f":"Volumes!P98","v":0},null,null,null,{"$f":"Volumes!I98","v":0},{"$f":"Volumes!O98","v":0},null,{"$f":"Volumes!H98","v":0},{"$f":"Volumes!K98","v":0},null,{"$f":"Volumes!J98","v":0},{"$f":"Volumes!L98","v":0}]
[null,"LD 1600-2500 m3/h ",null,null,{"$f":"Volumes!E99","v":0},{"$f":"Volumes!F99","v":0},{"$f":"Volumes!G99","v":0},0,0,{"$f":"Volumes!M99","v":0},0,{"$f":"Volumes!N99","v":0},{"$f":"Volumes!P99","v":0},null,null,null,{"$f":"Volumes!I99","v":0},{"$f":"Volumes!O99","v":0},null,{"$f":"Volumes!H99","v":0},{"$f":"Volumes!K99","v":0},null,{"$f":"Volumes!J99","v":0},{"$f":"Volumes!L99","v":0}]
[null,"LD >2500 m3/h",null,null,{"$f":"Volumes!E100","v":0},{"$f":"Volumes!F100","v":0},{"$f":"Volumes!G100","v":0},0,0,{"$f":"Volumes!M100","v":0},0,{"$f":"Volumes!N100","v":0},{"$f":"Volumes!P100","v":0},null,null,null,{"$f":"Volumes!I100","v":0},{"$f":"Volumes!O100","v":0},null,{"$f":"Volumes!H100","v":0},{"$f":"Volumes!K100","v":0},null,{"$f":"Volumes!J100","v":0},{"$f":"Volumes!L100","v":0}]
[]
[null,"HD 0-10 m3/h",null,null,{"$f":"Volumes!E102","v":0},{"$f":"Volumes!F102","v":0},{"$f":"Volumes!G102","v":0},{"$f":"T43+U43","v":0},{"$f":"W43+X43","v":0},{"$f":"Volumes!M102","v":0},{"$f":"Q43+R43","v":0},{"$f":"Volumes!N102","v":0},{"$f":"Volumes!P102","v":0},null,null,null,{"$f":"Volumes!I102","v":0},{"$f":"Volumes!O102","v":0},null,{"$f":"Volumes!H102","v":0},{"$f":"Volumes!K102","v":0},null,{"$f":"Volumes!J102","v":0},{"$f":"Volumes!L102","v":0}]
[null,"HD 10-16 m3/h",null,null,{"$f":"Volumes!E103","v":0},{"$f":"Volumes!F103","v":0},{"$f":"Volumes!G103","v":0},0,0,{"$f":"Volumes!M103","v":0},0,{"$f":"Volumes!N103","v":0},{"$f":"Volumes!P103","v":0},null,null,null,{"$f":"Volumes!I103","v":0},{"$f":"Volumes!O103","v":0},null,{"$f":"Volumes!H103","v":0},{"$f":"Volumes!K103","v":0},null,{"$f":"Volumes!J103","v":0},{"$f":"Volumes!L103","v":0}]
[null,"HD 16-25 m3/h",null,null,{"$f":"Volumes!E104","v":0},{"$f":"Volumes!F104","v":0},{"$f":"Volumes!G104","v":0},0,0,{"$f":"Volumes!M104","v":0},0,{"$f":"Volumes!N104","v":0},{"$f":"Volumes!P104","v":0},null,null,null,{"$f":"Volumes!I104","v":0},{"$f":"Volumes!O104","v":0},null,{"$f":"Volumes!H104","v":0},{"$f":"Volumes!K104","v":0},null,{"$f":"Volumes!J104","v":0},{"$f":"Volumes!L104","v":0}]
[null,"HD 25-40 m3/h",null,null,{"$f":"Volumes!E105","v":0},{"$f":"Volumes!F105","v":0},{"$f":"Volumes!G105","v":0},0,0,{"$f":"Volumes!M105","v":0},0,{"$f":"Volumes!N105","v":0},{"$f":"Volumes!P105","v":0},null,null,null,{"$f":"Volumes!I105","v":0},{"$f":"Volumes!O105","v":0},null,{"$f":"Volumes!H105","v":0},{"$f":"Volumes!K105","v":0},null,{"$f":"Volumes!J105","v":0},{"$f":"Volumes!L105","v":0}]
[null,"HD 40-65 m3/h",null,null,{"$f":"Volumes!E106","v":0},{"$f":"Volumes!F106","v":0},{"$f":"Volumes!G106","v":6.3152114222954419},0,0,{"$f":"Volumes!M106","v":0},14,{"$f":"Volumes!N106","v":0},{"$f":"Volumes!P106","v":0},null,null,null,{"$f":"Volumes!I106","v":0},{"$f":"Volumes!O106","v":14},null,{"$f":"Volumes!H106","v":0},{"$f":"Volumes!K106","v":0},null,{"$f":"Volumes!J106","v":0},{"$f":"Volumes!L106","v":0}]
[null,"HD 65-100 m3/h",null,null,{"$f":"Volumes!E107","v":0},{"$f":"Volumes!F107","v":0},{"$f":"Volumes!G107","v":4.2781580584940881},1,0,{"$f":"Volumes!M107","v":0},19,{"$f":"Volumes!N107","v":0},{"$f":"Volumes!P107","v":0},null,null,null,{"$f":"Volumes!I107","v":0},{"$f":"Volumes!O107","v":19},null,{"$f":"Volumes!H107","v":0},{"$f":"Volumes!K107","v":1},null,{"$f":"Volumes!J107","v":0},{"$f":"Volumes!L107","v":0}]
[null,"HD 100-160 m3/h",null,null,{"$f":"Volumes!E108","v":0},{"$f":"Volumes!F108","v":0},{"$f":"Volumes!G108","v":2.8780336029869322},0,0,{"$f":"Volumes!M108","v":0},28,{"$f":"Volumes!N108","v":0},{"$f":"Volumes!P108","v":0},null,null,null,{"$f":"Volumes!I108","v":0},{"$f":"Volumes!O108","v":28},null,{"$f":"Volumes!H108","v":0},{"$f":"Volumes!K108","v":0},null,{"$f":"Volumes!J108","v":0},{"$f":"Volumes!L108","v":0}]
[null,"HD 160-250 m3/h",null,null,{"$f":"Volumes!E109","v":0},{"$f":"Volumes!F109","v":1},{"$f":"Volumes!G109","v":4},1,3,{"$f":"Volumes!M109","v":0},19,{"$f":"Volumes!N109","v":0},{"$f":"Volumes!P109","v":0},null,null,null,{"$f":"Volumes!I109","v":0},{"$f":"Volumes!O109","v":19},null,{"$f":"Volumes!H109","v":0},{"$f":"Volumes!K109","v":1},null,{"$f":"Volumes!J109","v":0},{"$f":"Volumes!L109","v":3}]
[null,"HD 250-400 m3/h ",null,null,{"$f":"Volumes!E110","v":0},{"$f":"Volumes!F110","v":1},{"$f":"Volumes!G110","v":5},1,0,{"$f":"Volumes!M110","v":0},8,{"$f":"Volumes!N110","v":0},{"$f":"Volumes!P110","v":0},null,null,null,{"$f":"Volumes!I110","v":0},{"$f":"Volumes!O110","v":8},null,{"$f":"Volumes!H110","v":0},{"$f":"Volumes!K110","v":1},null,{"$f":"Volumes!J110","v":0},{"$f":"Volumes!L110","v":0}]
[null,"HD 400-650 m3/h ",null,null,{"$f":"Volumes!E111","v":0},{"$f":"Volumes!F111","v":0},{"$f":"Volumes!G111","v":1},8,1,{"$f":"Volumes!M111","v":0},4,{"$f":"Volumes!N111","v":1},{"$f":"Volumes!P111","v":0},null,null,null,{"$f":"Volumes!I111","v":0},{"$f":"Volumes!O111","v":4},null,{"$f":"Volumes!H111","v":0},{"$f":"Volumes!K111","v":8},null,{"$f":"Volumes!J111","v":0},{"$f":"Volumes!L111","v":1}]
[null,"HD 650-1000 m3/h ",null,null,{"$f":"Volumes!E112","v":0},{"$f":"Volumes!F112","v":1},{"$f":"Volumes!G112","v":3},0,0,{"$f":"Volumes!M112","v":0},8,{"$f":"Volumes!N112","v":5},{"$f":"Volumes!P112","v":0},null,null,null,{"$f":"Volumes!I112","v":0},{"$f":"Volumes!O112","v":8},null,{"$f":"Volumes!H112","v":0},{"$f":"Volumes!K112","v":0},null,{"$f":"Volumes!J112","v":0},{"$f":"Volumes!L112","v":0}]
[null,"HD 1000-1600 m3/h ",null,null,{"$f":"Volumes!E113","v":0},{"$f":"Volumes!F113","v":0},{"$f":"Volumes!G113","v":5},0,0,{"$f":"Volumes!M113","v":0},0,{"$f":"Volumes!N113","v":1},{"$f":"Volumes!P113","v":0},null,null,null,{"$f":"Volumes!I113","v":0},{"$f":"Volumes!O113","v":0},null,{"$f":"Volumes!H113","v":0},{"$f":"Volumes!K113","v":0},null,{"$f":"Volumes!J113","v":0},{"$f":"Volumes!L113","v":0}]
[null,"HD 1600-2500 m3/h ",null,null,{"$f":"Volumes!E114","v":0},{"$f":"Volumes!F114","v":0},{"$f":"Volumes!G114","v":0},0,1,{"$f":"Volumes!M114","v":0},0,{"$f":"Volumes!N114","v":2},{"$f":"Volumes!P114","v":0},null,null,null,{"$f":"Volumes!I114","v":0},{"$f":"Volumes!O114","v":0},null,{"$f":"Volumes!H114","v":0},{"$f":"Volumes!K114","v":0},null,{"$f":"Volumes!J114","v":0},{"$f":"Volumes!L114","v":1}]
[null,"HD >2500 m3/h",null,null,{"$f":"Volumes!E115","v":0},{"$f":"Volumes!F115","v":0},{"$f":"Volumes!G115","v":1},0,0,{"$f":"Volumes!M115","v":0},21,{"$f":"Volumes!N115","v":0},{"$f":"Volumes!P115","v":0},null,null,null,{"$f":"Volumes!I115","v":0},{"$f":"Volumes!O115","v":21},null,{"$f":"Volumes!H115","v":0},{"$f":"Volumes!K115","v":0},null,{"$f":"Volumes!J115","v":0},{"$f":"Volumes!L115","v":0}]
[]
[null,"EHD 0-40 m3/h",null,null,{"$f":"Volumes!E117","v":0},{"$f":"Volumes!F117","v":0},{"$f":"Volumes!G117","v":0},{"$f":"T58+U58","v":0},{"$f":"W58+X58","v":0},{"$f":"Volumes!M117","v":0},{"$f":"Q58+R58","v":0},{"$f":"Volumes!N117","v":0},{"$f":"Volumes!P117","v":0},null,null,null,{"$f":"Volumes!I117","v":0},{"$f":"Volumes!O117","v":0},null,{"$f":"Volumes!H117","v":0},{"$f":"Volumes!K117","v":0},null,{"$f":"Volumes!J117","v":0},{"$f":"Volumes!L117","v":0}]
[null,"EHD >40 m3/h",null,null,{"$f":"Volumes!E118","v":0},{"$f":"Volumes!F118","v":0},{"$f":"Volumes!G118","v":0},{"$f":"T59+U59","v":0},{"$f":"W59+X59","v":0},{"$f":"Volumes!M118","v":0},{"$f":"Q59+R59","v":0},{"$f":"Volumes!N118","v":0},{"$f":"Volumes!P118","v":0},null,null,null,{"$f":"Volumes!I118","v":0},{"$f":"Volumes!O118","v":0},null,{"$f":"Volumes!H118","v":0},{"$f":"Volumes!K118","v":0},null,{"$f":"Volumes!J118","v":0},{"$f":"Volumes!L118","v":0}]
[]
[null,"Meerlengte"]
[null,"LD 0-10 m3/h",null,null,{"$f":"Volumes!E121","v":544.16869613886854},{"$f":"Volumes!F121","v":998},{"$f":"Volumes!G121","v":14118.270855520053},{"$f":"T62+U62","v":17163},{"$f":"W62+X62","v":997},{"$f":"Volumes!M121","v":2508},{"$f":"Q62+R62","v":31174.32},{"$f":"Volumes!N121","v":1708},{"$f":"Volumes!P121","v":0},null,null,null,{"$f":"Volumes!I121","v":0},{"$f":"Volumes!O121","v":31174.32},null,{"$f":"Volumes!H121","v":715},{"$f":"Volumes!K121","v":16448},null,{"$f":"Volumes!J121","v":226},{"$f":"Volumes!L121","v":771}]
[null,"LD 10-16 m3/h",null,null,{"$f":"Volumes!E122","v":1202.7358888533695},{"$f":"Volumes!F122","v":0},{"$f":"Volumes!G122","v":2269.7514490282988},3548,292,{"$f":"Volumes!M122","v":0},2628.6642335766405,{"$f":"Volumes!N122","v":153},{"$f":"Volumes!P122","v":0},null,null,null,{"$f":"Volumes!I122","v":0},{"$f":"Volumes!O122","v":2628.6642335766405},null,{"$f":"Volumes!H122","v":104},{"$f":"Volumes!K122","v":3444},null,{"$f":"Volumes!J122","v":0},{"$f":"Volumes!L122","v":292}]
[null,"LD 16-25 m3/h",null,null,{"$f":"Volumes!E123","v":1868.1116159034268},{"$f":"Volumes!F123","v":507},{"$f":"Volumes!G123","v":4664.6907603136724},1970,109,{"$f":"Volumes!M123","v":40},4575.8978102189803,{"$f":"Volumes!N123","v":0},{"$f":"Volumes!P123","v":0},null,null,null,{"$f":"Volumes!I123","v":0},{"$f":"Volumes!O123","v":4575.8978102189803},null,{"$f":"Volumes!H123","v":84},{"$f":"Volumes!K123","v":1886},null,{"$f":"Volumes!J123","v":30},{"$f":"Volumes!L123","v":79}]
[null,"LD 25-40 m3/h ",null,null,{"$f":"Volumes!E124","v":248.00550696469065},{"$f":"Volumes!F124","v":0},{"$f":"Volumes!G124","v":1843.4887082204154},1991,114,{"$f":"Volumes!M124","v":0},3915.3649635036541,{"$f":"Volumes!N124","v":135},{"$f":"Volumes!P124","v":0},null,null,null,{"$f":"Volumes!I124","v":0},{"$f":"Volumes!O124","v":3915.3649635036541},null,{"$f":"Volumes!H124","v":550},{"$f":"Volumes!K124","v":1441},null,{"$f":"Volumes!J124","v":0},{"$f":"Volumes!L124","v":114}]
[null,"HD 0-10 m3/h",null,null,{"$f":"Volumes!E125","v":0},{"$f":"Volumes!F125","v":0},{"$f":"Volumes!G125","v":0},0,0,{"$f":"Volumes!M125","v":0},0,{"$f":"Volumes!N125","v":0},{"$f":"Volumes!P125","v":0},null,null,null,{"$f":"Volumes!I125","v":0},{"$f":"Volumes!O125","v":0},null,{"$f":"Volumes!H125","v":0},{"$f":"Volumes!K125","v":0},null,{"$f":"Volumes!J125","v":0},{"$f":"Volumes!L125","v":0}]
[null,"HD 10-16 m3/h",null,null,{"$f":"Volumes!E126","v":0},{"$f":"Volumes!F126","v":0},{"$f":"Volumes!G126","v":0},0,0,{"$f":"Volumes!M126","v":0},0,{"$f":"Volumes!N126","v":0},{"$f":"Volumes!P126","v":0},null,null,null,{"$f":"Volumes!I126","v":0},{"$f":"Volumes!O126","v":0},null,{"$f":"Volumes!H126","v":0},{"$f":"Volumes!K126","v":0},null,{"$f":"Volumes!J126","v":0},{"$f":"Volumes!L126","v":0}]
[null,"HD 16-25 m3/h",null,null,{"$f":"Volumes!E127","v":0},{"$f":"Volumes!F127","v":0},{"$f":"Volumes!G127","v":0},0,0,{"$f":"Volumes!M127","v":0},0,{"$f":"Volumes!N127","v":0},{"$f":"Volumes!P127","v":0},null,null,null,{"$f":"Volumes!I127","v":0},{"$f":"Volumes!O127","v":0},null,{"$f":"Volumes!H127","v":0},{"$f":"Volumes!K127","v":0},null,{"$f":"Volumes!J127","v":0},{"$f":"Volumes!L127","v":0}]
[null,"HD 25-40 m3/h",null,null,{"$f":"Volumes!E128","v":0},{"$f":"Volumes!F128","v":0},{"$f":"Volumes!G128","v":0},1034,0,{"$f":"Volumes!M128","v":0},0,{"$f":"Volumes!N128","v":0},{"$f":"Volumes!P128","v":0},null,null,null,{"$f":"Volumes!I128","v":0},{"$f":"Volumes!O128","v":0},null,{"$f":"Volumes!H128","v":0},{"$f":"Volumes!K128","v":1034},null,{"$f":"Volumes!J128","v":0},{"$f":"Volumes!L128","v":0}]
[null,"EHD 0-40 m3/h",null,null,{"$f":"Volumes!E129","v":0},{"$f":"Volumes!F129","v":0},{"$f":"Volumes!G129","v":0},0,0,{"$f":"Volumes!M129","v":0},0,{"$f":"Volumes!N129","v":0},{"$f":"Volumes!P129","v":0},null,null,null,{"$f":"Volumes!I129","v":0},{"$f":"Volumes!O129","v":0},null,{"$f":"Volumes!H129","v":0},{"$f":"Volumes!K129","v":0},null,{"$f":"Volumes!J129","v":0},{"$f":"Volumes!L129","v":0}]
[]
[null,"PAV"]
[null,"LD 0-10 m3/h",null,null,{"$f":"Volumes!E132","v":132025},{"$f":"Volumes!F132","v":180711.75},{"$f":"Volumes!G132","v":1828348.5455361151},{"$f":"T73+U73","v":2142692.242362434},{"$f":"W73+X73","v":371633.93074572791},{"$f":"Volumes!M132","v":97724},{"$f":"Q73+R73","v":1958711.9142830216},{"$f":"Volumes!N132","v":47847.09474435787},{"$f":"Volumes!P132","v":0},null,null,null,{"$f":"Volumes!I132","v":143820},{"$f":"Volumes!O132","v":1814891.9142830216},null,{"$f":"Volumes!H132","v":57046.309352984827},{"$f":"Volumes!K132","v":2085645.9330094492},null,{"$f":"Volumes!J132","v":180205.84337409996},{"$f":"Volumes!L132","v":191428.08737162795}]
[null,"LD 10-16 m3/h",null,null,{"$f":"Volumes!E133","v":2},{"$f":"Volumes!F133","v":0},{"$f":"Volumes!G133","v":7246.4546882009881},8296.1489665202807,2347.9240908749866,{"$f":"Volumes!M133","v":685},4567.6466444163816,{"$f":"Volumes!N133","v":417.51028994994761},{"$f":"Volumes!P133","v":0},null,null,null,{"$f":"Volumes!I133","v":10},{"$f":"Volumes!O133","v":4557.6466444163816},null,{"$f":"Volumes!H133","v":277.8956979638358},{"$f":"Volumes!K133","v":8018.2532685564456},null,{"$f":"Volumes!J133","v":3.9841443959393112},{"$f":"Volumes!L133","v":2343.9399464790472}]
[null,"LD 16-25 m3/h",null,null,{"$f":"Volumes!E134","v":2299},{"$f":"Volumes!F134","v":2801},{"$f":"Volumes!G134","v":16275.454688200987},20796.274184609676,5836.55590614414,{"$f":"Volumes!M134","v":1134},28088.661237747427,{"$f":"Volumes!N134","v":399.37366814239169},{"$f":"Volumes!P134","v":0},null,null,null,{"$f":"Volumes!I134","v":2283},{"$f":"Volumes!O134","v":25805.661237747427},null,{"$f":"Volumes!H134","v":561.76764749678637},{"$f":"Volumes!K134","v":20234.506537112891},null,{"$f":"Volumes!J134","v":3299.8675959367347},{"$f":"Volumes!L134","v":2536.6883102074053}]
[null,"LD 25-40 m3/h ",null,null,{"$f":"Volumes!E135","v":720},{"$f":"Volumes!F135","v":649.25},{"$f":"Volumes!G135","v":6816.7271952259171},5353.2455050601302,1987.3644756291792,{"$f":"Volumes!M135","v":416},8707.5614958854185,{"$f":"Volumes!N135","v":282.79160594252039},{"$f":"Volumes!P135","v":0},null,null,null,{"$f":"Volumes!I135","v":586},{"$f":"Volumes!O135","v":8121.5614958854185},null,{"$f":"Volumes!H135","v":336.66217172679745},{"$f":"Volumes!K135","v":5016.583333333333},null,{"$f":"Volumes!J135","v":917.76777285001219},{"$f":"Volumes!L135","v":1069.5967027791669}]
[null,"LD 40-65 m3/h ",null,null,{"$f":"Volumes!E136","v":240},{"$f":"Volumes!F136","v":198},{"$f":"Volumes!G136","v":1974.2314227903328},3054.5912722960802,795.27095840788036,{"$f":"Volumes!M136","v":152.84},2621.0938170742133,{"$f":"Volumes!N136","v":83.5},{"$f":"Volumes!P136","v":0},null,null,null,{"$f":"Volumes!I136","v":2},{"$f":"Volumes!O136","v":2619.0938170742133},null,{"$f":"Volumes!H136","v":150.41086763943699},{"$f":"Volumes!K136","v":2904.1804046566431},null,{"$f":"Volumes!J136","v":321.86417430084964},{"$f":"Volumes!L136","v":473.40678410703072}]
[null,"LD 65-100 m3/h ",null,null,{"$f":"Volumes!E137","v":186},{"$f":"Volumes!F137","v":265},{"$f":"Volumes!G137","v":3111.6377371702492},4441.5819528581542,555.68274992389513,{"$f":"Volumes!M137","v":146.655},3320.4663336130993,{"$f":"Volumes!N137","v":178},{"$f":"Volumes!P137","v":0},null,null,null,{"$f":"Volumes!I137","v":386},{"$f":"Volumes!O137","v":2934.4663336130993},null,{"$f":"Volumes!H137","v":132.47302985553739},{"$f":"Volumes!K137","v":4309.1089230026164},null,{"$f":"Volumes!J137","v":245.09091029047701},{"$f":"Volumes!L137","v":310.59183963341809}]
[null,"LD 100-160 m3/h",null,null,{"$f":"Volumes!E138","v":63},{"$f":"Volumes!F138","v":95},{"$f":"Volumes!G138","v":1870.0133124134595},2037.4488705148326,388.99923756866076,{"$f":"Volumes!M138","v":41.295000000000002},1567.2635212921048,{"$f":"Volumes!N138","v":136.83333333333331},{"$f":"Volumes!P138","v":0},null,null,null,{"$f":"Volumes!I138","v":125},{"$f":"Volumes!O138","v":1442.2635212921048},null,{"$f":"Volumes!H138","v":60.772063349451329},{"$f":"Volumes!K138","v":1976.6768071653812},null,{"$f":"Volumes!J138","v":203.20324300571809},{"$f":"Volumes!L138","v":185.7959945629427}]
[null,"LD 160-250 m3/h ",null,null,{"$f":"Volumes!E139","v":62},{"$f":"Volumes!F139","v":63},{"$f":"Volumes!G139","v":550.80608318173984},1345.3872461461526,119.68596350321158,{"$f":"Volumes!M139","v":17.970000000000002},695.5941743343318,{"$f":"Volumes!N139","v":374},{"$f":"Volumes!P139","v":0},null,null,null,{"$f":"Volumes!I139","v":82},{"$f":"Volumes!O139","v":613.5941743343318},null,{"$f":"Volumes!H139","v":29.852932317470653},{"$f":"Volumes!K139","v":1315.5343138286819},null,{"$f":"Volumes!J139","v":56.784495954156462},{"$f":"Volumes!L139","v":62.901467549055127}]
[null,"LD 250-400 m3/h ",null,null,{"$f":"Volumes!E140","v":20},{"$f":"Volumes!F140","v":12},{"$f":"Volumes!G140","v":496.51998825829992},780.16404332233299,87.689620018768068,{"$f":"Volumes!M140","v":8.73},451.26357719957673,{"$f":"Volumes!N140","v":523.66666666666674},{"$f":"Volumes!P140","v":0},null,null,null,{"$f":"Volumes!I140","v":52},{"$f":"Volumes!O140","v":399.26357719957673},null,{"$f":"Volumes!H140","v":10.953079815417915},{"$f":"Volumes!K140","v":769.21096350691505},null,{"$f":"Volumes!J140","v":67.7259403717255},{"$f":"Volumes!L140","v":19.963679647042568}]
[null,"LD 400-650 m3/h ",null,null,{"$f":"Volumes!E141","v":8},{"$f":"Volumes!F141","v":0},{"$f":"Volumes!G141","v":134.49114453914305},315.64828900569262,16.927678709205342,{"$f":"Volumes!M141","v":1},71.388510167926754,{"$f":"Volumes!N141","v":0.33333333333333331},{"$f":"Volumes!P141","v":0},null,null,null,{"$f":"Volumes!I141","v":20},{"$f":"Volumes!O141","v":51.388510167926754},null,{"$f":"Volumes!H141","v":0},{"$f":"Volumes!K141","v":315.64828900569262},null,{"$f":"Volumes!J141","v":16.927678709205342},{"$f":"Volumes!L141","v":0}]
[null,"LD 650-1000 m3/h ",null,null,{"$f":"Volumes!E142","v":0},{"$f":"Volumes!F142","v":0},{"$f":"Volumes!G142","v":40.028547768774615},185.71797008543075,7.9695489301917215,{"$f":"Volumes!M142","v":0},21.378518096395492,{"$f":"Volumes!N142","v":2.5},{"$f":"Volumes!P142","v":0},null,null,null,{"$f":"Volumes!I142","v":4},{"$f":"Volumes!O142","v":17.378518096395492},null,{"$f":"Volumes!H142","v":0},{"$f":"Volumes!K142","v":185.71797008543075},null,{"$f":"Volumes!J142","v":7.9695489301917215},{"$f":"Volumes!L142","v":0}]
[null,"LD 1000-1600 m3/h ",null,null,{"$f":"Volumes!E143","v":0},{"$f":"Volumes!F143","v":1},{"$f":"Volumes!G143","v":14.91764232253621},80.827220747622249,3.9812302774575627,{"$f":"Volumes!M143","v":0},0,{"$f":"Volumes!N143","v":242.66666666666663},{"$f":"Volumes!P143","v":0},null,null,null,{"$f":"Volumes!I143","v":0},{"$f":"Volumes!O143","v":0},null,{"$f":"Volumes!H143","v":0},{"$f":"Volumes!K143","v":80.827220747622249},null,{"$f":"Volumes!J143","v":3.9812302774575627},{"$f":"Volumes!L143","v":0}]
[null,"LD 1600-2500 m3/h ",null,null,{"$f":"Volumes!E144","v":0},{"$f":"Volumes!F144","v":0},{"$f":"Volumes!G144","v":4.8067376806206568},33.899927693682528,1.9848757644538741,{"$f":"Volumes!M144","v":0},0,{"$f":"Volumes!N144","v":0},{"$f":"Volumes!P144","v":0},null,null,null,{"$f":"Volumes!I144","v":0},{"$f":"Volumes!O144","v":0},null,{"$f":"Volumes!H144","v":0},{"$f":"Volumes!K144","v":33.899927693682528},null,{"$f":"Volumes!J144","v":1.9848757644538741},{"$f":"Volumes!L144","v":0}]
[null,"LD >2500 m3/h",null,null,{"$f":"Volumes!E145","v":0},{"$f":"Volumes!F145","v":0},{"$f":"Volumes!G145","v":1.4619664555760465},13.767606583826444,0,{"$f":"Volumes!M145","v":0},0,{"$f":"Volumes!N145","v":9.5},{"$f":"Volumes!P145","v":0},null,null,null,{"$f":"Volumes!I145","v":0},{"$f":"Volumes!O145","v":0},null,{"$f":"Volumes!H145","v":0},{"$f":"Volumes!K145","v":13.767606583826444},null,{"$f":"Volumes!J145","v":0},{"$f":"Volumes!L145","v":0}]
[]
[null,"HD 0-10 m3/h",null,null,{"$f":"Volumes!E147","v":0},{"$f":"Volumes!F147","v":0},{"$f":"Volumes!G147","v":17},{"$f":"T88+U88","v":0},{"$f":"W88+X88","v":0},{"$f":"Volumes!M147","v":0},{"$f":"Q88+R88","v":0},{"$f":"Volumes!N147","v":0},{"$f":"Volumes!P147","v":0},null,null,null,{"$f":"Volumes!I147","v":0},{"$f":"Volumes!O147","v":0},null,{"$f":"Volumes!H147","v":0},{"$f":"Volumes!K147","v":0},null,{"$f":"Volumes!J147","v":0},{"$f":"Volumes!L147","v":0}]
[null,"HD 10-16 m3/h",null,null,{"$f":"Volumes!E148","v":0},{"$f":"Volumes!F148","v":0},{"$f":"Volumes!G148","v":1},0,0,{"$f":"Volumes!M148","v":0},0,{"$f":"Volumes!N148","v":0},{"$f":"Volumes!P148","v":0},null,null,null,{"$f":"Volumes!I148","v":0},{"$f":"Volumes!O148","v":0},null,{"$f":"Volumes!H148","v":0},{"$f":"Volumes!K148","v":0},null,{"$f":"Volumes!J148","v":0},{"$f":"Volumes!L148","v":0}]
[null,"HD 16-25 m3/h",null,null,{"$f":"Volumes!E149","v":0},{"$f":"Volumes!F149","v":0},{"$f":"Volumes!G149","v":4},0,0,{"$f":"Volumes!M149","v":1},0,{"$f":"Volumes!N149","v":0},{"$f":"Volumes!P149","v":0},null,null,null,{"$f":"Volumes!I149","v":0},{"$f":"Volumes!O149","v":0},null,{"$f":"Volumes!H149","v":0},{"$f":"Volumes!K149","v":0},null,{"$f":"Volumes!J149","v":0},{"$f":"Volumes!L149","v":0}]
[null,"HD 25-40 m3/h",null,null,{"$f":"Volumes!E150","v":0},{"$f":"Volumes!F150","v":0},{"$f":"Volumes!G150","v":4},0,1,{"$f":"Volumes!M150","v":0},0,{"$f":"Volumes!N150","v":0},{"$f":"Volumes!P150","v":0},null,null,null,{"$f":"Volumes!I150","v":0},{"$f":"Volumes!O150","v":0},null,{"$f":"Volumes!H150","v":0},{"$f":"Volumes!K150","v":0},null,{"$f":"Volumes!J150","v":0},{"$f":"Volumes!L150","v":1}]
[null,"HD 40-65 m3/h",null,null,{"$f":"Volumes!E151","v":0},{"$f":"Volumes!F151","v":0},{"$f":"Volumes!G151","v":65.495829192096352},8,0,{"$f":"Volumes!M151","v":1},85.385613099652957,{"$f":"Volumes!N151","v":0},{"$f":"Volumes!P151","v":0},null,null,null,{"$f":"Volumes!I151","v":0},{"$f":"Volumes!O151","v":85.385613099652957},null,{"$f":"Volumes!H151","v":0},{"$f":"Volumes!K151","v":8},null,{"$f":"Volumes!J151","v":0},{"$f":"Volumes!L151","v":0}]
[null,"HD 65-100 m3/h",null,null,{"$f":"Volumes!E152","v":3},{"$f":"Volumes!F152","v":23},{"$f":"Volumes!G152","v":167.27131501292442},10,1,{"$f":"Volumes!M152","v":9.16},286.94520779614663,{"$f":"Volumes!N152","v":0},{"$f":"Volumes!P152","v":0},null,null,null,{"$f":"Volumes!I152","v":2},{"$f":"Volumes!O152","v":284.94520779614663},null,{"$f":"Volumes!H152","v":0},{"$f":"Volumes!K152","v":10},null,{"$f":"Volumes!J152","v":0},{"$f":"Volumes!L152","v":1}]
[null,"HD 100-160 m3/h",null,null,{"$f":"Volumes!E153","v":2},{"$f":"Volumes!F153","v":10},{"$f":"Volumes!G153","v":216.21699325705541},7,6,{"$f":"Volumes!M153","v":14},351.40048876842144,{"$f":"Volumes!N153","v":0.5},{"$f":"Volumes!P153","v":0},null,null,null,{"$f":"Volumes!I153","v":2},{"$f":"Volumes!O153","v":349.40048876842144},null,{"$f":"Volumes!H153","v":0},{"$f":"Volumes!K153","v":7},null,{"$f":"Volumes!J153","v":3},{"$f":"Volumes!L153","v":3}]
[null,"HD 160-250 m3/h",null,null,{"$f":"Volumes!E154","v":23},{"$f":"Volumes!F154","v":38},{"$f":"Volumes!G154","v":159.19250959009821},22,12.981525711787508,{"$f":"Volumes!M154","v":21},491.34446182390207,{"$f":"Volumes!N154","v":2.5},{"$f":"Volumes!P154","v":0},null,null,null,{"$f":"Volumes!I154","v":7},{"$f":"Volumes!O154","v":484.34446182390207},null,{"$f":"Volumes!H154","v":2},{"$f":"Volumes!K154","v":20},null,{"$f":"Volumes!J154","v":0},{"$f":"Volumes!L154","v":12.981525711787508}]
[null,"HD 250-400 m3/h ",null,null,{"$f":"Volumes!E155","v":15},{"$f":"Volumes!F155","v":34},{"$f":"Volumes!G155","v":536.61898968533615},23,33.943456964654239,{"$f":"Volumes!M155","v":19.27},457.98170251593746,{"$f":"Volumes!N155","v":13},{"$f":"Volumes!P155","v":0},null,null,null,{"$f":"Volumes!I155","v":13},{"$f":"Volumes!O155","v":444.98170251593746},null,{"$f":"Volumes!H155","v":0},{"$f":"Volumes!K155","v":23},null,{"$f":"Volumes!J155","v":1},{"$f":"Volumes!L155","v":32.943456964654239}]
[null,"HD 400-650 m3/h ",null,null,{"$f":"Volumes!E156","v":9},{"$f":"Volumes!F156","v":15},{"$f":"Volumes!G156","v":241.24349051708791},81.830909695598393,76.859304587940372,{"$f":"Volumes!M156","v":8.8333333333333321},301.55691942551772,{"$f":"Volumes!N156","v":49},{"$f":"Volumes!P156","v":0},null,null,null,{"$f":"Volumes!I156","v":16},{"$f":"Volumes!O156","v":285.55691942551772},null,{"$f":"Volumes!H156","v":41.830909695598386},{"$f":"Volumes!K156","v":40},null,{"$f":"Volumes!J156","v":8},{"$f":"Volumes!L156","v":68.859304587940372}]
[null,"HD 650-1000 m3/h ",null,null,{"$f":"Volumes!E157","v":4},{"$f":"Volumes!F157","v":2},{"$f":"Volumes!G157","v":241.77242852339862},35.992277429032555,57.940123999023378,{"$f":"Volumes!M157","v":5.0599999999999996},172.47720800646326,{"$f":"Volumes!N157","v":34.5},{"$f":"Volumes!P157","v":0},null,null,null,{"$f":"Volumes!I157","v":5},{"$f":"Volumes!O157","v":167.47720800646326},null,{"$f":"Volumes!H157","v":1.9922774290325564},{"$f":"Volumes!K157","v":34},null,{"$f":"Volumes!J157","v":2},{"$f":"Volumes!L157","v":55.940123999023378}]
[null,"HD 1000-1600 m3/h ",null,null,{"$f":"Volumes!E158","v":0},{"$f":"Volumes!F158","v":2},{"$f":"Volumes!G158","v":138.52096442355059},46.839341587510695,60.929328320542794,{"$f":"Volumes!M158","v":6},60.820274658179962,{"$f":"Volumes!N158","v":35.666666666666671},{"$f":"Volumes!P158","v":0},null,null,null,{"$f":"Volumes!I158","v":5},{"$f":"Volumes!O158","v":55.820274658179962},null,{"$f":"Volumes!H158","v":25.839341587510695},{"$f":"Volumes!K158","v":21},null,{"$f":"Volumes!J158","v":0},{"$f":"Volumes!L158","v":60.929328320542794}]
[null,"HD 1600-2500 m3/h ",null,null,{"$f":"Volumes!E159","v":0},{"$f":"Volumes!F159","v":0},{"$f":"Volumes!G159","v":48.067376806206553},11,9.1506030205878961,{"$f":"Volumes!M159","v":5},16.906703544954187,{"$f":"Volumes!N159","v":7},{"$f":"Volumes!P159","v":0},null,null,null,{"$f":"Volumes!I159","v":0},{"$f":"Volumes!O159","v":16.906703544954187},null,{"$f":"Volumes!H159","v":0},{"$f":"Volumes!K159","v":11},null,{"$f":"Volumes!J159","v":4},{"$f":"Volumes!L159","v":5.1506030205878961}]
[null,"HD >2500 m3/h",null,null,{"$f":"Volumes!E160","v":0},{"$f":"Volumes!F160","v":0},{"$f":"Volumes!G160","v":34.35621170603698},9.9920838563715826,2,{"$f":"Volumes!M160","v":3},3.1538821999090825,{"$f":"Volumes!N160","v":70.833333333333329},{"$f":"Volumes!P160","v":0},null,null,null,{"$f":"Volumes!I160","v":0},{"$f":"Volumes!O160","v":3.1538821999090825},null,{"$f":"Volumes!H160","v":1.9920838563715826},{"$f":"Volumes!K160","v":8},null,{"$f":"Volumes!J160","v":2},{"$f":"Volumes!L160","v":0}]
[]
[null,"EHD 0-40 m3/h",null,null,{"$f":"Volumes!E162","v":0},{"$f":"Volumes!F162","v":0},{"$f":"Volumes!G162","v":0},{"$f":"T103+U103","v":0},{"$f":"W103+X103","v":0},{"$f":"Volumes!M162","v":0},{"$f":"Q103+R103","v":0},{"$f":"Volumes!N162","v":0},{"$f":"Volumes!P162","v":0},null,null,null,{"$f":"Volumes!I162","v":0},{"$f":"Volumes!O162","v":0},null,{"$f":"Volumes!H162","v":0},{"$f":"Volumes!K162","v":0},null,{"$f":"Volumes!J162","v":0},{"$f":"Volumes!L162","v":0}]
[null,"EHD >40 m3/h",null,null,{"$f":"Volumes!E163","v":0},{"$f":"Volumes!F163","v":13},{"$f":"Volumes!G163","v":0},{"$f":"T104+U104","v":0},{"$f":"W104+X104","v":0},{"$f":"Volumes!M163","v":0},{"$f":"Q104+R104","v":3},{"$f":"Volumes!N163","v":0},{"$f":"Volumes!P163","v":0},null,null,null,{"$f":"Volumes!I163","v":0},{"$f":"Volumes!O163","v":3},null,{"$f":"Volumes!H163","v":0},{"$f":"Volumes!K163","v":0},null,{"$f":"Volumes!J163","v":0},{"$f":"Volumes!L163","v":0}]